Workbook

Sheet VPS1
A1: 1. | B1: VPS priemonės | D1: VPS priemonės | F1: Vietos plėtros strategijų, įgyvendinamų
F2: bendruomenių inicijuotos vietos plėtros būdu, įgyvendinimo taisyklių
C3: NMA vaidmuo: | D3: Užpildo stulpelius (suplanuota VPS). PILDOMI TIK BALTI LANGELIAI!!! | F3: 5 priedas
C4: VVG vaidmuo: | D4: Patikrina lentelės duomenis.
B5: VVG kodas | C5: MARI
B7: 1 | C7: 2 | D7: 3 | E7: 4 | F7: 5 | G7: 6 | H7: 7 | I7: 8 | J7: 9 | K7: 10 | L7: 11 | M7: 12
B8: VPS priemonės numeris | C8: VVG kodas | D8: VPS priemonė | E8: Priemonės rūšis (iš sąrašo) | F8: Planuojama paremti projektų (rodiklis L700) | G8: Planuojama paramos suma priemonei, Eur | H8: Išlaidų dalis, nuo vietos projektų įgyvendinimo išlaidų, proc. | I8: Priemonės kodas (bendras) | J8: Priemonės kodas (unikalus) | K8: Išlaidų kategorija | L8: Finansavimo šaltinis | M8: Klaidų tikrinimas
A9: 1.3 | D9: Vietos projektams skirtos priemonės, iš viso | F9: =SUMIFS($F10:$F29,$K10:$K29,"Vietos projektų įgyvendinimo išlaidos") -> 26 | G9: =SUMIFS($G10:$G29,$K10:$K29,"Vietos projektų įgyvendinimo išlaidos") -> 1261564.8 | H9: =SUM(H10:H29) -> 100
A10: 1.4 | B10: 1 priemonė | C10: =IF(F10>0,$C$5,0) -> MARI | D10: Bendruomeniškumo skatinimas | E10: Veiklos projektai | F10: 10 | G10: 251564.8 | H10: 19.940696 | I10: LEADER-20VVG-09 | J10: MARI-LEADER-20VVG-09-01 | K10: Vietos projektų įgyvendinimo išlaidos | L10: EŽŪFKP | M10: =IF(K10="Vietos projektų įgyvendinimo išlaidos", "Gerai","Priemonę pašalinti iš sąrašo") -> Gerai
A11: 1.5 | B11: 2 priemonė | C11: =IF(F11>0,$C$5,0) -> MARI | D11: Ne žemės ūkio verslo kūrimas ir plėtra | E11: Ne žemės ūkio verslo kūrimas ir plėtra | F11: 10 | G11: 650000 | H11: 51.523315 | I11: LEADER-20VVG-03 | J11: MARI-LEADER-20VVG-03-02 | K11: Vietos projektų įgyvendinimo išlaidos | L11: EŽŪFKP | M11: =IF(K11="Vietos projektų įgyvendinimo išlaidos", "Gerai","Priemonę pašalinti iš sąrašo") -> Gerai
A12: 1.6 | B12: 3 priemonė | C12: =IF(F12>0,$C$5,0) -> MARI | D12: Bendruomeninio verslo kūrimas ir plėtra | E12: Bendruomeninis verslas | F12: 2 | G12: 100000 | H12: 7.9266638 | I12: LEADER-20VVG-07 | J12: MARI-LEADER-20VVG-07-03 | K12: Vietos projektų įgyvendinimo išlaidos | L12: EŽŪFKP | M12: =IF(K12="Vietos projektų įgyvendinimo išlaidos", "Gerai","Priemonę pašalinti iš sąrašo") -> Gerai
A13: 1.7 | B13: 4 priemonė | C13: =IF(F13>0,$C$5,0) -> MARI | D13: Socialinio verslo kūrimas ir plėtra | E13: Socialinis verslas | F13: 4 | G13: 260000 | H13: 20.609326 | I13: LEADER-20VVG-06 | J13: MARI-LEADER-20VVG-06-04 | K13: Vietos projektų įgyvendinimo išlaidos | L13: EŽŪFKP | M13: =IF(K13="Vietos projektų įgyvendinimo išlaidos", "Gerai","Priemonę pašalinti iš sąrašo") -> Gerai
A14: 1.8 | B14: 5 priemonė | C14: =IF(F14>0,$C$5,0) -> 0 | L14: EŽŪFKP | M14: =IF(K14="Vietos projektų įgyvendinimo išlaidos", "Gerai","Priemonę pašalinti iš sąrašo") -> Priemonę pašalinti iš sąrašo
A15: 1.9 | B15: 6 priemonė | C15: =IF(F15>0,$C$5,0) -> 0 | L15: EŽŪFKP | M15: =IF(K15="Vietos projektų įgyvendinimo išlaidos", "Gerai","Priemonę pašalinti iš sąrašo") -> Priemonę pašalinti iš sąrašo
A16: 1.10 | B16: 7 priemonė | C16: =IF(F16>0,$C$5,0) -> 0 | L16: EŽŪFKP | M16: =IF(K16="Vietos projektų įgyvendinimo išlaidos", "Gerai","Priemonę pašalinti iš sąrašo") -> Priemonę pašalinti iš sąrašo
A17: 1.11 | B17: 8 priemonė | C17: =IF(F17>0,$C$5,0) -> 0 | L17: EŽŪFKP | M17: =IF(K17="Vietos projektų įgyvendinimo išlaidos", "Gerai","Priemonę pašalinti iš sąrašo") -> Priemonę pašalinti iš sąrašo
A18: 1.12 | B18: 9 priemonė | C18: =IF(F18>0,$C$5,0) -> 0 | L18: EŽŪFKP | M18: =IF(K18="Vietos projektų įgyvendinimo išlaidos", "Gerai","Priemonę pašalinti iš sąrašo") -> Priemonę pašalinti iš sąrašo
A19: 1.13 | B19: 10 priemonė | C19: =IF(F19>0,$C$5,0) -> 0 | L19: EŽŪFKP | M19: =IF(K19="Vietos projektų įgyvendinimo išlaidos", "Gerai","Priemonę pašalinti iš sąrašo") -> Priemonę pašalinti iš sąrašo
A20: 1.14 | B20: 11 priemonė | C20: =IF(F20>0,$C$5,0) -> 0 | L20: EŽŪFKP | M20: =IF(K20="Vietos projektų įgyvendinimo išlaidos", "Gerai","Priemonę pašalinti iš sąrašo") -> Priemonę pašalinti iš sąrašo
A21: 1.15 | B21: 12 priemonė | C21: =IF(F21>0,$C$5,0) -> 0 | L21: EŽŪFKP | M21: =IF(K21="Vietos projektų įgyvendinimo išlaidos", "Gerai","Priemonę pašalinti iš sąrašo") -> Priemonę pašalinti iš sąrašo
A22: 1.16 | B22: 13 priemonė | C22: =IF(F22>0,$C$5,0) -> 0 | L22: EŽŪFKP | M22: =IF(K22="Vietos projektų įgyvendinimo išlaidos", "Gerai","Priemonę pašalinti iš sąrašo") -> Priemonę pašalinti iš sąrašo
A23: 1.17 | B23: 14 priemonė | C23: =IF(F23>0,$C$5,0) -> 0 | L23: EŽŪFKP | M23: =IF(K23="Vietos projektų įgyvendinimo išlaidos", "Gerai","Priemonę pašalinti iš sąrašo") -> Priemonę pašalinti iš sąrašo
A24: 1.18 | B24: 15 priemonė | C24: =IF(F24>0,$C$5,0) -> 0 | L24: EŽŪFKP | M24: =IF(K24="Vietos projektų įgyvendinimo išlaidos", "Gerai","Priemonę pašalinti iš sąrašo") -> Priemonę pašalinti iš sąrašo
A25: 1.19 | B25: 16 priemonė | C25: =IF(F25>0,$C$5,0) -> 0 | L25: EŽŪFKP | M25: =IF(K25="Vietos projektų įgyvendinimo išlaidos", "Gerai","Priemonę pašalinti iš sąrašo") -> Priemonę pašalinti iš sąrašo
... A29: 1.23 | B29: 20 priemonė | C29: =IF(F29>0,$C$5,0) -> 0 | L29: EŽŪFKP | M29: =IF(K29="Vietos projektų įgyvendinimo išlaidos", "Gerai","Priemonę pašalinti iš sąrašo") -> Priemonę pašalinti iš sąrašo
D32: Pildymo instrukcija (VPS1 lapas)
B33: 1. | D33: Pildo NMA. Kopijuojama informacija iš VPS II dalies 7 lapo. Kopijuojami tik 2-9 stupleliai ir tik tos eilutės, kurios yra užpildytos. Kopijuojant formoje įklijuojamos tik reikšmės (be formatavimo). Parinkus komandą "Įklijuoti/ Paste" atsiranda mygtukas, kurį paspaudus reikia pasirinkti variantą "Įklijuoti reikšmes/ Paste values".
B34: 2. | D34: SVARBU! Kopijuojamos tik Vietos projektų priemonės. Teritorinio ir tarptautinio bendradarbiavimo priemonės į sąrašą nėra įtraukiamos. Jei 12 stulpelyje rodo klaidą "Priemonę pašalinti iš sąrašo", informacija apie priemonę 3-10 stulpeliuose pašalinama.

Sheet VPS2
B1: VPS planuojami priemonių rezultato rodikliai
A2: NMA vaidmuo: | B2: Užpildo stulpelius (suplanuota VPS). PILDOMI TIK BALTI LANGELIAI!!!
A3: VVG vaidmuo: | B3: Patikrina lentelės duomenis.
B6: 1 | C6: 2 | D6: 2 | E6: 3 | F6: 4 | G6: 5 | H6: 6 | I6: 7 | J6: 8 | K6: 9 | L6: 10 | M6: 11 | N6: 12 | O6: 13 | P6: 14 | Q6: 15
B7: VPS priemonės numeris | C7: VVG kodas | D7: VPS priemonė | E7: Priemonės rūšis (iš sąrašo) | F7: Priemonės kodas (unikalus) | G7: Priemonės kodas (bendras) | H7: R3 (ūkių skaičius) | I7: R3 (apmokytų ūkininkų skaičius) | J7: R.37 | K7: R.39 (verslo pradžia) | L7: R.39 (verslo plėtra) | M7: R.41 | N7: R.42 | O7: P.1 | P7: P.2 | Q7: P.3
D8: Iš viso | E8: - | F8: - | G8: - | H8: =SUM(H9:H28) -> 0 | I8: =SUM(I9:I28) -> 0 | J8: =SUM(J9:J28) -> 16 | K8: =SUM(K9:K28) -> 16 | L8: =SUM(L9:L28) -> 0 | M8: =SUM(M9:M28) -> 1064 | N8: =SUM(N9:N28) -> 120 | O8: =SUM(O9:O28) -> 0 | ... Q8: =SUM(Q9:Q28) -> 0
B9: 1 priemonė | C9: ='VPS1'!C10 -> MARI | D9: ='VPS1'!D10 -> Bendruomeniškumo skatinimas | E9: ='VPS1'!E10 -> Veiklos projektai | F9: ='VPS1'!J10 -> MARI-LEADER-20VVG-09-01 | G9: ='VPS1'!I10 -> LEADER-20VVG-09 | N9: 100
B10: 2 priemonė | C10: ='VPS1'!C11 -> MARI | D10: ='VPS1'!D11 -> Ne žemės ūkio verslo kūrimas ir plėtra | E10: ='VPS1'!E11 -> Ne žemės ūkio verslo kūrimas ir plėtra | F10: ='VPS1'!J11 -> MARI-LEADER-20VVG-03-02 | G10: ='VPS1'!I11 -> LEADER-20VVG-03 | J10: 10 | K10: 10 | M10: 760 | N10: 0
B11: 3 priemonė | C11: ='VPS1'!C12 -> MARI | D11: ='VPS1'!D12 -> Bendruomeninio verslo kūrimas ir plėtra | E11: ='VPS1'!E12 -> Bendruomeninis verslas | F11: ='VPS1'!J12 -> MARI-LEADER-20VVG-07-03 | G11: ='VPS1'!I12 -> LEADER-20VVG-07 | J11: 2 | K11: 2 | M11: 152 | N11: 0
B12: 4 priemonė | C12: ='VPS1'!C13 -> MARI | D12: ='VPS1'!D13 -> Socialinio verslo kūrimas ir plėtra | E12: ='VPS1'!E13 -> Socialinis verslas | F12: ='VPS1'!J13 -> MARI-LEADER-20VVG-06-04 | G12: ='VPS1'!I13 -> LEADER-20VVG-06 | J12: 4 | K12: 4 | M12: 152 | N12: 20
B13: 5 priemonė | C13: ='VPS1'!C14 -> 0 | D13: ='VPS1'!D14 -> 0 | E13: ='VPS1'!E14 -> 0 | F13: ='VPS1'!J14 -> 0 | G13: ='VPS1'!I14 -> 0
B14: 6 priemonė | C14: ='VPS1'!C15 -> 0 | D14: ='VPS1'!D15 -> 0 | E14: ='VPS1'!E15 -> 0 | F14: ='VPS1'!J15 -> 0 | G14: ='VPS1'!I15 -> 0
B15: 7 priemonė | C15: ='VPS1'!C16 -> 0 | D15: ='VPS1'!D16 -> 0 | E15: ='VPS1'!E16 -> 0 | F15: ='VPS1'!J16 -> 0 | G15: ='VPS1'!I16 -> 0
B16: 8 priemonė | C16: ='VPS1'!C17 -> 0 | D16: ='VPS1'!D17 -> 0 | E16: ='VPS1'!E17 -> 0 | F16: ='VPS1'!J17 -> 0 | G16: ='VPS1'!I17 -> 0
B17: 9 priemonė | C17: ='VPS1'!C18 -> 0 | D17: ='VPS1'!D18 -> 0 | E17: ='VPS1'!E18 -> 0 | F17: ='VPS1'!J18 -> 0 | G17: ='VPS1'!I18 -> 0
B18: 10 priemonė | C18: ='VPS1'!C19 -> 0 | D18: ='VPS1'!D19 -> 0 | E18: ='VPS1'!E19 -> 0 | F18: ='VPS1'!J19 -> 0 | G18: ='VPS1'!I19 -> 0
B19: 11 priemonė | C19: ='VPS1'!C20 -> 0 | D19: ='VPS1'!D20 -> 0 | E19: ='VPS1'!E20 -> 0 | F19: ='VPS1'!J20 -> 0 | G19: ='VPS1'!I20 -> 0
B20: 12 priemonė | C20: ='VPS1'!C21 -> 0 | D20: ='VPS1'!D21 -> 0 | E20: ='VPS1'!E21 -> 0 | F20: ='VPS1'!J21 -> 0 | G20: ='VPS1'!I21 -> 0
B21: 13 priemonė | C21: ='VPS1'!C22 -> 0 | D21: ='VPS1'!D22 -> 0 | E21: ='VPS1'!E22 -> 0 | F21: ='VPS1'!J22 -> 0 | G21: ='VPS1'!I22 -> 0
B22: 14 priemonė | C22: ='VPS1'!C23 -> 0 | D22: ='VPS1'!D23 -> 0 | E22: ='VPS1'!E23 -> 0 | F22: ='VPS1'!J23 -> 0 | G22: ='VPS1'!I23 -> 0
B23: 15 priemonė | C23: ='VPS1'!C24 -> 0 | D23: ='VPS1'!D24 -> 0 | E23: ='VPS1'!E24 -> 0 | F23: ='VPS1'!J24 -> 0 | G23: ='VPS1'!I24 -> 0
B24: 16 priemonė | C24: ='VPS1'!C25 -> 0 | D24: ='VPS1'!D25 -> 0 | E24: ='VPS1'!E25 -> 0 | F24: ='VPS1'!J25 -> 0 | G24: ='VPS1'!I25 -> 0
... B28: 20 priemonė | C28: ='VPS1'!C29 -> 0 | D28: ='VPS1'!D29 -> 0 | E28: ='VPS1'!E29 -> 0 | F28: ='VPS1'!J29 -> 0 | G28: ='VPS1'!I29 -> 0
D31: Pildymo instrukcija (VPS2 lapas)
B32: 1. | D32: Pildo NMA. Pagal poreikį pildomi 6-15 stulpeliai. Duomenys imami iš VPS II dalies 11 arba 12 lapo.
B33: 2. | D33: Rezultato rodiklių reikšmių pasiekimai už 2024 m. nebus vertinami, jie bus vertinami tik 2025 m., vertinant suplanuotų rodiklių pasiekimą už 2024 ir 2025 metus.

Sheet VPS3
B1: VPS planuojami rodikliai pamečiui
A2: NMA vaidmuo: | B2: Užpildo stulpelius (suplanuota VPS). PILDOMI TIK BALTI LANGELIAI!!!
A3: VVG vaidmuo: | B3: Patikrina lentelės duomenis.
B6: 1 | C6: 2 | D6: 3 | E6: 4 | F6: 5 | G6: 6 | H6: 7 | I6: 8 | J6: 9
B7: Rodiklis | C7: 2024 | D7: 2025 | E7: 2026 | F7: 2027 | G7: 2028 | H7: 2029 | I7: Iš viso | J7: Klaidų tikrinimas
B8: R3 (ūkių skaičius) | I8: =SUM(C8:H8) -> 0 | J8: =IF(I8='VPS2'!H8,"Gerai","Klaida, nesutampa su VPS2 suma") -> Gerai
B9: R3 (apmokytų ūkininkų skaičius) | I9: =SUM(C9:H9) -> 0 | J9: =IF(I9='VPS2'!I8,"Gerai","Klaida, nesutampa su VPS2 suma") -> Gerai
B10: R.37 | E10: 4 | F10: 2 | G10: 3 | H10: 7 | I10: =SUM(C10:H10) -> 16 | J10: =IF(I10='VPS2'!J8,"Gerai","Klaida, nesutampa su VPS2 suma") -> Gerai
B11: R.39 (verslo pradžia) | E11: 4 | F11: 2 | G11: 3 | H11: 7 | I11: =SUM(C11:H11) -> 16 | J11: =IF(I11='VPS2'!K8,"Gerai","Klaida, nesutampa su VPS2 suma") -> Gerai
B12: R.39 (verslo plėtra) | I12: =SUM(C12:H12) -> 0 | J12: =IF(I12='VPS2'!L8,"Gerai","Klaida, nesutampa su VPS2 suma") -> Gerai
B13: R.41 | E13: 226 | F13: 230 | G13: 226 | H13: 382 | I13: =SUM(C13:H13) -> 1064 | J13: =IF(I13='VPS2'!M8,"Gerai","Klaida, nesutampa su VPS2 suma") -> Gerai
B14: R.42 | D14: 20 | E14: 30 | F14: 20 | G14: 20 | H14: 30 | I14: =SUM(C14:H14) -> 120 | J14: =IF(I14='VPS2'!N8,"Gerai","Klaida, nesutampa su VPS2 suma") -> Gerai
C17: Pildymo instrukcija (VPS3 lapas)
B18: 1 | C18: Pildo NMA. Pildomi2-7 stulpeliai. Duomenys imami iš VPS II dalies 11 lapo.

Sheet D1
B1: Duomenys: Informacija apie kvietimus
A3: NMA vaidmuo: | B3: Patikrina VVG pateiktus lentelės duomenis.
A4: VVG vaidmuo: | B4: Užpildo lentelę (C, D, E stulpeliai).
A6: VVG | B6: Kvietimo Nr. | C6: Kvietimo pradžia | D6: Kvietimo pabaiga | E6: Gautų paraiškų skaičius | F6: Kvietimo trukmė (d.) | G6: Kvietimo pradžios metai | H6: Kvietimo pabaigos metai
A7: Užsipildo automatiškai pagal lapą VPS1 | B7: Nurodomas kvietimo numeris pagal schemą KV01, kur "KV" reiškia žodį "kvietimas", o "01" - dviženklį kvietimo Nr. 1 numerį. Kiekvienas kvietimas nurodomas naujoje eilutėje. Jei kvietimų buvo mažiau, nereikalingos eilutės nepildomos. | C7: Pildo VVG. Nurodoma data pagal schemą MMM-MM-DD, pavyzdžiui, 2024-10-01 | D7: Pildo VVG. Nurodoma data pagal schemą MMM-MM-DD, pavyzdžiui, 2024-10-01 | E7: Pildo VVG. Nurodomas bendras užregistruotų paraiškų skaičius | F7: Užsipildo aututomatiškai (formulė) | G7: Užsipildo aututomatiškai (formulė) | H7: Užsipildo aututomatiškai (formulė)
A8: Iš viso | E8: =SUM(E9:E38) -> 16
A9: =IF(F9>0,'VPS1'!C10,0) -> MARI | B9: KV01 | C9: 45402 | D9: 45443 | E9: 1 | F9: =D9-C9 -> 41 | G9: =YEAR(C9) -> 2024 | H9: =YEAR(D9) -> 2024
A10: =IF(F10>0,'VPS1'!C11,0) -> MARI | B10: KV02 | C10: 45566 | D10: 45596 | E10: 3 | F10: =D10-C10 -> 30 | G10: =YEAR(C10) -> 2024 | H10: =YEAR(D10) -> 2024
A11: =IF(F11>0,'VPS1'!C12,0) -> MARI | B11: KV03 | C11: 45566 | D11: 45596 | E11: 1 | F11: =D11-C11 -> 30 | G11: =YEAR(C11) -> 2024 | H11: =YEAR(D11) -> 2024
A12: =IF(F12>0,'VPS1'!$C$13,0) -> MARI | B12: KV04 | C12: 45778 | D12: 45808 | E12: 4 | F12: =D12-C12 -> 30 | G12: =YEAR(C12) -> 2025 | H12: =YEAR(D12) -> 2025
A13: =IF(F13>0,'VPS1'!$C$13,0) -> MARI | B13: KV05 | C13: 45870 | D13: 45900 | E13: 3 | F13: =D13-C13 -> 30 | G13: =YEAR(C13) -> 2025 | H13: =YEAR(D13) -> 2025
A14: =IF(F14>0,'VPS1'!$C$13,0) -> MARI | B14: KV06 | C14: 45931 | D14: 45961 | E14: 3 | F14: =D14-C14 -> 30 | G14: =YEAR(C14) -> 2025 | H14: =YEAR(D14) -> 2025
A15: =IF(F15>0,'VPS1'!$C$13,0) -> MARI | B15: KV07 | C15: 45931 | D15: 45961 | E15: 1 | F15: =D15-C15 -> 30 | G15: =YEAR(C15) -> 2025 | H15: =YEAR(D15) -> 2025
A16: =IF(F16>0,'VPS1'!C17,0) -> 0 | B16: KV08 | F16: =D16-C16 -> 0 | G16: =YEAR(C16) -> 1900 | H16: =YEAR(D16) -> 1900
A17: =IF(F17>0,'VPS1'!C18,0) -> 0 | B17: KV09 | F17: =D17-C17 -> 0 | G17: =YEAR(C17) -> 1900 | H17: =YEAR(D17) -> 1900
A18: =IF(F18>0,'VPS1'!C19,0) -> 0 | B18: KV10 | F18: =D18-C18 -> 0 | G18: =YEAR(C18) -> 1900 | H18: =YEAR(D18) -> 1900
A19: =IF(F19>0,'VPS1'!C20,0) -> 0 | B19: KV11 | F19: =D19-C19 -> 0 | G19: =YEAR(C19) -> 1900 | H19: =YEAR(D19) -> 1900
A20: =IF(F20>0,'VPS1'!C21,0) -> 0 | B20: KV12 | F20: =D20-C20 -> 0 | G20: =YEAR(C20) -> 1900 | H20: =YEAR(D20) -> 1900
A21: =IF(F21>0,'VPS1'!C22,0) -> 0 | B21: KV13 | F21: =D21-C21 -> 0 | G21: =YEAR(C21) -> 1900 | H21: =YEAR(D21) -> 1900
A22: =IF(F22>0,'VPS1'!C23,0) -> 0 | B22: KV14 | F22: =D22-C22 -> 0 | G22: =YEAR(C22) -> 1900 | H22: =YEAR(D22) -> 1900
A23: =IF(F23>0,'VPS1'!C24,0) -> 0 | B23: KV15 | F23: =D23-C23 -> 0 | G23: =YEAR(C23) -> 1900 | H23: =YEAR(D23) -> 1900
A24: =IF(F24>0,'VPS1'!C25,0) -> 0 | B24: KV16 | F24: =D24-C24 -> 0 | G24: =YEAR(C24) -> 1900 | H24: =YEAR(D24) -> 1900
A25: =IF(F25>0,'VPS1'!C26,0) -> 0 | B25: KV17 | F25: =D25-C25 -> 0 | G25: =YEAR(C25) -> 1900 | H25: =YEAR(D25) -> 1900
A26: =IF(F26>0,'VPS1'!C27,0) -> 0 | B26: KV18 | F26: =D26-C26 -> 0 | G26: =YEAR(C26) -> 1900 | H26: =YEAR(D26) -> 1900
A27: =IF(F27>0,'VPS1'!C28,0) -> 0 | B27: KV19 | F27: =D27-C27 -> 0 | G27: =YEAR(C27) -> 1900 | H27: =YEAR(D27) -> 1900
... A38: =IF(F38>0,'VPS1'!C39,0) -> 0 | B38: KV30 | F38: =D38-C38 -> 0 | G38: =YEAR(C38) -> 1900 | H38: =YEAR(D38) -> 1900

Sheet D2
B1: Duomenys: Informacija apie įvykusius kvietimus VPS priemonių lygiu
A3: NMA vaidmuo: | B3: Patikrina VVG pateiktus lentelės duomenis.
A4: VVG vaidmuo: | B4: Užpildo lentelę nuo K stulpelio.
K5: Kvietimui numatyta lėšų suma (VPS priemonių lygiu), Eur
B6: VPS priemonės numeris | C6: VVG kodas | D6: VPS priemonė | E6: Priemonės kodas (unikalus) | F6: Priemonės kodas (bendras) | G6: Planuojama paramos suma priemonei, Eur | H6: Bendras kvietimų skaičius (vnt.) | I6: Bendra kvietimų teikti paraiškas suma, Eur | J6: Paskelbti kvietimai, proc. nuo vietos projektams numatytų lėšų (nuo VPS įgyvendinimo pradžios) | K6: KV01 | L6: KV02 | M6: KV03 | N6: KV04 | O6: KV05 | P6: KV06 | Q6: KV07 | R6: KV08 | S6: KV09 | T6: KV10 | U6: KV11 | V6: KV12 | W6: KV13 | X6: KV14 | Y6: KV15 | Z6: KV16 | AA6: KV17 | AB6: KV18 | AC6: KV19 | AD6: KV20 | AE6: KV21 | AF6: KV22 | AG6: KV23 | AH6: KV24 | AI6: KV25 | AJ6: KV26 | AK6: KV27 | AL6: KV28 | AM6: KV29 | AN6: KV30
B7: Užsipildo automatiškai pagal lapą VPS1 | C7: Užsipildo automatiškai pagal lapą VPS1 | D7: Užsipildo automatiškai pagal lapą VPS1 | E7: Užsipildo automatiškai pagal lapą VPS1 | F7: Užsipildo automatiškai pagal lapą VPS1 | G7: Užsipildo automatiškai pagal lapą VPS1 | H7: Užsipildo automatiškai (formulė) | I7: Užsipildo automatiškai (formulė) | J7: Užsipildo automatiškai (formulė) | K7: Pildo VVG. Suma nurodoma tame langelyje, kuriame susikerta aktualus kvietimo numeris ir VPS priemonė. Jei kvietimų daugiau nei 30, įterpti daugiau stulpelių.
B8: Iš viso | G8: =SUM(G9:G28) -> 1261564.8 | H8: =SUM(H9:H28) -> 7 | I8: =SUM(I9:I28) -> 865965.88 | J8: =IF(G8>0,I8/G8,0) -> 0.68642204 | K8: =SUM(K9:K28) -> 130000 | L8: =SUM(L9:L28) -> 75469.44 | M8: =SUM(M9:M28) -> 130000 | N8: =SUM(N9:N28) -> 195000 | O8: =SUM(O9:O28) -> 130000 | P8: =SUM(P9:P28) -> 75496.44 | Q8: =SUM(Q9:Q28) -> 130000 | R8: =SUM(R9:R28) -> 0 | ... AN8: =SUM(AN9:AN28) -> 0
B9: 1 priemonė | C9: ='VPS1'!C10 -> MARI | D9: ='VPS1'!D10 -> Bendruomeniškumo skatinimas | E9: ='VPS1'!J10 -> MARI-LEADER-20VVG-09-01 | F9: ='VPS1'!I10 -> LEADER-20VVG-09 | G9: ='VPS1'!G10 -> 251564.8 | H9: =COUNTIFS(K9:AN9,">0") -> 2 | I9: =SUM(K9:AN9) -> 150965.88 | J9: =IF(G9>0,I9/G9,0) -> 0.60010733 | L9: 75469.44 | P9: 75496.44
B10: 2 priemonė | C10: ='VPS1'!C11 -> MARI | D10: ='VPS1'!D11 -> Ne žemės ūkio verslo kūrimas ir plėtra | E10: ='VPS1'!J11 -> MARI-LEADER-20VVG-03-02 | F10: ='VPS1'!I11 -> LEADER-20VVG-03 | G10: ='VPS1'!G11 -> 650000 | H10: =COUNTIFS(K10:AN10,">0") -> 4 | I10: =SUM(K10:AN10) -> 585000 | J10: =IF(G10>0,I10/G10,0) -> 0.9 | K10: 130000 | M10: 130000 | N10: 195000 | Q10: 130000
B11: 3 priemonė | C11: ='VPS1'!C12 -> MARI | D11: ='VPS1'!D12 -> Bendruomeninio verslo kūrimas ir plėtra | E11: ='VPS1'!J12 -> MARI-LEADER-20VVG-07-03 | F11: ='VPS1'!I12 -> LEADER-20VVG-07 | G11: ='VPS1'!G12 -> 100000 | H11: =COUNTIFS(K11:AN11,">0") -> 0 | I11: =SUM(K11:AN11) -> 0 | J11: =IF(G11>0,I11/G11,0) -> 0
B12: 4 priemonė | C12: ='VPS1'!C13 -> MARI | D12: ='VPS1'!D13 -> Socialinio verslo kūrimas ir plėtra | E12: ='VPS1'!J13 -> MARI-LEADER-20VVG-06-04 | F12: ='VPS1'!I13 -> LEADER-20VVG-06 | G12: ='VPS1'!G13 -> 260000 | H12: =COUNTIFS(K12:AN12,">0") -> 1 | I12: =SUM(K12:AN12) -> 130000 | J12: =IF(G12>0,I12/G12,0) -> 0.5 | O12: 130000
B13: 5 priemonė | C13: ='VPS1'!C14 -> 0 | D13: ='VPS1'!D14 -> 0 | E13: ='VPS1'!J14 -> 0 | F13: ='VPS1'!I14 -> 0 | G13: ='VPS1'!G14 -> 0 | H13: =COUNTIFS(K13:AN13,">0") -> 0 | I13: =SUM(K13:AN13) -> 0 | J13: =IF(G13>0,I13/G13,0) -> 0
B14: 6 priemonė | C14: ='VPS1'!C15 -> 0 | D14: ='VPS1'!D15 -> 0 | E14: ='VPS1'!J15 -> 0 | F14: ='VPS1'!I15 -> 0 | G14: ='VPS1'!G15 -> 0 | H14: =COUNTIFS(K14:AN14,">0") -> 0 | I14: =SUM(K14:AN14) -> 0 | J14: =IF(G14>0,I14/G14,0) -> 0
B15: 7 priemonė | C15: ='VPS1'!C16 -> 0 | D15: ='VPS1'!D16 -> 0 | E15: ='VPS1'!J16 -> 0 | F15: ='VPS1'!I16 -> 0 | G15: ='VPS1'!G16 -> 0 | H15: =COUNTIFS(K15:AN15,">0") -> 0 | I15: =SUM(K15:AN15) -> 0 | J15: =IF(G15>0,I15/G15,0) -> 0
B16: 8 priemonė | C16: ='VPS1'!C17 -> 0 | D16: ='VPS1'!D17 -> 0 | E16: ='VPS1'!J17 -> 0 | F16: ='VPS1'!I17 -> 0 | G16: ='VPS1'!G17 -> 0 | H16: =COUNTIFS(K16:AN16,">0") -> 0 | I16: =SUM(K16:AN16) -> 0 | J16: =IF(G16>0,I16/G16,0) -> 0
B17: 9 priemonė | C17: ='VPS1'!C18 -> 0 | D17: ='VPS1'!D18 -> 0 | E17: ='VPS1'!J18 -> 0 | F17: ='VPS1'!I18 -> 0 | G17: ='VPS1'!G18 -> 0 | H17: =COUNTIFS(K17:AN17,">0") -> 0 | I17: =SUM(K17:AN17) -> 0 | J17: =IF(G17>0,I17/G17,0) -> 0
B18: 10 priemonė | C18: ='VPS1'!C19 -> 0 | D18: ='VPS1'!D19 -> 0 | E18: ='VPS1'!J19 -> 0 | F18: ='VPS1'!I19 -> 0 | G18: ='VPS1'!G19 -> 0 | H18: =COUNTIFS(K18:AN18,">0") -> 0 | I18: =SUM(K18:AN18) -> 0 | J18: =IF(G18>0,I18/G18,0) -> 0
B19: 11 priemonė | C19: ='VPS1'!C20 -> 0 | D19: ='VPS1'!D20 -> 0 | E19: ='VPS1'!J20 -> 0 | F19: ='VPS1'!I20 -> 0 | G19: ='VPS1'!G20 -> 0 | H19: =COUNTIFS(K19:AN19,">0") -> 0 | I19: =SUM(K19:AN19) -> 0 | J19: =IF(G19>0,I19/G19,0) -> 0
B20: 12 priemonė | C20: ='VPS1'!C21 -> 0 | D20: ='VPS1'!D21 -> 0 | E20: ='VPS1'!J21 -> 0 | F20: ='VPS1'!I21 -> 0 | G20: ='VPS1'!G21 -> 0 | H20: =COUNTIFS(K20:AN20,">0") -> 0 | I20: =SUM(K20:AN20) -> 0 | J20: =IF(G20>0,I20/G20,0) -> 0
B21: 13 priemonė | C21: ='VPS1'!C22 -> 0 | D21: ='VPS1'!D22 -> 0 | E21: ='VPS1'!J22 -> 0 | F21: ='VPS1'!I22 -> 0 | G21: ='VPS1'!G22 -> 0 | H21: =COUNTIFS(K21:AN21,">0") -> 0 | I21: =SUM(K21:AN21) -> 0 | J21: =IF(G21>0,I21/G21,0) -> 0
B22: 14 priemonė | C22: ='VPS1'!C23 -> 0 | D22: ='VPS1'!D23 -> 0 | E22: ='VPS1'!J23 -> 0 | F22: ='VPS1'!I23 -> 0 | G22: ='VPS1'!G23 -> 0 | H22: =COUNTIFS(K22:AN22,">0") -> 0 | I22: =SUM(K22:AN22) -> 0 | J22: =IF(G22>0,I22/G22,0) -> 0
B23: 15 priemonė | C23: ='VPS1'!C24 -> 0 | D23: ='VPS1'!D24 -> 0 | E23: ='VPS1'!J24 -> 0 | F23: ='VPS1'!I24 -> 0 | G23: ='VPS1'!G24 -> 0 | H23: =COUNTIFS(K23:AN23,">0") -> 0 | I23: =SUM(K23:AN23) -> 0 | J23: =IF(G23>0,I23/G23,0) -> 0
B24: 16 priemonė | C24: ='VPS1'!C25 -> 0 | D24: ='VPS1'!D25 -> 0 | E24: ='VPS1'!J25 -> 0 | F24: ='VPS1'!I25 -> 0 | G24: ='VPS1'!G25 -> 0 | H24: =COUNTIFS(K24:AN24,">0") -> 0 | I24: =SUM(K24:AN24) -> 0 | J24: =IF(G24>0,I24/G24,0) -> 0
... B28: 20 priemonė | C28: ='VPS1'!C29 -> 0 | D28: ='VPS1'!D29 -> 0 | E28: ='VPS1'!J29 -> 0 | F28: ='VPS1'!I29 -> 0 | G28: ='VPS1'!G29 -> 0 | H28: =COUNTIFS(K28:AN28,">0") -> 0 | I28: =SUM(K28:AN28) -> 0 | J28: =IF(G28>0,I28/G28,0) -> 0

Sheet D3
B1: Duomenys: Informacija apie gautas paraiškas VPS priemonių lygiu
A3: NMA vaidmuo: | B3: Patikrina VVG pateiktus lentelės duomenis.
A4: VVG vaidmuo: | B4: Užpildo lentelę nuo H stulpelio.
H5: Gautų paraiškų skaičius (VPS priemonių lygiu)
B6: VPS priemonės numeris | C6: VVG kodas | D6: VPS priemonė | E6: Priemonės kodas (bendras) | F6: Priemonės kodas (unikalus) | G6: Bendras gautų paraiškų skaičius | H6: KV01 | I6: KV02 | J6: KV03 | K6: KV04 | L6: KV05 | M6: KV06 | N6: KV07 | O6: KV08 | P6: KV09 | Q6: KV10 | R6: KV11 | S6: KV12 | T6: KV13 | U6: KV14 | V6: KV15 | W6: KV16 | X6: KV17 | Y6: KV18 | Z6: KV19 | AA6: KV20 | AB6: KV21 | AC6: KV22 | AD6: KV23 | AE6: KV24 | AF6: KV25 | AG6: KV26 | AH6: KV27 | AI6: KV28 | AJ6: KV29 | AK6: KV30
B7: Užsipildo automatiškai pagal lapą VPS1 | C7: Užsipildo automatiškai pagal lapą VPS2 | D7: Užsipildo automatiškai pagal lapą VPS1 | E7: Užsipildo automatiškai pagal lapą VPS1 | F7: Užsipildo automatiškai pagal lapą VPS1 | G7: Užsipildo automatiškai (formulė) | H7: Pildo VVG. Gautų paraiškų skaičius nurodomas tame langelyje, kuriame susikerta aktualus kvietimo numeris ir VPS priemonė. Jei kvietimų daugiau nei 30, įterpti daugiau stulpelių.
B8: Iš viso | G8: =SUM(G9:G28) -> 16 | H8: =SUM(H9:H28) -> 1 | I8: =SUM(I9:I28) -> 3 | J8: =SUM(J9:J28) -> 1 | K8: =SUM(K9:K28) -> 4 | L8: =SUM(L9:L28) -> 3 | M8: =SUM(M9:M28) -> 3 | N8: =SUM(N9:N28) -> 1 | ... AK8: =SUM(AK9:AK28) -> 0
B9: 1 priemonė | C9: ='VPS1'!C10 -> MARI | D9: ='VPS1'!D10 -> Bendruomeniškumo skatinimas | E9: ='VPS1'!I10 -> LEADER-20VVG-09 | F9: ='VPS1'!J10 -> MARI-LEADER-20VVG-09-01 | G9: =SUM(H9:AK9) -> 6 | I9: 3 | M9: 3
B10: 2 priemonė | C10: ='VPS1'!C11 -> MARI | D10: ='VPS1'!D11 -> Ne žemės ūkio verslo kūrimas ir plėtra | E10: ='VPS1'!I11 -> LEADER-20VVG-03 | F10: ='VPS1'!J11 -> MARI-LEADER-20VVG-03-02 | G10: =SUM(H10:AK10) -> 7 | H10: 1 | J10: 1 | K10: 4 | N10: 1
B11: 3 priemonė | C11: ='VPS1'!C12 -> MARI | D11: ='VPS1'!D12 -> Bendruomeninio verslo kūrimas ir plėtra | E11: ='VPS1'!I12 -> LEADER-20VVG-07 | F11: ='VPS1'!J12 -> MARI-LEADER-20VVG-07-03 | G11: =SUM(H11:AK11) -> 0
B12: 4 priemonė | C12: ='VPS1'!C13 -> MARI | D12: ='VPS1'!D13 -> Socialinio verslo kūrimas ir plėtra | E12: ='VPS1'!I13 -> LEADER-20VVG-06 | F12: ='VPS1'!J13 -> MARI-LEADER-20VVG-06-04 | G12: =SUM(H12:AK12) -> 3 | L12: 3
B13: 5 priemonė | C13: ='VPS1'!C14 -> 0 | D13: ='VPS1'!D14 -> 0 | E13: ='VPS1'!I14 -> 0 | F13: ='VPS1'!J14 -> 0 | G13: =SUM(H13:AK13) -> 0
B14: 6 priemonė | C14: ='VPS1'!C15 -> 0 | D14: ='VPS1'!D15 -> 0 | E14: ='VPS1'!I15 -> 0 | F14: ='VPS1'!J15 -> 0 | G14: =SUM(H14:AK14) -> 0
B15: 7 priemonė | C15: ='VPS1'!C16 -> 0 | D15: ='VPS1'!D16 -> 0 | E15: ='VPS1'!I16 -> 0 | F15: ='VPS1'!J16 -> 0 | G15: =SUM(H15:AK15) -> 0
B16: 8 priemonė | C16: ='VPS1'!C17 -> 0 | D16: ='VPS1'!D17 -> 0 | E16: ='VPS1'!I17 -> 0 | F16: ='VPS1'!J17 -> 0 | G16: =SUM(H16:AK16) -> 0
B17: 9 priemonė | C17: ='VPS1'!C18 -> 0 | D17: ='VPS1'!D18 -> 0 | E17: ='VPS1'!I18 -> 0 | F17: ='VPS1'!J18 -> 0 | G17: =SUM(H17:AK17) -> 0
B18: 10 priemonė | C18: ='VPS1'!C19 -> 0 | D18: ='VPS1'!D19 -> 0 | E18: ='VPS1'!I19 -> 0 | F18: ='VPS1'!J19 -> 0 | G18: =SUM(H18:AK18) -> 0
B19: 11 priemonė | C19: ='VPS1'!C20 -> 0 | D19: ='VPS1'!D20 -> 0 | E19: ='VPS1'!I20 -> 0 | F19: ='VPS1'!J20 -> 0 | G19: =SUM(H19:AK19) -> 0
B20: 12 priemonė | C20: ='VPS1'!C21 -> 0 | D20: ='VPS1'!D21 -> 0 | E20: ='VPS1'!I21 -> 0 | F20: ='VPS1'!J21 -> 0 | G20: =SUM(H20:AK20) -> 0
B21: 13 priemonė | C21: ='VPS1'!C22 -> 0 | D21: ='VPS1'!D22 -> 0 | E21: ='VPS1'!I22 -> 0 | F21: ='VPS1'!J22 -> 0 | G21: =SUM(H21:AK21) -> 0
B22: 14 priemonė | C22: ='VPS1'!C23 -> 0 | D22: ='VPS1'!D23 -> 0 | E22: ='VPS1'!I23 -> 0 | F22: ='VPS1'!J23 -> 0 | G22: =SUM(H22:AK22) -> 0
B23: 15 priemonė | C23: ='VPS1'!C24 -> 0 | D23: ='VPS1'!D24 -> 0 | E23: ='VPS1'!I24 -> 0 | F23: ='VPS1'!J24 -> 0 | G23: =SUM(H23:AK23) -> 0
B24: 16 priemonė | C24: ='VPS1'!C25 -> 0 | D24: ='VPS1'!D25 -> 0 | E24: ='VPS1'!I25 -> 0 | F24: ='VPS1'!J25 -> 0 | G24: =SUM(H24:AK24) -> 0
... B28: 20 priemonė | C28: ='VPS1'!C29 -> 0 | D28: ='VPS1'!D29 -> 0 | E28: ='VPS1'!I29 -> 0 | F28: ='VPS1'!J29 -> 0 | G28: =SUM(H28:AK28) -> 0

Sheet D4
B1: Duomenys: Informacija apie gautų paraiškų vertę VPS priemonių lygiu
A3: NMA vaidmuo: | B3: Patikrina VVG pateiktus lentelės duomenis.
A4: VVG vaidmuo: | B4: Užpildo lentelę nuo I stulpelio.
I5: Gautų paraiškų vertė (prašoma paramos suma), Eur
B6: VPS priemonės numeris | C6: VVG kodas | D6: VPS priemonė | E6: Priemonės kodas (unikalus) | F6: Planuojama paramos suma priemonei, Eur | G6: Bendra gautų paraiškų vertė, Eur | H6: Gautų paraiškų vertė, proc. nuo vietos projektams numatytų lėšų (nuo VPS įgyvendinimo pradžios) | I6: KV01 | J6: KV02 | K6: KV03 | L6: KV04 | M6: KV05 | N6: KV06 | O6: KV07 | P6: KV08 | Q6: KV09 | R6: KV10 | S6: KV11 | T6: KV12 | U6: KV13 | V6: KV14 | W6: KV15 | X6: KV16 | Y6: KV17 | Z6: KV18 | AA6: KV19 | AB6: KV20 | AC6: KV21 | AD6: KV22 | AE6: KV23 | AF6: KV24 | AG6: KV25 | AH6: KV26 | AI6: KV27 | AJ6: KV28 | AK6: KV29 | AL6: KV30
B7: Užsipildo automatiškai pagal lapą VPS1 | C7: Užsipildo automatiškai pagal lapą VPS1 | D7: Užsipildo automatiškai pagal lapą VPS1 | E7: Užsipildo automatiškai pagal lapą VPS1 | F7: Užsipildo automatiškai pagal lapą VPS1 | G7: Užsipildo automatiškai (formulė) | H7: Užsipildo automatiškai (formulė) | I7: Pildo VVG. Suma nurodoma tame langelyje, kuriame susikerta aktualus kvietimo numeris ir VPS priemonė. Kaip įvesti sumas žr. 4 eilutę lape "Instrukcija". Jei kvietimų daugiau nei 30, įterpti daugiau stulpelių.
B8: Iš viso | F8: =SUM(F9:F28) -> 1261564.8 | G8: =SUM(G9:G28) -> 749827.47 | H8: =IF(G8>0,G8/F8,0) -> 0.59436302 | I8: =SUM(I9:I28) -> 58498.46 | J8: =SUM(J9:J28) -> 75464.51 | K8: =SUM(K9:K28) -> 64998.83 | L8: =SUM(L9:L28) -> 216177.85 | M8: =SUM(M9:M28) -> 194985.76 | N8: =SUM(N9:N28) -> 75427.02 | O8: =SUM(O9:O28) -> 64275.04 | P8: =SUM(P9:P28) -> 0 | ... AL8: =SUM(AL9:AL28) -> 0
B9: 1 priemonė | C9: ='VPS1'!C10 -> MARI | D9: ='VPS1'!D10 -> Bendruomeniškumo skatinimas | E9: ='VPS1'!J10 -> MARI-LEADER-20VVG-09-01 | F9: ='VPS1'!G10 -> 251564.8 | G9: =SUM(I9:AL9) -> 150891.53 | H9: =IF(G9>0,G9/F9,0) -> 0.59981178 | J9: 75464.51 | N9: 75427.02
B10: 2 priemonė | C10: ='VPS1'!C11 -> MARI | D10: ='VPS1'!D11 -> Ne žemės ūkio verslo kūrimas ir plėtra | E10: ='VPS1'!J11 -> MARI-LEADER-20VVG-03-02 | F10: ='VPS1'!G11 -> 650000 | G10: =SUM(I10:AL10) -> 403950.18 | H10: =IF(G10>0,G10/F10,0) -> 0.62146182 | I10: 58498.46 | K10: 64998.83 | L10: 216177.85 | O10: 64275.04
B11: 3 priemonė | C11: ='VPS1'!C12 -> MARI | D11: ='VPS1'!D12 -> Bendruomeninio verslo kūrimas ir plėtra | E11: ='VPS1'!J12 -> MARI-LEADER-20VVG-07-03 | F11: ='VPS1'!G12 -> 100000 | G11: =SUM(I11:AL11) -> 0 | H11: =IF(G11>0,G11/F11,0) -> 0
B12: 4 priemonė | C12: ='VPS1'!C13 -> MARI | D12: ='VPS1'!D13 -> Socialinio verslo kūrimas ir plėtra | E12: ='VPS1'!J13 -> MARI-LEADER-20VVG-06-04 | F12: ='VPS1'!G13 -> 260000 | G12: =SUM(I12:AL12) -> 194985.76 | H12: =IF(G12>0,G12/F12,0) -> 0.74994523 | M12: 194985.76
B13: 5 priemonė | C13: ='VPS1'!C14 -> 0 | D13: ='VPS1'!D14 -> 0 | E13: ='VPS1'!J14 -> 0 | F13: ='VPS1'!G14 -> 0 | G13: =SUM(I13:AL13) -> 0 | H13: =IF(G13>0,G13/F13,0) -> 0
B14: 6 priemonė | C14: ='VPS1'!C15 -> 0 | D14: ='VPS1'!D15 -> 0 | E14: ='VPS1'!J15 -> 0 | F14: ='VPS1'!G15 -> 0 | G14: =SUM(I14:AL14) -> 0 | H14: =IF(G14>0,G14/F14,0) -> 0
B15: 7 priemonė | C15: ='VPS1'!C16 -> 0 | D15: ='VPS1'!D16 -> 0 | E15: ='VPS1'!J16 -> 0 | F15: ='VPS1'!G16 -> 0 | G15: =SUM(I15:AL15) -> 0 | H15: =IF(G15>0,G15/F15,0) -> 0
B16: 8 priemonė | C16: ='VPS1'!C17 -> 0 | D16: ='VPS1'!D17 -> 0 | E16: ='VPS1'!J17 -> 0 | F16: ='VPS1'!G17 -> 0 | G16: =SUM(I16:AL16) -> 0 | H16: =IF(G16>0,G16/F16,0) -> 0
B17: 9 priemonė | C17: ='VPS1'!C18 -> 0 | D17: ='VPS1'!D18 -> 0 | E17: ='VPS1'!J18 -> 0 | F17: ='VPS1'!G18 -> 0 | G17: =SUM(I17:AL17) -> 0 | H17: =IF(G17>0,G17/F17,0) -> 0
B18: 10 priemonė | C18: ='VPS1'!C19 -> 0 | D18: ='VPS1'!D19 -> 0 | E18: ='VPS1'!J19 -> 0 | F18: ='VPS1'!G19 -> 0 | G18: =SUM(I18:AL18) -> 0 | H18: =IF(G18>0,G18/F18,0) -> 0
B19: 11 priemonė | C19: ='VPS1'!C20 -> 0 | D19: ='VPS1'!D20 -> 0 | E19: ='VPS1'!J20 -> 0 | F19: ='VPS1'!G20 -> 0 | G19: =SUM(I19:AL19) -> 0 | H19: =IF(G19>0,G19/F19,0) -> 0
B20: 12 priemonė | C20: ='VPS1'!C21 -> 0 | D20: ='VPS1'!D21 -> 0 | E20: ='VPS1'!J21 -> 0 | F20: ='VPS1'!G21 -> 0 | G20: =SUM(I20:AL20) -> 0 | H20: =IF(G20>0,G20/F20,0) -> 0
B21: 13 priemonė | C21: ='VPS1'!C22 -> 0 | D21: ='VPS1'!D22 -> 0 | E21: ='VPS1'!J22 -> 0 | F21: ='VPS1'!G22 -> 0 | G21: =SUM(I21:AL21) -> 0 | H21: =IF(G21>0,G21/F21,0) -> 0
B22: 14 priemonė | C22: ='VPS1'!C23 -> 0 | D22: ='VPS1'!D23 -> 0 | E22: ='VPS1'!J23 -> 0 | F22: ='VPS1'!G23 -> 0 | G22: =SUM(I22:AL22) -> 0 | H22: =IF(G22>0,G22/F22,0) -> 0
B23: 15 priemonė | C23: ='VPS1'!C24 -> 0 | D23: ='VPS1'!D24 -> 0 | E23: ='VPS1'!J24 -> 0 | F23: ='VPS1'!G24 -> 0 | G23: =SUM(I23:AL23) -> 0 | H23: =IF(G23>0,G23/F23,0) -> 0
B24: 16 priemonė | C24: ='VPS1'!C25 -> 0 | D24: ='VPS1'!D25 -> 0 | E24: ='VPS1'!J25 -> 0 | F24: ='VPS1'!G25 -> 0 | G24: =SUM(I24:AL24) -> 0 | H24: =IF(G24>0,G24/F24,0) -> 0
... B28: 20 priemonė | C28: ='VPS1'!C29 -> 0 | D28: ='VPS1'!D29 -> 0 | E28: ='VPS1'!J29 -> 0 | F28: ='VPS1'!G29 -> 0 | G28: =SUM(I28:AL28) -> 0 | H28: =IF(G28>0,G28/F28,0) -> 0

Sheet D5
B1: Duomenys: Informacija apie paraiškų vertinimo rezultatus (NMA PAK)
A3: NMA vaidmuo: | B3: Užpildo lentelę pagal pagal pateiktą instrukciją.
A4: VVG vaidmuo: | B4: Patikrina lentelės duomenis.
R5: VP pobūdis | AM5: Rodikliai
B6: VVG ir priemonės kodas (Priemonės kodas (unikalus)) | C6: VVG kodas (4 raidės) | D6: VVG pavadinimas (pilnas) | E6: VPS priemonės kodas (unikalus) | F6: Paraiškos gavimo data | G6: Pareiškėjo pavadinimas / Vardas, pavardė | H6: Pareiškėjo registracijos kodas (pagal VĮ Registrų centro Juridinių asmenų registro duomenis) / asmens kodas ir ūkio registracijos Nr. | I6: Paraiškos atpažinties (registracijos) kodas (suteiktas VVG) | J6: Paraiškos atpažinties (registracijos) kodas (suteiktas NMA) | K6: Vietos projekto pavadinimas | L6: Prašoma paramos suma vietos projektui įgyvendinti, Eur | M6: Finansavimo šaltinis | N6: Pareiškėjo tipas (juridinis ar fizinis) | O6: Pareiškėjo tipas (detaliau) | P6: Jei pareiškėjas fizinis asmuo, ar vyras? | Q6: Jei pareiškėjas fizinis asmuo, ar jaunas (iki 40 m.)? | R6: Ar vietos projektas skirtas jaunimui? | S6: Ar pagrįsta vietos projekte VPS tema? | T6: Ar vietos projektas kuria inovacijas? | U6: Ar vietos projektas susijęs su L801? | V6: Ar vietos projektas susijęs su L802? | W6: Ar vietos projektas susijęs su L803? | X6: Ar vietos projektas susijęs su L804? | Y6: Ar vietos projektas susijęs su L805? | Z6: Ar vietos projektas susijęs su L806? | AA6: Arvietos projektas susijęs su L807? | AB6: Ar vietos projektas susijęs su L808? | AC6: Ar vietos projektas susijęs su L809? | AD6: Paraiškos etapas | AE6: Pridėtinės vertės (kokybės) vertinimas, balai | AF6: Vietos projekto atrankos data (po VVG PAK) | AG6: Patvirtinta paramos suma vietos projektui įgyvendinti, Eur (po NMA PAK) | AH6: Paraiškos patvirtinimo data (po NMA PAK) | AI6: Vietos projekto sutarties data | AJ6: Projekto pabaigos (galutinio MP) data (jei data yra, projektas baigtas) | AK6: 1 MP apmokėjimo data | AL6: Galutinio MP apmokėjimo data | AM6: PLANUOJAMA: R3 (ūkių skaičius) | AN6: PLANUOJAMA: R3 (apmokytų ūkininkų skaičius) | AO6: PLANUOJAMA: R.37 | AP6: PLANUOJAMA: R.39 (verslo pradžia) | AQ6: PLANUOJAMA: R.39 (verslo plėtra) | AR6: PLANUOJAMA: R.41 | AS6: PLANUOJAMA: R.42 | AT6: PLANUOJAMA: P.1 | AU6: PLANUOJAMA: P.2 | AV6: PLANUOJAMA: P.3 | AW6: PASIEKTA: R.3 (ūkių skaičius) | AX6: PASIEKTA: R.3 (apmokytų ūkininkų skaičius) | AY6: PASIEKTA: R.37 | AZ6: PASIEKTA: R.39 (verslo pradžia) | BA6: PASIEKTA: R.39 (verslo plėtra) | BB6: PASIEKTA: R.41 | BC6: PASIEKTA: R.42 | BD6: PASIEKTA: P.1 | BE6: PASIEKTA: P.2 | BF6: PASIEKTA: P.3 | BG6: Paraiškos gavimo metai | BH6: Paraiškos atrankos metai | BI6: Paraiškos patvirtinimo metai | BJ6: Vietos projekto sutarties metai | BK6: Projekto pabaigos metai | BL6: Apmokėto 1MP metai | BM6: Apmokėto galutinio MP metai | BN6: Ar paraiška atrinka | BO6: Ar paraiška patvirtinta? | BP6: Ar sudaryta sutartis? | BQ6: Ar apmokėtas 1 MP? | BR6: Ar apmokėtas galutinis MP? | BS6: Ar projektas baigtas?
B7: Jei #N/A - neteisingas priemonės kodas (tikslinti E stulpelį) | C7: Užsipildo automatiškai iš paraiškos kodo | D7: Pildo NMA | E7: Pildo NMA. Reikšmės turi sutapti su nurodytomis lapo VPS1 J stulpelyje. | F7: Pildo NMA. Nurodoma paraiškos gavimo/ užregistravimo data pagal schemą MMM-MM-DD, pavyzdžiui, 2024-10-01 | G7: Pildo NMA | H7: Pildo NMA | I7: Pildo NMA | J7: Pildo NMA | K7: Pildo NMA | L7: Pildo NMA | M7: Pildo NMA. Lauko reikšmė įvedama arba pasirenkama iš sąrašo (galimos reikšmės: EŽŪFKP) | N7: Pildo NMA. Lauko reikšmė įvedama arba pasirenkama iš sąrašo (galimos reikšmės: juridinis asmuo arba fizinis asmuo) | O7: Pildo NMA. Lauko reikšmė įvedama arba pasirenkama iš sąrašo. Galimų reikšmių sąrašas pateiktas lape "Instrukcija". | P7: Pildo NMA pagal pareiškėjo kodą arba pavadinimą. Lauko reikšmės: taip arba ne. | Q7: Pildo NMA pagal pareiškėjo kodą. Lauko reikšmės: taip arba ne. | R7: Pildo NMA pagal pareiškėjo kodą. Lauko reikšmės: taip, ne. | S7: Pildo NMA pagal pareiškėjo kodą. Lauko reikšmės: taip, ne. | T7: Pildo NMA pagal pareiškėjo kodą. Lauko reikšmės: taip, ne. | U7: Pildo NMA pagal pareiškėjo kodą. Lauko reikšmės: taip, ne. | V7: Pildo NMA pagal pareiškėjo kodą. Lauko reikšmės: taip, ne. | W7: Pildo NMA pagal pareiškėjo kodą. Lauko reikšmės: taip, ne. | X7: Pildo NMA pagal pareiškėjo kodą. Lauko reikšmės: taip, ne. | Y7: Pildo NMA pagal pareiškėjo kodą. Lauko reikšmės: taip, ne. | Z7: Pildo NMA pagal pareiškėjo kodą. Lauko reikšmės: taip, ne. | AA7: Pildo NMA pagal pareiškėjo kodą. Lauko reikšmės: taip, ne. | AB7: Pildo NMA pagal pareiškėjo kodą. Lauko reikšmės: taip, ne. | AC7: Pildo NMA pagal pareiškėjo kodą. Lauko reikšmės: taip, ne. | AD7: Pildo NMA. Įtraukiamos tik paraiškos, kurių etapas - "Sutarties rengimas" ir "Paramos administravimas" | AE7: Pildo NMA. Pateikiama informacija iš VVG PAK protokolo. | AF7: Pildo NMA. Nurodoma NMA direktoriaus įsakymo data pagal schemą MMM-MM-DD, pavyzdžiui, 2024-10-01 | AG7: Pildo NMA. Pateikiama informacija iš NMA PAK protokolo. | AH7: Pildo NMA. Nurodoma NMA direktoriaus įsakymo data pagal schemą MMM-MM-DD, pavyzdžiui, 2024-10-01 | AI7: Pildo NMA. Nurodoma sutarties data pagal schemą MMM-MM-DD, pavyzdžiui, 2024-10-01 | AJ7: Pildo NMA. Nurodoma galutinio MP gavimo data pagal schemą MMM-MM-DD, pavyzdžiui, 2024-10-01 | AK7: Pildo NMA. Pasirenkami iš sąrašo 1 MP apmokėjimo metai, pvz 2024. Nurodomi finansiniai metai, t. y. jei apmokėjimas atliktas pvz. iki 2024-10-15, nurodomi 2024 m, jei apmokėtas pvz.. 2024-10-20, nurodomi 2025 m. | AL7: Pildo NMA. Pasirenkami iš sąrašo galutinio MP pmokėjimo metai, pvz 2024. Nurodomi finansiniai metai, t. y. jei apmokėjimas atliktas pvz. iki 2024-10-15, nurodomi 2024 m, jei apmokėtas pvz.. 2024-10-20, nurodomi 2025 m. | AM7: Pildo NMA (iš paraiškų/ sutarčių) - pildoma visiems patvirtintiems projektams. | AN7: Pildo NMA (iš paraiškų/ sutarčių) - pildoma visiems patvirtintiems projektams. | AO7: Pildo NMA (iš paraiškų/ sutarčių) - pildoma visiems patvirtintiems projektams. | AP7: Pildo NMA (iš paraiškų/ sutarčių) - pildoma visiems patvirtintiems projektams. | AQ7: Pildo NMA (iš paraiškų/ sutarčių) - pildoma visiems patvirtintiems projektams. | AR7: Pildo NMA (iš paraiškų/ sutarčių) - pildoma visiems patvirtintiems projektams. | AS7: Pildo NMA (iš paraiškų/ sutarčių) - pildoma visiems patvirtintiems projektams. | AT7: Pildo NMA (iš paraiškų/ sutarčių) - pildoma visiems patvirtintiems projektams. | AU7: Pildo NMA (iš paraiškų/ sutarčių) - pildoma visiems patvirtintiems projektams. | AV7: Pildo NMA (iš paraiškų/ sutarčių) - pildoma visiems patvirtintiems projektams. | AW7: Pildo NMA (pildoma kai apmokamas 1 MP. Pastaba, jei apmokėjimas atliktas pvz. iki 2024-10-15, rodiklio pasiekimas užskaitomas 2024 m, jei vėliau, keliamas į 2025 m | AX7: Pildo NMA (pildoma kai apmokamas 1 MP. Pastaba, jei apmokėjimas atliktas pvz. iki 2024-10-15, rodiklio pasiekimas užskaitomas 2024 m, jei vėliau, keliamas į 2025 m | AY7: Pildo NMA (pildoma kai apmokamas galutinis MP. Pastaba, jei apmokėjimas atliktas pvz. iki 2024-10-15, rodiklio pasiekimas užskaitomas 2024 m, jei vėliau, keliamas į 2025 m | AZ7: Pildo NMA (pildoma kai apmokamas 1 MP. Pastaba, jei apmokėjimas atliktas pvz. iki 2024-10-15, rodiklio pasiekimas užskaitomas 2024 m, jei vėliau, keliamas į 2025 m | BA7: Pildo NMA (pildoma kai apmokamas 1 MP. Pastaba, jei apmokėjimas atliktas pvz. iki 2024-10-15, rodiklio pasiekimas užskaitomas 2024 m, jei vėliau, keliamas į 2025 m | BB7: Pildo NMA (pildoma kai apmokamas 1 MP. Pastaba, jei apmokėjimas atliktas pvz. iki 2024-10-15, rodiklio pasiekimas užskaitomas 2024 m, jei vėliau, keliamas į 2025 m | BC7: Pildo NMA (pildoma kai apmokamas 1 MP. Pastaba, jei apmokėjimas atliktas pvz. iki 2024-10-15, rodiklio pasiekimas užskaitomas 2024 m, jei vėliau, keliamas į 2025 m | BD7: Pildo NMA (pildoma kai apmokamas 1 MP. Pastaba, jei apmokėjimas atliktas pvz. iki 2024-10-15, rodiklio pasiekimas užskaitomas 2024 m, jei vėliau, keliamas į 2025 m | BE7: Pildo NMA (pildoma kai apmokamas 1 MP. Pastaba, jei apmokėjimas atliktas pvz. iki 2024-10-15, rodiklio pasiekimas užskaitomas 2024 m, jei vėliau, keliamas į 2025 m | BF7: Pildo NMA (pildoma kai apmokamas 1 MP. Pastaba, jei apmokėjimas atliktas pvz. iki 2024-10-15, rodiklio pasiekimas užskaitomas 2024 m, jei vėliau, keliamas į 2025 m | BG7: Užsipildo automatiškai pagal F stulpelį | BH7: Užsipildo automatiškai pagal AF stulpelį | BI7: Užsipildo automatiškai pagal AH stulpelį | BJ7: Užsipildo automatiškai pagal AI stulpelį | BK7: Užsipildo automatiškai pagal AJ stilpelį | BL7: Užsipildo automatiškai pagal AK stilpelį | BM7: Užsipildo automatiškai pagal AL stilpelį | BN7: Užsipildo automatiškai | BO7: Užsipildo automatiškai | BP7: Užsipildo automatiškai | BQ7: Užsipildo automatiškai | BR7: Užsipildo automatiškai | BS7: Užsipildo automatiškai
B8: 1 | C8: 2 | D8: 3 | E8: 4 | F8: 5 | G8: 6 | H8: 7 | I8: 8 | J8: 9 | K8: 10 | L8: 11 | M8: 12 | N8: 13 | O8: 14 | P8: 15 | Q8: 16 | R8: 17 | S8: 18 | T8: 19 | U8: 20 | V8: 21 | W8: 22 | X8: 23 | Y8: 24 | Z8: 25 | AA8: 26 | AB8: 27 | AC8: 28 | AD8: 29 | AE8: 30 | AF8: 31 | AG8: 32 | AH8: 33 | AI8: 34 | AJ8: 35 | AK8: 36 | AL8: 37 | AM8: 38 | AN8: 39 | AO8: 40 | AP8: 41 | AQ8: 42 | AR8: 43 | AS8: 44 | AT8: 45 | AU8: 46 | AV8: 47 | AW8: 48 | AX8: 49 | AY8: 50 | AZ8: 51 | BA8: 52 | BB8: 53 | BC8: 54 | BD8: 55 | BE8: 56 | BF8: 57 | BG8: 58 | BH8: 59 | BI8: 60 | BJ8: 61 | BK8: 62 | BL8: 63 | BM8: 64 | BN8: 65 | BO8: 66 | BP8: 67 | BQ8: 68 | BR8: 69 | BS8: 70
A9: Kas pildo | B9: automatiškai | C9: automatiškai | D9: NMA | E9: NMA | F9: NMA | G9: NMA | H9: NMA | I9: NMA | J9: NMA | K9: NMA | L9: NMA | M9: NMA | N9: NMA | O9: NMA | P9: NMA | Q9: NMA | R9: NMA | S9: NMA | T9: NMA | U9: NMA | V9: NMA | W9: NMA | X9: NMA | Y9: NMA | Z9: NMA | AA9: NMA | AB9: NMA | AC9: NMA | AD9: NMA | AE9: NMA | AF9: NMA | AG9: NMA | AH9: NMA | AI9: NMA | AJ9: NMA | AK9: NMA | AL9: NMA | AM9: NMA | AN9: NMA | AO9: NMA | AP9: NMA | AQ9: NMA | AR9: NMA | AS9: NMA | AT9: NMA | AU9: NMA | AV9: NMA | AW9: NMA | AX9: NMA | AY9: NMA | AZ9: NMA | BA9: NMA | BB9: NMA | BC9: NMA | BD9: NMA | BE9: NMA | BF9: NMA | BG9: automatiškai | BH9: automatiškai | BI9: automatiškai | BJ9: automatiškai | BK9: automatiškai | BL9: automatiškai | BM9: automatiškai | BN9: automatiškai | BO9: automatiškai | BP9: automatiškai | BQ9: automatiškai | BR9: automatiškai | BS9: automatiškai
A10: Iš kur duomenys | B10: formulė | C10: formulė | D10: iš sistemos | E10: iš sistemos | F10: iš sistemos | G10: iš sistemos | H10: iš sistemos | I10: iš sistemos | J10: iš sistemos | K10: iš sistemos | L10: iš sistemos | M10: iš sistemos | N10: iš sistemos | O10: ranka | P10: ranka | Q10: ranka | R10: iš sistemos | S10: iš sistemos | T10: iš sistemos | U10: iš sistemos | V10: iš sistemos | W10: iš sistemos | X10: iš sistemos | Y10: iš sistemos | Z10: iš sistemos | AA10: iš sistemos | AB10: iš sistemos | AC10: iš sistemos | AD10: iš sistemos | AE10: iš sistemos | AF10: iš sistemos | AG10: iš sistemos | AH10: iš sistemos | AI10: iš sistemos | AJ10: iš sistemos | AK10: ranka | AL10: ranka | AM10: iš sistemos | AN10: iš sistemos | AO10: iš sistemos | AP10: iš sistemos | AQ10: iš sistemos | AR10: iš sistemos | AS10: iš sistemos | AT10: iš sistemos | AU10: iš sistemos | AV10: iš sistemos | AW10: iš sistemos | AX10: iš sistemos | AY10: iš sistemos | AZ10: iš sistemos | BA10: iš sistemos | BB10: iš sistemos | BC10: iš sistemos | BD10: iš sistemos | BE10: iš sistemos | BF10: iš sistemos | BG10: formulė | BH10: formulė | BI10: formulė | BJ10: formulė | BK10: formulė | BL10: formulė | BM10: formulė | BN10: formulė | BO10: formulė | BP10: formulė | BQ10: formulė | BR10: formulė | BS10: formulė
B11: =VLOOKUP(E11,'VPS1'!$J$10:$J$29,1,FALSE) -> MARI-LEADER-20VVG-09-01 | C11: =LEFT(E11,4) -> MARI | D11: MARIJAMPOLĖS VIETOS VEIKLOS GRUPĖ, A | E11: MARI-LEADER-20VVG-09-01 | F11: 45596 | G11: ŽELSVOS KAIMO BENDRUOMENĖ, A | H11: 300068239 | I11: MARI-LEADER-09-2-1 | J11: 20VS-PV-24-2-07750-PR001 | K11: Būkim kartu | L11: 25153.42 | M11: EŽŪFKP | N11: Juridinis asmuo | O11: NVO | S11: taip | AC11: taip | AD11: Paramos administravimas | AE11: 95 | AF11: 45622 | AG11: 25153 | AH11: 45737 | AI11: 45737 | AJ11: 45896 | AK11: 2025 | AL11: 2025 | AS11: 81 | BC11: 169 | BG11: =IF($F11>0,YEAR($F11),) -> 2024 | BH11: =IF($AF11>0,YEAR($AF11),) -> 2024 | BI11: =IF($AH11>0,YEAR($AH11),) -> 2025 | BJ11: =IF($AI11>0,YEAR($AI11),) -> 2025 | BK11: =IF($AJ11>0,YEAR($AJ11),) -> 2025 | BL11: =IF($AK11>0,$AK11,) -> 2025 | BM11: =IF($AL11>0,$AL11,) -> 2025 | BN11: =IF(BH11>0,"taip","ne") -> taip | BO11: =IF(BI11>0,"taip","ne") -> taip | BP11: =IF(BJ11>0,"taip","ne") -> taip | BQ11: =IF(BL11>0,"taip","ne") -> taip | BR11: =IF(BM11>0,"taip","ne") -> taip | BS11: =IF(BK11>0,"taip","ne") -> taip
B12: =VLOOKUP(E12,'VPS1'!$J$10:$J$29,1,FALSE) -> MARI-LEADER-20VVG-09-01 | C12: =LEFT(E12,4) -> MARI | D12: MARIJAMPOLĖS VIETOS VEIKLOS GRUPĖ, A | E12: MARI-LEADER-20VVG-09-01 | F12: 45596 | G12: DAUKŠIŲ MIESTELIO BENDRUOMENĖ, A | H12: 300085669 | I12: MARI-LEADER-09-2-2 | J12: 20VS-PV-24-2-07751-PR001 | K12: Bendrystės, kultūrinio bendradarbiavimo ir pažinimo keliu | L12: 25155.9 | M12: EŽŪFKP | N12: Juridinis asmuo | O12: NVO | S12: taip | X12: taip | AC12: taip | AD12: Paramos administravimas | AE12: 95 | AF12: 45622 | AG12: 22859 | AH12: 45715 | AI12: 45715 | AK12: 2025 | AS12: 90 | BG12: =IF($F12>0,YEAR($F12),) -> 2024 | BH12: =IF($AF12>0,YEAR($AF12),) -> 2024 | BI12: =IF($AH12>0,YEAR($AH12),) -> 2025 | BJ12: =IF($AI12>0,YEAR($AI12),) -> 2025 | BK12: =IF($AJ12>0,YEAR($AJ12),) -> 0 | BL12: =IF($AK12>0,$AK12,) -> 2025 | BM12: =IF($AL12>0,$AL12,) -> 0 | BN12: =IF(BH12>0,"taip","ne") -> taip | BO12: =IF(BI12>0,"taip","ne") -> taip | BP12: =IF(BJ12>0,"taip","ne") -> taip | BQ12: =IF(BL12>0,"taip","ne") -> taip | BR12: =IF(BM12>0,"taip","ne") -> ne | BS12: =IF(BK12>0,"taip","ne") -> ne
B13: =VLOOKUP(E13,'VPS1'!$J$10:$J$29,1,FALSE) -> MARI-LEADER-20VVG-09-01 | C13: =LEFT(E13,4) -> MARI | D13: MARIJAMPOLĖS VIETOS VEIKLOS GRUPĖ, A | E13: MARI-LEADER-20VVG-09-01 | F13: 45596 | G13: BARAGINĖS KAIMO BENDRUOMENĖ, A | H13: 300628734 | I13: MARI-LEADER-09-2-3 | J13: 20VS-PV-24-2-07749-PR001 | K13: Bendruomeniškumo ir lėtojo turizmo skatinimas Baraginės, Marijampolės savivaldybės Varnupių ir Valavičių kaimo bendruomenėse | L13: 25155.19 | M13: EŽŪFKP | N13: Juridinis asmuo | O13: NVO | S13: taip | X13: taip | AC13: taip | AD13: Paramos administravimas | AE13: 95 | AF13: 45622 | AG13: 25155 | AH13: 45688 | AI13: 45688 | AJ13: 45908 | AK13: 2025 | AL13: 2025 | AS13: 81 | BC13: 128 | BG13: =IF($F13>0,YEAR($F13),) -> 2024 | BH13: =IF($AF13>0,YEAR($AF13),) -> 2024 | BI13: =IF($AH13>0,YEAR($AH13),) -> 2025 | BJ13: =IF($AI13>0,YEAR($AI13),) -> 2025 | BK13: =IF($AJ13>0,YEAR($AJ13),) -> 2025 | BL13: =IF($AK13>0,$AK13,) -> 2025 | BM13: =IF($AL13>0,$AL13,) -> 2025 | BN13: =IF(BH13>0,"taip","ne") -> taip | BO13: =IF(BI13>0,"taip","ne") -> taip | BP13: =IF(BJ13>0,"taip","ne") -> taip | BQ13: =IF(BL13>0,"taip","ne") -> taip | BR13: =IF(BM13>0,"taip","ne") -> taip | BS13: =IF(BK13>0,"taip","ne") -> taip
B14: =VLOOKUP(E14,'VPS1'!$J$10:$J$29,1,FALSE) -> MARI-LEADER-20VVG-03-02 | C14: =LEFT(E14,4) -> MARI | D14: MARIJAMPOLĖS VIETOS VEIKLOS GRUPĖ, A | E14: MARI-LEADER-20VVG-03-02 | F14: 45596 | G14: MB DOVINĖS VINGIS, MB | H14: 306962961 | I14: MARI-LEADER-03-3-1 | J14: 20VS-PV-24-2-07748-PR001 | K14: MB "Dovinės vingis" verslo pradžia | L14: 64998.83 | M14: EŽŪFKP | N14: Juridinis asmuo | O14: MVĮ | S14: taip | X14: taip | Y14: taip | Z14: taip | AB14: taip | AD14: Paramos administravimas | AE14: 70 | AF14: 45622 | AG14: 64999 | AH14: 45695 | AO14: 1 | AP14: 1 | AR14: 106 | BG14: =IF($F14>0,YEAR($F14),) -> 2024 | BH14: =IF($AF14>0,YEAR($AF14),) -> 2024 | BI14: =IF($AH14>0,YEAR($AH14),) -> 2025 | BJ14: =IF($AI14>0,YEAR($AI14),) -> 0 | BK14: =IF($AJ14>0,YEAR($AJ14),) -> 0 | BL14: =IF($AK14>0,$AK14,) -> 0 | BM14: =IF($AL14>0,$AL14,) -> 0 | BN14: =IF(BH14>0,"taip","ne") -> taip | BO14: =IF(BI14>0,"taip","ne") -> taip | BP14: =IF(BJ14>0,"taip","ne") -> ne | BQ14: =IF(BL14>0,"taip","ne") -> ne | BR14: =IF(BM14>0,"taip","ne") -> ne | BS14: =IF(BK14>0,"taip","ne") -> ne
B15: =VLOOKUP(E15,'VPS1'!$J$10:$J$29,1,FALSE) -> MARI-LEADER-20VVG-03-02 | C15: =LEFT(E15,4) -> MARI | D15: MARIJAMPOLĖS VIETOS VEIKLOS GRUPĖ, A | E15: MARI-LEADER-20VVG-03-02 | F15: 45807 | G15: MB VIENAS RENGINYS, MB | H15: 307130729 | I15: MARI-LEADER-03-4-4 | J15: 20VS-PV-25-2-02834-PR001 | K15: MB „Vienas renginys“ ekonominės veiklos kūrimas | L15: 74994.1 | M15: EŽŪFKP | N15: Juridinis asmuo | O15: MVĮ | S15: taip | W15: taip | X15: taip | Y15: taip | Z15: taip | AB15: taip | AD15: Sutarties rengimas | AE15: 100 | AF15: 45819 | AG15: 65000 | AH15: 45982 | AO15: 3 | AP15: 1 | AR15: 200 | BG15: =IF($F15>0,YEAR($F15),) -> 2025 | BH15: =IF($AF15>0,YEAR($AF15),) -> 2025 | BI15: =IF($AH15>0,YEAR($AH15),) -> 2025 | BJ15: =IF($AI15>0,YEAR($AI15),) -> 0 | BK15: =IF($AJ15>0,YEAR($AJ15),) -> 0 | BL15: =IF($AK15>0,$AK15,) -> 0 | BM15: =IF($AL15>0,$AL15,) -> 0 | BN15: =IF(BH15>0,"taip","ne") -> taip | BO15: =IF(BI15>0,"taip","ne") -> taip | BP15: =IF(BJ15>0,"taip","ne") -> ne | BQ15: =IF(BL15>0,"taip","ne") -> ne | BR15: =IF(BM15>0,"taip","ne") -> ne | BS15: =IF(BK15>0,"taip","ne") -> ne
B16: =VLOOKUP(E16,'VPS1'!$J$10:$J$29,1,FALSE) -> MARI-LEADER-20VVG-03-02 | C16: =LEFT(E16,4) -> MARI | D16: MARIJAMPOLĖS VIETOS VEIKLOS GRUPĖ, A | E16: MARI-LEADER-20VVG-03-02 | F16: 45807 | G16: MB "MODERNI TVORA", MB | H16: 305174431 | I16: MARI-LEADER-03-4-1 | J16: 20VS-PV-25-2-02885-PR001 | K16: MB "Moderni tvora"gamybos pajėgumų plėtra | L16: 13134.29 | M16: EŽŪFKP | N16: Juridinis asmuo | O16: MVĮ | S16: taip | X16: taip | Y16: taip | Z16: taip | AB16: taip | AD16: Paramos administravimas | AE16: 60 | AF16: 45819 | AG16: 13134 | AH16: 45932 | AI16: 45979 | AO16: 2 | AQ16: 1 | AR16: 156 | BG16: =IF($F16>0,YEAR($F16),) -> 2025 | BH16: =IF($AF16>0,YEAR($AF16),) -> 2025 | BI16: =IF($AH16>0,YEAR($AH16),) -> 2025 | BJ16: =IF($AI16>0,YEAR($AI16),) -> 2025 | BK16: =IF($AJ16>0,YEAR($AJ16),) -> 0 | BL16: =IF($AK16>0,$AK16,) -> 0 | BM16: =IF($AL16>0,$AL16,) -> 0 | BN16: =IF(BH16>0,"taip","ne") -> taip | BO16: =IF(BI16>0,"taip","ne") -> taip | BP16: =IF(BJ16>0,"taip","ne") -> taip | BQ16: =IF(BL16>0,"taip","ne") -> ne | BR16: =IF(BM16>0,"taip","ne") -> ne | BS16: =IF(BK16>0,"taip","ne") -> ne
B17: =VLOOKUP(E17,'VPS1'!$J$10:$J$29,1,FALSE) -> MARI-LEADER-20VVG-06-04 | C17: =LEFT(E17,4) -> MARI | D17: MARIJAMPOLĖS VIETOS VEIKLOS GRUPĖ, A | E17: MARI-LEADER-20VVG-06-04 | F17: 45898 | G17: MB Allmedica | H17: 307130519 | I17: MARI-LEADER-06-5-1 | J17: 20VS-PV-25-2-03685-PR001 | K17: Psichikos sveikatos centro įkūrimas | L17: 65000 | M17: EŽŪFKP | N17: Juridinis asmuo | O17: MVĮ | AD17: Vertinimas | AE17: 100 | AF17: 45919 | BG17: =IF($F17>0,YEAR($F17),) -> 2025 | BH17: =IF($AF17>0,YEAR($AF17),) -> 2025 | BI17: =IF($AH17>0,YEAR($AH17),) -> 0 | BJ17: =IF($AI17>0,YEAR($AI17),) -> 0 | BK17: =IF($AJ17>0,YEAR($AJ17),) -> 0 | BL17: =IF($AK17>0,$AK17,) -> 0 | BM17: =IF($AL17>0,$AL17,) -> 0 | BN17: =IF(BH17>0,"taip","ne") -> taip | BO17: =IF(BI17>0,"taip","ne") -> ne | BP17: =IF(BJ17>0,"taip","ne") -> ne | BQ17: =IF(BL17>0,"taip","ne") -> ne | BR17: =IF(BM17>0,"taip","ne") -> ne | BS17: =IF(BK17>0,"taip","ne") -> ne
B18: =VLOOKUP(E18,'VPS1'!$J$10:$J$29,1,FALSE) -> MARI-LEADER-20VVG-06-04 | C18: =LEFT(E18,4) -> MARI | D18: MARIJAMPOLĖS VIETOS VEIKLOS GRUPĖ, A | E18: MARI-LEADER-20VVG-06-04 | F18: 45900 | G18: VŠĮ "AUTO ŽALŲ VALDYMAS", VŠ | H18: 307402759 | I18: MARI-LEADER-06-5-3 | J18: 20VS-PV-25-2-03688-PR001 | K18: Auto žalų administravimo sklaida | L18: 64985.76 | M18: EŽŪFKP | N18: Juridinis asmuo | O18: MVĮ | AD18: Vertinimas | AE18: 60 | AF18: 45919 | BG18: =IF($F18>0,YEAR($F18),) -> 2025 | BH18: =IF($AF18>0,YEAR($AF18),) -> 2025 | BI18: =IF($AH18>0,YEAR($AH18),) -> 0 | BJ18: =IF($AI18>0,YEAR($AI18),) -> 0 | BK18: =IF($AJ18>0,YEAR($AJ18),) -> 0 | BL18: =IF($AK18>0,$AK18,) -> 0 | BM18: =IF($AL18>0,$AL18,) -> 0 | BN18: =IF(BH18>0,"taip","ne") -> taip | BO18: =IF(BI18>0,"taip","ne") -> ne | BP18: =IF(BJ18>0,"taip","ne") -> ne | BQ18: =IF(BL18>0,"taip","ne") -> ne | BR18: =IF(BM18>0,"taip","ne") -> ne | BS18: =IF(BK18>0,"taip","ne") -> ne
B19: =VLOOKUP(E19,'VPS1'!$J$10:$J$29,1,FALSE) -> MARI-LEADER-20VVG-03-02 | C19: =LEFT(E19,4) -> MARI | D19: MARIJAMPOLĖS VIETOS VEIKLOS GRUPĖ, A | E19: MARI-LEADER-20VVG-03-02 | F19: 45960 | G19: MB "OnTime LT" | H19: 306374627 | I19: MARI-LEADER-03-7-1 | J19: 20VS-PV-25-2-05382-PR001 | K19: MB "OnTime LT" verslo plėtra | L19: 64275.04 | M19: EŽŪFKP | N19: Juridinis asmuo | O19: MVĮ | AD19: Vertinimas | AE19: 100 | AF19: 45978 | BG19: =IF($F19>0,YEAR($F19),) -> 2025 | BH19: =IF($AF19>0,YEAR($AF19),) -> 2025 | BI19: =IF($AH19>0,YEAR($AH19),) -> 0 | BJ19: =IF($AI19>0,YEAR($AI19),) -> 0 | BK19: =IF($AJ19>0,YEAR($AJ19),) -> 0 | BL19: =IF($AK19>0,$AK19,) -> 0 | BM19: =IF($AL19>0,$AL19,) -> 0 | BN19: =IF(BH19>0,"taip","ne") -> taip | BO19: =IF(BI19>0,"taip","ne") -> ne | BP19: =IF(BJ19>0,"taip","ne") -> ne | BQ19: =IF(BL19>0,"taip","ne") -> ne | BR19: =IF(BM19>0,"taip","ne") -> ne | BS19: =IF(BK19>0,"taip","ne") -> ne
B20: =VLOOKUP(E20,'VPS1'!$J$10:$J$29,1,FALSE) -> MARI-LEADER-20VVG-09-01 | C20: =LEFT(E20,4) -> MARI | D20: MARIJAMPOLĖS VIETOS VEIKLOS GRUPĖ, A | E20: MARI-LEADER-20VVG-09-01 | F20: 45960 | G20: Sūduvos bendruomenė | H20: 302596324 | I20: MARI-LEADER-09-6-1 | J20: 20VS-PV-25-2-05383-PR001 | K20: "Bendruomeniškumo pamoka per kultūrinę patirtį Sūduvos, Baraginės, gudelių ir Naujienos kaimo bendruomenėse" | L20: 25156.22 | M20: EŽŪFKP | N20: Juridinis asmuo | O20: NVO | AD20: Vertinimas | AE20: 100 | AF20: 45978 | BG20: =IF($F20>0,YEAR($F20),) -> 2025 | BH20: =IF($AF20>0,YEAR($AF20),) -> 2025 | BI20: =IF($AH20>0,YEAR($AH20),) -> 0 | BJ20: =IF($AI20>0,YEAR($AI20),) -> 0 | BK20: =IF($AJ20>0,YEAR($AJ20),) -> 0 | BL20: =IF($AK20>0,$AK20,) -> 0 | BM20: =IF($AL20>0,$AL20,) -> 0 | BN20: =IF(BH20>0,"taip","ne") -> taip | BO20: =IF(BI20>0,"taip","ne") -> ne | BP20: =IF(BJ20>0,"taip","ne") -> ne | BQ20: =IF(BL20>0,"taip","ne") -> ne | BR20: =IF(BM20>0,"taip","ne") -> ne | BS20: =IF(BK20>0,"taip","ne") -> ne
B21: =VLOOKUP(E21,'VPS1'!$J$10:$J$29,1,FALSE) -> MARI-LEADER-20VVG-09-01 | C21: =LEFT(E21,4) -> MARI | D21: MARIJAMPOLĖS VIETOS VEIKLOS GRUPĖ, A | E21: MARI-LEADER-20VVG-09-01 | F21: 45961 | G21: Tursučių kaimo bendruomenė | H21: 302347974 | I21: MARI-LEADER-09-6-2 | J21: 20VS-PV-25-2-05356-PR001 | K21: "Pažink, kurk, stiprink bendruomenę" | L21: 25156.48 | M21: EŽŪFKP | N21: Juridinis asmuo | O21: NVO | AA21: taip | AD21: Vertinimas | AE21: 95 | AF21: 45978 | BG21: =IF($F21>0,YEAR($F21),) -> 2025 | BH21: =IF($AF21>0,YEAR($AF21),) -> 2025 | BI21: =IF($AH21>0,YEAR($AH21),) -> 0 | BJ21: =IF($AI21>0,YEAR($AI21),) -> 0 | BK21: =IF($AJ21>0,YEAR($AJ21),) -> 0 | BL21: =IF($AK21>0,$AK21,) -> 0 | BM21: =IF($AL21>0,$AL21,) -> 0 | BN21: =IF(BH21>0,"taip","ne") -> taip | BO21: =IF(BI21>0,"taip","ne") -> ne | BP21: =IF(BJ21>0,"taip","ne") -> ne | BQ21: =IF(BL21>0,"taip","ne") -> ne | BR21: =IF(BM21>0,"taip","ne") -> ne | BS21: =IF(BK21>0,"taip","ne") -> ne
B22: =VLOOKUP(E22,'VPS1'!$J$10:$J$29,1,FALSE) -> MARI-LEADER-20VVG-09-01 | C22: =LEFT(E22,4) -> MARI | D22: MARIJAMPOLĖS VIETOS VEIKLOS GRUPĖ, A | E22: MARI-LEADER-20VVG-09-01 | F22: 45961 | G22: Igliškėlių kaimo bendruomenė | H22: 301100533 | I22: MARI-LEADER-09-6-3 | J22: 20VS-PV-25-2-05384-PR001 | K22: "Bendruomeniškumo skatinimas Marijampolės savivaldybės Igliškėlių, Varnupių ir Meškučių kaimo bendruomenėse" | L22: 25114.32 | M22: EŽŪFKP | N22: Juridinis asmuo | O22: NVO | AD22: Vertinimas | AE22: 95 | AF22: 45978 | BG22: =IF($F22>0,YEAR($F22),) -> 2025 | BH22: =IF($AF22>0,YEAR($AF22),) -> 2025 | BI22: =IF($AH22>0,YEAR($AH22),) -> 0 | BJ22: =IF($AI22>0,YEAR($AI22),) -> 0 | BK22: =IF($AJ22>0,YEAR($AJ22),) -> 0 | BL22: =IF($AK22>0,$AK22,) -> 0 | BM22: =IF($AL22>0,$AL22,) -> 0 | BN22: =IF(BH22>0,"taip","ne") -> taip | BO22: =IF(BI22>0,"taip","ne") -> ne | BP22: =IF(BJ22>0,"taip","ne") -> ne | BQ22: =IF(BL22>0,"taip","ne") -> ne | BR22: =IF(BM22>0,"taip","ne") -> ne | BS22: =IF(BK22>0,"taip","ne") -> ne
B23: =VLOOKUP(E23,'VPS1'!$J$10:$J$29,1,FALSE) -> MARI-LEADER-20VVG-03-02 | C23: =LEFT(E23,4) -> MARI | D23: MARIJAMPOLĖS VIETOS VEIKLOS GRUPĖ, A | E23: MARI-LEADER-20VVG-03-02 | F23: 45443 | G23: MB Maceika | H23: 306721024 | I23: MARI-LEADER-03-1-1 | J23: 20VS-PV-24-2-05221-PR001 | K23: MB "Maceika" verslo pradžia kaime | L23: 58498.46 | M23: EŽŪFKP | N23: Juridinis asmuo | O23: MVĮ | AE23: 100 | AF23: 45469 | AG23: 0 | AH23: 45594 | BG23: =IF($F23>0,YEAR($F23),) -> 2024 | BH23: =IF($AF23>0,YEAR($AF23),) -> 2024 | BI23: =IF($AH23>0,YEAR($AH23),) -> 2024 | BJ23: =IF($AI23>0,YEAR($AI23),) -> 0 | BK23: =IF($AJ23>0,YEAR($AJ23),) -> 0 | BL23: =IF($AK23>0,$AK23,) -> 0 | BM23: =IF($AL23>0,$AL23,) -> 0 | BN23: =IF(BH23>0,"taip","ne") -> taip | BO23: =IF(BI23>0,"taip","ne") -> taip | BP23: =IF(BJ23>0,"taip","ne") -> ne | BQ23: =IF(BL23>0,"taip","ne") -> ne | BR23: =IF(BM23>0,"taip","ne") -> ne | BS23: =IF(BK23>0,"taip","ne") -> ne
B24: =VLOOKUP(E24,'VPS1'!$J$10:$J$29,1,FALSE) -> #N/A | C24: =LEFT(E24,4) | P24: =IF($N24="fizinis asmuo","užpildykite","nepildyti") -> nepildyti | Q24: =IF($N24="fizinis asmuo","užpildykite","nepildyti") -> nepildyti | BG24: =IF($F24>0,YEAR($F24),) -> 0 | BH24: =IF($AF24>0,YEAR($AF24),) -> 0 | BI24: =IF($AH24>0,YEAR($AH24),) -> 0 | BJ24: =IF($AI24>0,YEAR($AI24),) -> 0 | BK24: =IF($AJ24>0,YEAR($AJ24),) -> 0 | BL24: =IF($AK24>0,$AK24,) -> 0 | BM24: =IF($AL24>0,$AL24,) -> 0 | BN24: =IF(BH24>0,"taip","ne") -> ne | BO24: =IF(BI24>0,"taip","ne") -> ne | BP24: =IF(BJ24>0,"taip","ne") -> ne | BQ24: =IF(BL24>0,"taip","ne") -> ne | BR24: =IF(BM24>0,"taip","ne") -> ne | BS24: =IF(BK24>0,"taip","ne") -> ne
B25: =VLOOKUP(E25,'VPS1'!$J$10:$J$29,1,FALSE) -> #N/A | C25: =LEFT(E25,4) | P25: =IF($N25="fizinis asmuo","užpildykite","nepildyti") -> nepildyti | Q25: =IF($N25="fizinis asmuo","užpildykite","nepildyti") -> nepildyti | BG25: =IF($F25>0,YEAR($F25),) -> 0 | BH25: =IF($AF25>0,YEAR($AF25),) -> 0 | BI25: =IF($AH25>0,YEAR($AH25),) -> 0 | BJ25: =IF($AI25>0,YEAR($AI25),) -> 0 | BK25: =IF($AJ25>0,YEAR($AJ25),) -> 0 | BL25: =IF($AK25>0,$AK25,) -> 0 | BM25: =IF($AL25>0,$AL25,) -> 0 | BN25: =IF(BH25>0,"taip","ne") -> ne | BO25: =IF(BI25>0,"taip","ne") -> ne | BP25: =IF(BJ25>0,"taip","ne") -> ne | BQ25: =IF(BL25>0,"taip","ne") -> ne | BR25: =IF(BM25>0,"taip","ne") -> ne | BS25: =IF(BK25>0,"taip","ne") -> ne
B26: =VLOOKUP(E26,'VPS1'!$J$10:$J$29,1,FALSE) -> #N/A | C26: =LEFT(E26,4) | P26: =IF($N26="fizinis asmuo","užpildykite","nepildyti") -> nepildyti | Q26: =IF($N26="fizinis asmuo","užpildykite","nepildyti") -> nepildyti | BG26: =IF($F26>0,YEAR($F26),) -> 0 | BH26: =IF($AF26>0,YEAR($AF26),) -> 0 | BI26: =IF($AH26>0,YEAR($AH26),) -> 0 | BJ26: =IF($AI26>0,YEAR($AI26),) -> 0 | BK26: =IF($AJ26>0,YEAR($AJ26),) -> 0 | BL26: =IF($AK26>0,$AK26,) -> 0 | BM26: =IF($AL26>0,$AL26,) -> 0 | BN26: =IF(BH26>0,"taip","ne") -> ne | BO26: =IF(BI26>0,"taip","ne") -> ne | BP26: =IF(BJ26>0,"taip","ne") -> ne | BQ26: =IF(BL26>0,"taip","ne") -> ne | BR26: =IF(BM26>0,"taip","ne") -> ne | BS26: =IF(BK26>0,"taip","ne") -> ne
B27: =VLOOKUP(E27,'VPS1'!$J$10:$J$29,1,FALSE) -> #N/A | C27: =LEFT(E27,4) | P27: =IF($N27="fizinis asmuo","užpildykite","nepildyti") -> nepildyti | Q27: =IF($N27="fizinis asmuo","užpildykite","nepildyti") -> nepildyti | BG27: =IF($F27>0,YEAR($F27),) -> 0 | BH27: =IF($AF27>0,YEAR($AF27),) -> 0 | BI27: =IF($AH27>0,YEAR($AH27),) -> 0 | BJ27: =IF($AI27>0,YEAR($AI27),) -> 0 | BK27: =IF($AJ27>0,YEAR($AJ27),) -> 0 | BL27: =IF($AK27>0,$AK27,) -> 0 | BM27: =IF($AL27>0,$AL27,) -> 0 | BN27: =IF(BH27>0,"taip","ne") -> ne | BO27: =IF(BI27>0,"taip","ne") -> ne | BP27: =IF(BJ27>0,"taip","ne") -> ne | BQ27: =IF(BL27>0,"taip","ne") -> ne | BR27: =IF(BM27>0,"taip","ne") -> ne | BS27: =IF(BK27>0,"taip","ne") -> ne
B28: =VLOOKUP(E28,'VPS1'!$J$10:$J$29,1,FALSE) -> #N/A | C28: =LEFT(E28,4) | P28: =IF($N28="fizinis asmuo","užpildykite","nepildyti") -> nepildyti | Q28: =IF($N28="fizinis asmuo","užpildykite","nepildyti") -> nepildyti | BG28: =IF($F28>0,YEAR($F28),) -> 0 | BH28: =IF($AF28>0,YEAR($AF28),) -> 0 | BI28: =IF($AH28>0,YEAR($AH28),) -> 0 | BJ28: =IF($AI28>0,YEAR($AI28),) -> 0 | BK28: =IF($AJ28>0,YEAR($AJ28),) -> 0 | BL28: =IF($AK28>0,$AK28,) -> 0 | BM28: =IF($AL28>0,$AL28,) -> 0 | BN28: =IF(BH28>0,"taip","ne") -> ne | BO28: =IF(BI28>0,"taip","ne") -> ne | BP28: =IF(BJ28>0,"taip","ne") -> ne | BQ28: =IF(BL28>0,"taip","ne") -> ne | BR28: =IF(BM28>0,"taip","ne") -> ne | BS28: =IF(BK28>0,"taip","ne") -> ne
B29: =VLOOKUP(E29,'VPS1'!$J$10:$J$29,1,FALSE) -> #N/A | C29: =LEFT(E29,4) | P29: =IF($N29="fizinis asmuo","užpildykite","nepildyti") -> nepildyti | Q29: =IF($N29="fizinis asmuo","užpildykite","nepildyti") -> nepildyti | BG29: =IF($F29>0,YEAR($F29),) -> 0 | BH29: =IF($AF29>0,YEAR($AF29),) -> 0 | BI29: =IF($AH29>0,YEAR($AH29),) -> 0 | BJ29: =IF($AI29>0,YEAR($AI29),) -> 0 | BK29: =IF($AJ29>0,YEAR($AJ29),) -> 0 | BL29: =IF($AK29>0,$AK29,) -> 0 | BM29: =IF($AL29>0,$AL29,) -> 0 | BN29: =IF(BH29>0,"taip","ne") -> ne | BO29: =IF(BI29>0,"taip","ne") -> ne | BP29: =IF(BJ29>0,"taip","ne") -> ne | BQ29: =IF(BL29>0,"taip","ne") -> ne | BR29: =IF(BM29>0,"taip","ne") -> ne | BS29: =IF(BK29>0,"taip","ne") -> ne
B30: =VLOOKUP(E30,'VPS1'!$J$10:$J$29,1,FALSE) -> #N/A | C30: =LEFT(E30,4) | P30: =IF($N30="fizinis asmuo","užpildykite","nepildyti") -> nepildyti | Q30: =IF($N30="fizinis asmuo","užpildykite","nepildyti") -> nepildyti | BG30: =IF($F30>0,YEAR($F30),) -> 0 | BH30: =IF($AF30>0,YEAR($AF30),) -> 0 | BI30: =IF($AH30>0,YEAR($AH30),) -> 0 | BJ30: =IF($AI30>0,YEAR($AI30),) -> 0 | BK30: =IF($AJ30>0,YEAR($AJ30),) -> 0 | BL30: =IF($AK30>0,$AK30,) -> 0 | BM30: =IF($AL30>0,$AL30,) -> 0 | BN30: =IF(BH30>0,"taip","ne") -> ne | BO30: =IF(BI30>0,"taip","ne") -> ne | BP30: =IF(BJ30>0,"taip","ne") -> ne | BQ30: =IF(BL30>0,"taip","ne") -> ne | BR30: =IF(BM30>0,"taip","ne") -> ne | BS30: =IF(BK30>0,"taip","ne") -> ne
B31: =VLOOKUP(E31,'VPS1'!$J$10:$J$29,1,FALSE) -> #N/A | C31: =LEFT(E31,4) | P31: =IF($N31="fizinis asmuo","užpildykite","nepildyti") -> nepildyti | Q31: =IF($N31="fizinis asmuo","užpildykite","nepildyti") -> nepildyti | BG31: =IF($F31>0,YEAR($F31),) -> 0 | BH31: =IF($AF31>0,YEAR($AF31),) -> 0 | BI31: =IF($AH31>0,YEAR($AH31),) -> 0 | BJ31: =IF($AI31>0,YEAR($AI31),) -> 0 | BK31: =IF($AJ31>0,YEAR($AJ31),) -> 0 | BL31: =IF($AK31>0,$AK31,) -> 0 | BM31: =IF($AL31>0,$AL31,) -> 0 | BN31: =IF(BH31>0,"taip","ne") -> ne | BO31: =IF(BI31>0,"taip","ne") -> ne | BP31: =IF(BJ31>0,"taip","ne") -> ne | BQ31: =IF(BL31>0,"taip","ne") -> ne | BR31: =IF(BM31>0,"taip","ne") -> ne | BS31: =IF(BK31>0,"taip","ne") -> ne
B32: =VLOOKUP(E32,'VPS1'!$J$10:$J$29,1,FALSE) -> #N/A | C32: =LEFT(E32,4) | P32: =IF($N32="fizinis asmuo","užpildykite","nepildyti") -> nepildyti | Q32: =IF($N32="fizinis asmuo","užpildykite","nepildyti") -> nepildyti | BG32: =IF($F32>0,YEAR($F32),) -> 0 | BH32: =IF($AF32>0,YEAR($AF32),) -> 0 | BI32: =IF($AH32>0,YEAR($AH32),) -> 0 | BJ32: =IF($AI32>0,YEAR($AI32),) -> 0 | BK32: =IF($AJ32>0,YEAR($AJ32),) -> 0 | BL32: =IF($AK32>0,$AK32,) -> 0 | BM32: =IF($AL32>0,$AL32,) -> 0 | BN32: =IF(BH32>0,"taip","ne") -> ne | BO32: =IF(BI32>0,"taip","ne") -> ne | BP32: =IF(BJ32>0,"taip","ne") -> ne | BQ32: =IF(BL32>0,"taip","ne") -> ne | BR32: =IF(BM32>0,"taip","ne") -> ne | BS32: =IF(BK32>0,"taip","ne") -> ne
B33: =VLOOKUP(E33,'VPS1'!$J$10:$J$29,1,FALSE) -> #N/A | C33: =LEFT(E33,4) | P33: =IF($N33="fizinis asmuo","užpildykite","nepildyti") -> nepildyti | Q33: =IF($N33="fizinis asmuo","užpildykite","nepildyti") -> nepildyti | BG33: =IF($F33>0,YEAR($F33),) -> 0 | BH33: =IF($AF33>0,YEAR($AF33),) -> 0 | BI33: =IF($AH33>0,YEAR($AH33),) -> 0 | BJ33: =IF($AI33>0,YEAR($AI33),) -> 0 | BK33: =IF($AJ33>0,YEAR($AJ33),) -> 0 | BL33: =IF($AK33>0,$AK33,) -> 0 | BM33: =IF($AL33>0,$AL33,) -> 0 | BN33: =IF(BH33>0,"taip","ne") -> ne | BO33: =IF(BI33>0,"taip","ne") -> ne | BP33: =IF(BJ33>0,"taip","ne") -> ne | BQ33: =IF(BL33>0,"taip","ne") -> ne | BR33: =IF(BM33>0,"taip","ne") -> ne | BS33: =IF(BK33>0,"taip","ne") -> ne
B34: =VLOOKUP(E34,'VPS1'!$J$10:$J$29,1,FALSE) -> #N/A | C34: =LEFT(E34,4) | P34: =IF($N34="fizinis asmuo","užpildykite","nepildyti") -> nepildyti | Q34: =IF($N34="fizinis asmuo","užpildykite","nepildyti") -> nepildyti | BG34: =IF($F34>0,YEAR($F34),) -> 0 | BH34: =IF($AF34>0,YEAR($AF34),) -> 0 | BI34: =IF($AH34>0,YEAR($AH34),) -> 0 | BJ34: =IF($AI34>0,YEAR($AI34),) -> 0 | BK34: =IF($AJ34>0,YEAR($AJ34),) -> 0 | BL34: =IF($AK34>0,$AK34,) -> 0 | BM34: =IF($AL34>0,$AL34,) -> 0 | BN34: =IF(BH34>0,"taip","ne") -> ne | BO34: =IF(BI34>0,"taip","ne") -> ne | BP34: =IF(BJ34>0,"taip","ne") -> ne | BQ34: =IF(BL34>0,"taip","ne") -> ne | BR34: =IF(BM34>0,"taip","ne") -> ne | BS34: =IF(BK34>0,"taip","ne") -> ne
B35: =VLOOKUP(E35,'VPS1'!$J$10:$J$29,1,FALSE) -> #N/A | C35: =LEFT(E35,4) | P35: =IF($N35="fizinis asmuo","užpildykite","nepildyti") -> nepildyti | Q35: =IF($N35="fizinis asmuo","užpildykite","nepildyti") -> nepildyti | BG35: =IF($F35>0,YEAR($F35),) -> 0 | BH35: =IF($AF35>0,YEAR($AF35),) -> 0 | BI35: =IF($AH35>0,YEAR($AH35),) -> 0 | BJ35: =IF($AI35>0,YEAR($AI35),) -> 0 | BK35: =IF($AJ35>0,YEAR($AJ35),) -> 0 | BL35: =IF($AK35>0,$AK35,) -> 0 | BM35: =IF($AL35>0,$AL35,) -> 0 | BN35: =IF(BH35>0,"taip","ne") -> ne | BO35: =IF(BI35>0,"taip","ne") -> ne | BP35: =IF(BJ35>0,"taip","ne") -> ne | BQ35: =IF(BL35>0,"taip","ne") -> ne | BR35: =IF(BM35>0,"taip","ne") -> ne | BS35: =IF(BK35>0,"taip","ne") -> ne
... B4860: =VLOOKUP(E4860,'VPS1'!$J$10:$J$29,1,FALSE) -> #N/A | C4860: =LEFT(E4860,4) | P4860: =IF($N4860="fizinis asmuo","užpildykite","nepildyti") -> nepildyti | Q4860: =IF($N4860="fizinis asmuo","užpildykite","nepildyti") -> nepildyti | BG4860: =IF($F4860>0,YEAR($F4860),) -> 0 | BH4860: =IF($AF4860>0,YEAR($AF4860),) -> 0 | BI4860: =IF($AH4860>0,YEAR($AH4860),) -> 0 | BJ4860: =IF($AI4860>0,YEAR($AI4860),) -> 0 | BK4860: =IF($AJ4860>0,YEAR($AJ4860),) -> 0 | BL4860: =IF($AK4860>0,$AK4860,) -> 0 | BM4860: =IF($AL4860>0,$AL4860,) -> 0 | BN4860: =IF(BH4860>0,"taip","ne") -> ne | BO4860: =IF(BI4860>0,"taip","ne") -> ne | BP4860: =IF(BJ4860>0,"taip","ne") -> ne | BQ4860: =IF(BL4860>0,"taip","ne") -> ne | BR4860: =IF(BM4860>0,"taip","ne") -> ne | BS4860: =IF(BK4860>0,"taip","ne") -> ne

Sheet A1
B1: Ataskaita: paskelbti kvietimai teikti vietos projektų paraiškas
B3: NMA vaidmuo: | C3: -
B4: VVG vaidmuo: | C4: -
H5: Paskelbti kvietimai teikti paraiškas | I5: Paskelbti kvietimai teikti paraiškas | J5: Paskelbti kvietimai teikti paraiškas
B6: VPS priemonės numeris | C6: VVG kodas | D6: VPS priemonės pavadinimas | E6: VPS priemonės kodas (unikalus) | F6: Finansavimo šaltinis | G6: Vietos projektams įgyvendinti numatyta lėšų suma, Eur | H6: Bendras skaičius (vnt.) | I6: Bendra suma (Eur) | J6: Proc. nuo vietos projektams skirtos sumos
H7: Iš viso nuo VPS įgyvendinimo pradžios | I7: Iš viso nuo VPS įgyvendinimo pradžios | J7: Iš viso nuo VPS įgyvendinimo pradžios
B8: Užsipildo automatiškai pagal lapą VPS1 | C8: Užsipildo automatiškai pagal lapą VPS1 | D8: Užsipildo automatiškai pagal lapą VPS1 | E8: Užsipildo automatiškai pagal lapą VPS1 | F8: Užsipildo automatiškai pagal lapą VPS1 | G8: Užsipildo automatiškai pagal lapą VPS1 | H8: Užsipildo automatiškai pagal lapą D2 | I8: Užsipildo automatiškai pagal lapą D2 | J8: Užsipildo automatiškai (formulė)
B9: Iš viso | G9: =SUM(G10:G29) -> 1261564.8 | H9: =SUM(H10:H29) -> 7 | I9: =SUM(I10:I29) -> 865965.88 | J9: =IF(H9>0,I9/$G9*100,0) -> 68.642204
B10: 1 priemonė | C10: ='VPS1'!C10 -> MARI | D10: ='VPS1'!D10 -> Bendruomeniškumo skatinimas | E10: ='VPS1'!J10 -> MARI-LEADER-20VVG-09-01 | F10: ='VPS1'!L10 -> EŽŪFKP | G10: ='VPS1'!G10 -> 251564.8 | H10: =VLOOKUP($B10,'D2'!B9:J28,7,FALSE) -> 2 | I10: =VLOOKUP($B10,'D2'!B9:J28,8,FALSE) -> 150965.88 | J10: =IF(G10>0,I10/$G10*100,0) -> 60.010733
B11: 2 priemonė | C11: ='VPS1'!C11 -> MARI | D11: ='VPS1'!D11 -> Ne žemės ūkio verslo kūrimas ir plėtra | E11: ='VPS1'!J11 -> MARI-LEADER-20VVG-03-02 | F11: ='VPS1'!L11 -> EŽŪFKP | G11: ='VPS1'!G11 -> 650000 | H11: =VLOOKUP($B11,'D2'!B10:J29,7,FALSE) -> 4 | I11: =VLOOKUP($B11,'D2'!B10:J29,8,FALSE) -> 585000 | J11: =IF(G11>0,I11/$G11*100,0) -> 90
B12: 3 priemonė | C12: ='VPS1'!C12 -> MARI | D12: ='VPS1'!D12 -> Bendruomeninio verslo kūrimas ir plėtra | E12: ='VPS1'!J12 -> MARI-LEADER-20VVG-07-03 | F12: ='VPS1'!L12 -> EŽŪFKP | G12: ='VPS1'!G12 -> 100000 | H12: =VLOOKUP($B12,'D2'!B11:J30,7,FALSE) -> 0 | I12: =VLOOKUP($B12,'D2'!B11:J30,8,FALSE) -> 0 | J12: =IF(G12>0,I12/$G12*100,0) -> 0
B13: 4 priemonė | C13: ='VPS1'!C13 -> MARI | D13: ='VPS1'!D13 -> Socialinio verslo kūrimas ir plėtra | E13: ='VPS1'!J13 -> MARI-LEADER-20VVG-06-04 | F13: ='VPS1'!L13 -> EŽŪFKP | G13: ='VPS1'!G13 -> 260000 | H13: =VLOOKUP($B13,'D2'!B12:J31,7,FALSE) -> 1 | I13: =VLOOKUP($B13,'D2'!B12:J31,8,FALSE) -> 130000 | J13: =IF(G13>0,I13/$G13*100,0) -> 50
B14: 5 priemonė | C14: ='VPS1'!C14 -> 0 | D14: ='VPS1'!D14 -> 0 | E14: ='VPS1'!J14 -> 0 | F14: ='VPS1'!L14 -> EŽŪFKP | G14: ='VPS1'!G14 -> 0 | H14: =VLOOKUP($B14,'D2'!B13:J32,7,FALSE) -> 0 | I14: =VLOOKUP($B14,'D2'!B13:J32,8,FALSE) -> 0 | J14: =IF(G14>0,I14/$G14*100,0) -> 0
B15: 6 priemonė | C15: ='VPS1'!C15 -> 0 | D15: ='VPS1'!D15 -> 0 | E15: ='VPS1'!J15 -> 0 | F15: ='VPS1'!L15 -> EŽŪFKP | G15: ='VPS1'!G15 -> 0 | H15: =VLOOKUP($B15,'D2'!B14:J33,7,FALSE) -> 0 | I15: =VLOOKUP($B15,'D2'!B14:J33,8,FALSE) -> 0 | J15: =IF(G15>0,I15/$G15*100,0) -> 0
B16: 7 priemonė | C16: ='VPS1'!C16 -> 0 | D16: ='VPS1'!D16 -> 0 | E16: ='VPS1'!J16 -> 0 | F16: ='VPS1'!L16 -> EŽŪFKP | G16: ='VPS1'!G16 -> 0 | H16: =VLOOKUP($B16,'D2'!B15:J34,7,FALSE) -> 0 | I16: =VLOOKUP($B16,'D2'!B15:J34,8,FALSE) -> 0 | J16: =IF(G16>0,I16/$G16*100,0) -> 0
B17: 8 priemonė | C17: ='VPS1'!C17 -> 0 | D17: ='VPS1'!D17 -> 0 | E17: ='VPS1'!J17 -> 0 | F17: ='VPS1'!L17 -> EŽŪFKP | G17: ='VPS1'!G17 -> 0 | H17: =VLOOKUP($B17,'D2'!B16:J35,7,FALSE) -> 0 | I17: =VLOOKUP($B17,'D2'!B16:J35,8,FALSE) -> 0 | J17: =IF(G17>0,I17/$G17*100,0) -> 0
B18: 9 priemonė | C18: ='VPS1'!C18 -> 0 | D18: ='VPS1'!D18 -> 0 | E18: ='VPS1'!J18 -> 0 | F18: ='VPS1'!L18 -> EŽŪFKP | G18: ='VPS1'!G18 -> 0 | H18: =VLOOKUP($B18,'D2'!B17:J36,7,FALSE) -> 0 | I18: =VLOOKUP($B18,'D2'!B17:J36,8,FALSE) -> 0 | J18: =IF(G18>0,I18/$G18*100,0) -> 0
B19: 10 priemonė | C19: ='VPS1'!C19 -> 0 | D19: ='VPS1'!D19 -> 0 | E19: ='VPS1'!J19 -> 0 | F19: ='VPS1'!L19 -> EŽŪFKP | G19: ='VPS1'!G19 -> 0 | H19: =VLOOKUP($B19,'D2'!B18:J37,7,FALSE) -> 0 | I19: =VLOOKUP($B19,'D2'!B18:J37,8,FALSE) -> 0 | J19: =IF(G19>0,I19/$G19*100,0) -> 0
B20: 11 priemonė | C20: ='VPS1'!C20 -> 0 | D20: ='VPS1'!D20 -> 0 | E20: ='VPS1'!J20 -> 0 | F20: ='VPS1'!L20 -> EŽŪFKP | G20: ='VPS1'!G20 -> 0 | H20: =VLOOKUP($B20,'D2'!B19:J38,7,FALSE) -> 0 | I20: =VLOOKUP($B20,'D2'!B19:J38,8,FALSE) -> 0 | J20: =IF(G20>0,I20/$G20*100,0) -> 0
B21: 12 priemonė | C21: ='VPS1'!C21 -> 0 | D21: ='VPS1'!D21 -> 0 | E21: ='VPS1'!J21 -> 0 | F21: ='VPS1'!L21 -> EŽŪFKP | G21: ='VPS1'!G21 -> 0 | H21: =VLOOKUP($B21,'D2'!B20:J39,7,FALSE) -> 0 | I21: =VLOOKUP($B21,'D2'!B20:J39,8,FALSE) -> 0 | J21: =IF(G21>0,I21/$G21*100,0) -> 0
... B29: 20 priemonė | C29: ='VPS1'!C29 -> 0 | D29: ='VPS1'!D29 -> 0 | E29: ='VPS1'!J29 -> 0 | F29: ='VPS1'!L29 -> EŽŪFKP | G29: ='VPS1'!G29 -> 0 | H29: =VLOOKUP($B29,'D2'!B28:J47,7,FALSE) -> 0 | I29: =VLOOKUP($B29,'D2'!B28:J47,8,FALSE) -> 0 | J29: =IF(G29>0,I29/$G29*100,0) -> 0

Sheet A2
B1: Ataskaita: NMA PAK patvirtinti projektai, pasirašytos sutartys (įgyvendinami projektai), įgyvendinti (baigti) projektai
A3: NMA vaidmuo: | B3: -
A4: VVG vaidmuo: | B4: -
G5: VVG PAK atrinkti projektai (paraiškos) | H5: VVG PAK atrinkti projektai (paraiškos) | I5: VVG PAK atrinkti projektai (paraiškos) | J5: VVG PAK atrinkti projektai (paraiškos) | K5: VVG PAK atrinkti projektai (paraiškos) | L5: VVG PAK atrinkti projektai (paraiškos) | M5: VVG PAK atrinkti projektai (paraiškos) | N5: VVG PAK atrinkti projektai (paraiškos) | O5: VVG PAK atrinkti projektai (paraiškos) | P5: VVG PAK atrinkti projektai (paraiškos) | Q5: VVG PAK atrinkti projektai (paraiškos) | R5: VVG PAK atrinkti projektai (paraiškos) | S5: VVG PAK atrinkti projektai (paraiškos) | T5: VVG PAK atrinkti projektai (paraiškos) | U5: VVG PAK atrinkti projektai (paraiškos) | V5: VVG PAK atrinkti projektai (paraiškos) | W5: VVG PAK atrinkti projektai (paraiškos) | X5: VVG PAK atrinkti projektai (paraiškos) | Y5: VVG PAK atrinkti projektai (paraiškos) | Z5: VVG PAK atrinkti projektai (paraiškos) | AA5: VVG PAK atrinkti projektai (paraiškos) | AB5: NMA PAK patvirtinti projektai (paraiškos) | AC5: NMA PAK patvirtinti projektai (paraiškos) | AD5: NMA PAK patvirtinti projektai (paraiškos) | AE5: NMA PAK patvirtinti projektai (paraiškos) | AF5: NMA PAK patvirtinti projektai (paraiškos) | AG5: NMA PAK patvirtinti projektai (paraiškos) | AH5: NMA PAK patvirtinti projektai (paraiškos) | AI5: NMA PAK patvirtinti projektai (paraiškos) | AJ5: NMA PAK patvirtinti projektai (paraiškos) | AK5: NMA PAK patvirtinti projektai (paraiškos) | AL5: NMA PAK patvirtinti projektai (paraiškos) | AM5: NMA PAK patvirtinti projektai (paraiškos) | AN5: NMA PAK patvirtinti projektai (paraiškos) | AO5: NMA PAK patvirtinti projektai (paraiškos) | AP5: NMA PAK patvirtinti projektai (paraiškos) | AQ5: NMA PAK patvirtinti projektai (paraiškos) | AR5: NMA PAK patvirtinti projektai (paraiškos) | AS5: NMA PAK patvirtinti projektai (paraiškos) | AT5: NMA PAK patvirtinti projektai (paraiškos) | AU5: NMA PAK patvirtinti projektai (paraiškos) | AV5: NMA PAK patvirtinti projektai (paraiškos) | AW5: Pasirašytos sutartys (įgyvendinami projektai) | AX5: Pasirašytos sutartys (įgyvendinami projektai) | AY5: Pasirašytos sutartys (įgyvendinami projektai) | AZ5: Pasirašytos sutartys (įgyvendinami projektai) | BA5: Pasirašytos sutartys (įgyvendinami projektai) | BB5: Pasirašytos sutartys (įgyvendinami projektai) | BC5: Pasirašytos sutartys (įgyvendinami projektai) | BD5: Pasirašytos sutartys (įgyvendinami projektai) | BE5: Pasirašytos sutartys (įgyvendinami projektai) | BF5: Pasirašytos sutartys (įgyvendinami projektai) | BG5: Pasirašytos sutartys (įgyvendinami projektai) | BH5: Pasirašytos sutartys (įgyvendinami projektai) | BI5: Pasirašytos sutartys (įgyvendinami projektai) | BJ5: Pasirašytos sutartys (įgyvendinami projektai) | BK5: Pasirašytos sutartys (įgyvendinami projektai) | BL5: Pasirašytos sutartys (įgyvendinami projektai) | BM5: Pasirašytos sutartys (įgyvendinami projektai) | BN5: Pasirašytos sutartys (įgyvendinami projektai) | BO5: Pasirašytos sutartys (įgyvendinami projektai) | BP5: Pasirašytos sutartys (įgyvendinami projektai) | BQ5: Pasirašytos sutartys (įgyvendinami projektai) | BR5: Įgyvendinti (baigti) projektai | BS5: Įgyvendinti (baigti) projektai | BT5: Įgyvendinti (baigti) projektai | BU5: Įgyvendinti (baigti) projektai | BV5: Įgyvendinti (baigti) projektai | BW5: Įgyvendinti (baigti) projektai | BX5: Įgyvendinti (baigti) projektai | BY5: Įgyvendinti (baigti) projektai | BZ5: Įgyvendinti (baigti) projektai | CA5: Įgyvendinti (baigti) projektai | CB5: Įgyvendinti (baigti) projektai | CC5: Įgyvendinti (baigti) projektai | CD5: Įgyvendinti (baigti) projektai | CE5: Įgyvendinti (baigti) projektai | CF5: Įgyvendinti (baigti) projektai | CG5: Įgyvendinti (baigti) projektai | CH5: Įgyvendinti (baigti) projektai | CI5: Įgyvendinti (baigti) projektai | CJ5: Įgyvendinti (baigti) projektai | CK5: Įgyvendinti (baigti) projektai | CL5: Įgyvendinti (baigti) projektai
A6: VPS priemonės numeris | B6: VVG kodas | C6: VPS priemonės pavadinimas | D6: VPS priemonės kodas (unikalus) | E6: Finansavimo šaltinis | F6: Vietos projektams įgyvendinti numatyta lėšų suma, Eur | G6: Bendras skaičius (vnt.) | H6: Bendras skaičius (vnt.) | I6: Bendras skaičius (vnt.) | J6: Bendras skaičius (vnt.) | K6: Bendras skaičius (vnt.) | L6: Bendras skaičius (vnt.) | M6: Bendras skaičius (vnt.) | N6: Bendra suma (Eur) | O6: Bendra suma (Eur) | P6: Bendra suma (Eur) | Q6: Bendra suma (Eur) | R6: Bendra suma (Eur) | S6: Bendra suma (Eur) | T6: Bendra suma (Eur) | U6: Proc. nuo vietos projektams skirtos sumos | V6: Proc. nuo vietos projektams skirtos sumos | W6: Proc. nuo vietos projektams skirtos sumos | X6: Proc. nuo vietos projektams skirtos sumos | Y6: Proc. nuo vietos projektams skirtos sumos | Z6: Proc. nuo vietos projektams skirtos sumos | AA6: Proc. nuo vietos projektams skirtos sumos | AB6: Bendras skaičius (vnt.) | AC6: Bendras skaičius (vnt.) | AD6: Bendras skaičius (vnt.) | AE6: Bendras skaičius (vnt.) | AF6: Bendras skaičius (vnt.) | AG6: Bendras skaičius (vnt.) | AH6: Bendras skaičius (vnt.) | AI6: Bendra suma (Eur) | AJ6: Bendra suma (Eur) | AK6: Bendra suma (Eur) | AL6: Bendra suma (Eur) | AM6: Bendra suma (Eur) | AN6: Bendra suma (Eur) | AO6: Bendra suma (Eur) | AP6: Proc. nuo vietos projektams skirtos sumos | AQ6: Proc. nuo vietos projektams skirtos sumos | AR6: Proc. nuo vietos projektams skirtos sumos | AS6: Proc. nuo vietos projektams skirtos sumos | AT6: Proc. nuo vietos projektams skirtos sumos | AU6: Proc. nuo vietos projektams skirtos sumos | AV6: Proc. nuo vietos projektams skirtos sumos | AW6: Bendras skaičius (vnt.) | AX6: Bendras skaičius (vnt.) | AY6: Bendras skaičius (vnt.) | AZ6: Bendras skaičius (vnt.) | BA6: Bendras skaičius (vnt.) | BB6: Bendras skaičius (vnt.) | BC6: Bendras skaičius (vnt.) | BD6: Bendra suma (Eur) | BE6: Bendra suma (Eur) | BF6: Bendra suma (Eur) | BG6: Bendra suma (Eur) | BH6: Bendra suma (Eur) | BI6: Bendra suma (Eur) | BJ6: Bendra suma (Eur) | BK6: Proc. nuo vietos projektams skirtos sumos | BL6: Proc. nuo vietos projektams skirtos sumos | BM6: Proc. nuo vietos projektams skirtos sumos | BN6: Proc. nuo vietos projektams skirtos sumos | BO6: Proc. nuo vietos projektams skirtos sumos | BP6: Proc. nuo vietos projektams skirtos sumos | BQ6: Proc. nuo vietos projektams skirtos sumos | BR6: Bendras skaičius (vnt.) | BS6: Bendras skaičius (vnt.) | BT6: Bendras skaičius (vnt.) | BU6: Bendras skaičius (vnt.) | BV6: Bendras skaičius (vnt.) | BW6: Bendras skaičius (vnt.) | BX6: Bendras skaičius (vnt.) | BY6: Bendra suma (Eur) | BZ6: Bendra suma (Eur) | CA6: Bendra suma (Eur) | CB6: Bendra suma (Eur) | CC6: Bendra suma (Eur) | CD6: Bendra suma (Eur) | CE6: Bendra suma (Eur) | CF6: Proc. nuo vietos projektams skirtos sumos | CG6: Proc. nuo vietos projektams skirtos sumos | CH6: Proc. nuo vietos projektams skirtos sumos | CI6: Proc. nuo vietos projektams skirtos sumos | CJ6: Proc. nuo vietos projektams skirtos sumos | CK6: Proc. nuo vietos projektams skirtos sumos | CL6: Proc. nuo vietos projektams skirtos sumos
G7: Iš viso | H7: 2024 | I7: 2025 | J7: 2026 | K7: 2027 | L7: 2028 | M7: 2029 | N7: Iš viso | O7: 2024 | P7: 2025 | Q7: 2026 | R7: 2027 | S7: 2028 | T7: 2029 | U7: Iš viso | V7: 2024 | W7: 2025 | X7: 2026 | Y7: 2027 | Z7: 2028 | AA7: 2029 | AB7: Iš viso | AC7: 2024 | AD7: 2025 | AE7: 2026 | AF7: 2027 | AG7: 2028 | AH7: 2029 | AI7: Iš viso | AJ7: 2024 | AK7: 2025 | AL7: 2026 | AM7: 2027 | AN7: 2028 | AO7: 2029 | AP7: Iš viso | AQ7: 2024 | AR7: 2025 | AS7: 2026 | AT7: 2027 | AU7: 2028 | AV7: 2029 | AW7: Iš viso | AX7: 2024 | AY7: 2025 | AZ7: 2026 | BA7: 2027 | BB7: 2028 | BC7: 2029 | BD7: Iš viso | BE7: 2024 | BF7: 2025 | BG7: 2026 | BH7: 2027 | BI7: 2028 | BJ7: 2029 | BK7: Iš viso | BL7: 2024 | BM7: 2025 | BN7: 2026 | BO7: 2027 | BP7: 2028 | BQ7: 2029 | BR7: Iš viso | BS7: 2024 | BT7: 2025 | BU7: 2026 | BV7: 2027 | BW7: 2028 | BX7: 2029 | BY7: Iš viso | BZ7: 2024 | CA7: 2025 | CB7: 2026 | CC7: 2027 | CD7: 2028 | CE7: 2029 | CF7: Iš viso | CG7: 2024 | CH7: 2025 | CI7: 2026 | CJ7: 2027 | CK7: 2028 | CL7: 2029
A8: Užsipildo automatiškai pagal lapą VPS1 | B8: Užsipildo automatiškai pagal lapą VPS1 | C8: Užsipildo automatiškai pagal lapą VPS1 | D8: Užsipildo automatiškai pagal lapą VPS1 | E8: Užsipildo automatiškai pagal lapą VPS1 | F8: Užsipildo automatiškai pagal lapą VPS1 | G8: Užsipildo automatiškai pagal lapą D5 | H8: Užsipildo automatiškai pagal lapą D5 | I8: Užsipildo automatiškai pagal lapą D5 | J8: Užsipildo automatiškai pagal lapą D5 | K8: Užsipildo automatiškai pagal lapą D5 | L8: Užsipildo automatiškai pagal lapą D5 | M8: Užsipildo automatiškai pagal lapą D5 | N8: Užsipildo automatiškai pagal lapą D5 | O8: Užsipildo automatiškai pagal lapą D5 | P8: Užsipildo automatiškai pagal lapą D5 | Q8: Užsipildo automatiškai pagal lapą D5 | R8: Užsipildo automatiškai pagal lapą D5 | S8: Užsipildo automatiškai pagal lapą D5 | T8: Užsipildo automatiškai pagal lapą D5 | U8: Užsipildo automatiškai (formulė) | V8: Užsipildo automatiškai (formulė) | W8: Užsipildo automatiškai (formulė) | X8: Užsipildo automatiškai (formulė) | Y8: Užsipildo automatiškai (formulė) | Z8: Užsipildo automatiškai (formulė) | AA8: Užsipildo automatiškai (formulė) | AB8: Užsipildo automatiškai pagal lapą D5 | AC8: Užsipildo automatiškai pagal lapą D5 | AD8: Užsipildo automatiškai pagal lapą D5 | AE8: Užsipildo automatiškai pagal lapą D5 | AF8: Užsipildo automatiškai pagal lapą D5 | AG8: Užsipildo automatiškai pagal lapą D5 | AH8: Užsipildo automatiškai pagal lapą D5 | AI8: Užsipildo automatiškai pagal lapą D5 | AJ8: Užsipildo automatiškai pagal lapą D5 | AK8: Užsipildo automatiškai pagal lapą D5 | AL8: Užsipildo automatiškai pagal lapą D5 | AM8: Užsipildo automatiškai pagal lapą D5 | AN8: Užsipildo automatiškai pagal lapą D5 | AO8: Užsipildo automatiškai pagal lapą D5 | AP8: Užsipildo automatiškai (formulė) | AQ8: Užsipildo automatiškai (formulė) | AR8: Užsipildo automatiškai (formulė) | AS8: Užsipildo automatiškai (formulė) | AT8: Užsipildo automatiškai (formulė) | AU8: Užsipildo automatiškai (formulė) | AV8: Užsipildo automatiškai (formulė) | AW8: Užsipildo automatiškai pagal lapą D5 | AX8: Užsipildo automatiškai pagal lapą D5 | AY8: Užsipildo automatiškai pagal lapą D5 | AZ8: Užsipildo automatiškai pagal lapą D5 | BA8: Užsipildo automatiškai pagal lapą D5 | BB8: Užsipildo automatiškai pagal lapą D5 | BC8: Užsipildo automatiškai pagal lapą D5 | BD8: Užsipildo automatiškai pagal lapą D5 | BE8: Užsipildo automatiškai pagal lapą D5 | BF8: Užsipildo automatiškai pagal lapą D5 | BG8: Užsipildo automatiškai pagal lapą D5 | BH8: Užsipildo automatiškai pagal lapą D5 | BI8: Užsipildo automatiškai pagal lapą D5 | BJ8: Užsipildo automatiškai pagal lapą D5 | BK8: Užsipildo automatiškai (formulė) | BL8: Užsipildo automatiškai (formulė) | BM8: Užsipildo automatiškai (formulė) | BN8: Užsipildo automatiškai (formulė) | BO8: Užsipildo automatiškai (formulė) | BP8: Užsipildo automatiškai (formulė) | BQ8: Užsipildo automatiškai (formulė) | BR8: Užsipildo automatiškai pagal lapą D5 | BS8: Užsipildo automatiškai pagal lapą D5 | BT8: Užsipildo automatiškai pagal lapą D5 | BU8: Užsipildo automatiškai pagal lapą D5 | BV8: Užsipildo automatiškai pagal lapą D5 | BW8: Užsipildo automatiškai pagal lapą D5 | BX8: Užsipildo automatiškai pagal lapą D5 | BY8: Užsipildo automatiškai pagal lapą D5 | BZ8: Užsipildo automatiškai pagal lapą D5 | CA8: Užsipildo automatiškai pagal lapą D5 | CB8: Užsipildo automatiškai pagal lapą D5 | CC8: Užsipildo automatiškai pagal lapą D5 | CD8: Užsipildo automatiškai pagal lapą D5 | CE8: Užsipildo automatiškai pagal lapą D5 | CF8: Užsipildo automatiškai (formulė) | CG8: Užsipildo automatiškai (formulė) | CH8: Užsipildo automatiškai (formulė) | CI8: Užsipildo automatiškai (formulė) | CJ8: Užsipildo automatiškai (formulė) | CK8: Užsipildo automatiškai (formulė) | CL8: Užsipildo automatiškai (formulė)
A9: Iš viso EŽŪFKP | F9: =SUM(F10:F29) -> 1261564.8 | G9: =SUM(G10:G29) -> 13 | H9: =SUM(H10:H29) -> 5 | I9: =SUM(I10:I29) -> 8 | J9: =SUM(J10:J29) -> 0 | K9: =SUM(K10:K29) -> 0 | L9: =SUM(L10:L29) -> 0 | M9: =SUM(M10:M29) -> 0 | ... T9: =SUM(T10:T29) -> 0 | U9: =IF($F9>0,N9/$F9*100,0) -> 44.133921 | V9: =IF($F9>0,O9/$F9*100,0) -> 15.771033 | W9: =IF($F9>0,P9/$F9*100,0) -> 28.362888 | X9: =IF($F9>0,Q9/$F9*100,0) -> 0 | Y9: =IF($F9>0,R9/$F9*100,0) -> 0 | Z9: =IF($F9>0,S9/$F9*100,0) -> 0 | AA9: =IF($F9>0,T9/$F9*100,0) -> 0 | AB9: =SUM(AB10:AB29) -> 7 | AC9: =SUM(AC10:AC29) -> 1 | AD9: =SUM(AD10:AD29) -> 6 | AE9: =SUM(AE10:AE29) -> 0 | AF9: =SUM(AF10:AF29) -> 0 | AG9: =SUM(AG10:AG29) -> 0 | AH9: =SUM(AH10:AH29) -> 0 | AI9: =SUM(AI10:AI29) -> 216300 | ... AO9: =SUM(AO10:AO29) -> 0 | AP9: =IF($F9>0,AI9/$F9*100,0) -> 17.145374 | AQ9: =IF($F9>0,AJ9/$F9*100,0) -> 0 | AR9: =IF($F9>0,AK9/$F9*100,0) -> 17.145374 | AS9: =IF($F9>0,AL9/$F9*100,0) -> 0 | AT9: =IF($F9>0,AM9/$F9*100,0) -> 0 | AU9: =IF($F9>0,AN9/$F9*100,0) -> 0 | AV9: =IF($F9>0,AO9/$F9*100,0) -> 0 | AW9: =SUM(AW10:AW29) -> 4 | AX9: =SUM(AX10:AX29) -> 0 | AY9: =SUM(AY10:AY29) -> 4 | AZ9: =SUM(AZ10:AZ29) -> 0 | BA9: =SUM(BA10:BA29) -> 0 | BB9: =SUM(BB10:BB29) -> 0 | BC9: =SUM(BC10:BC29) -> 0 | BD9: =SUM(BD10:BD29) -> 86301 | ... BJ9: =SUM(BJ10:BJ29) -> 0 | BK9: =IF($F9>0,BD9/$F9*100,0) -> 6.8407901 | BL9: =IF($F9>0,BE9/$F9*100,0) -> 0 | BM9: =IF($F9>0,BF9/$F9*100,0) -> 6.8407901 | BN9: =IF($F9>0,BG9/$F9*100,0) -> 0 | BO9: =IF($F9>0,BH9/$F9*100,0) -> 0 | BP9: =IF($F9>0,BI9/$F9*100,0) -> 0 | BQ9: =IF($F9>0,BJ9/$F9*100,0) -> 0 | BR9: =SUM(BR10:BR29) -> 2 | BS9: =SUM(BS10:BS29) -> 0 | BT9: =SUM(BT10:BT29) -> 2 | BU9: =SUM(BU10:BU29) -> 0 | BV9: =SUM(BV10:BV29) -> 0 | BW9: =SUM(BW10:BW29) -> 0 | BX9: =SUM(BX10:BX29) -> 0 | BY9: =SUM(BY10:BY29) -> 50308 | ... CE9: =SUM(CE10:CE29) -> 0 | CF9: =IF($F9>0,BY9/$F9*100,0) -> 3.987746 | CG9: =IF($F9>0,BZ9/$F9*100,0) -> 0 | CH9: =IF($F9>0,CA9/$F9*100,0) -> 3.987746 | CI9: =IF($F9>0,CB9/$F9*100,0) -> 0 | CJ9: =IF($F9>0,CC9/$F9*100,0) -> 0 | CK9: =IF($F9>0,CD9/$F9*100,0) -> 0 | CL9: =IF($F9>0,CE9/$F9*100,0) -> 0
A10: 1 priemonė | B10: ='VPS1'!C10 -> MARI | C10: ='VPS1'!D10 -> Bendruomeniškumo skatinimas | D10: ='VPS1'!J10 -> MARI-LEADER-20VVG-09-01 | E10: ='VPS1'!L10 -> EŽŪFKP | F10: ='VPS1'!G10 -> 251564.8 | G10: =SUM(H10:M10) -> 6 | H10: =COUNTIFS('D5'!$B$11:$B$4860,'A2'!$D10,'D5'!$BH$11:$BH$4860,'A2'!H$7,'D5'!$BN$11:$BN$4860,"taip") -> 3 | I10: =COUNTIFS('D5'!$B$11:$B$4860,'A2'!$D10,'D5'!$BH$11:$BH$4860,'A2'!I$7,'D5'!$BN$11:$BN$4860,"taip") -> 3 | J10: =COUNTIFS('D5'!$B$11:$B$4860,'A2'!$D10,'D5'!$BH$11:$BH$4860,'A2'!J$7,'D5'!$BN$11:$BN$4860,"taip") -> 0 | K10: =COUNTIFS('D5'!$B$11:$B$4860,'A2'!$D10,'D5'!$BH$11:$BH$4860,'A2'!K$7,'D5'!$BN$11:$BN$4860,"taip") -> 0 | L10: =COUNTIFS('D5'!$B$11:$B$4860,'A2'!$D10,'D5'!$BH$11:$BH$4860,'A2'!L$7,'D5'!$BN$11:$BN$4860,"taip") -> 0 | M10: =COUNTIFS('D5'!$B$11:$B$4860,'A2'!$D10,'D5'!$BH$11:$BH$4860,'A2'!M$7,'D5'!$BN$11:$BN$4860,"taip") -> 0 | N10: =SUM(O10:T10) -> 150891.53 | O10: =SUMIFS('D5'!$L$11:$L$4860,'D5'!$B$11:$B$4860,'A2'!$D10,'D5'!$BH$11:$BH$4860,O$7,'D5'!$BN$11:$BN$4860,"taip") -> 75464.51 | P10: =SUMIFS('D5'!$L$11:$L$4860,'D5'!$B$11:$B$4860,'A2'!$D10,'D5'!$BH$11:$BH$4860,P$7,'D5'!$BN$11:$BN$4860,"taip") -> 75427.02 | Q10: =SUMIFS('D5'!$L$11:$L$4860,'D5'!$B$11:$B$4860,'A2'!$D10,'D5'!$BH$11:$BH$4860,Q$7,'D5'!$BN$11:$BN$4860,"taip") -> 0 | R10: =SUMIFS('D5'!$L$11:$L$4860,'D5'!$B$11:$B$4860,'A2'!$D10,'D5'!$BH$11:$BH$4860,R$7,'D5'!$BN$11:$BN$4860,"taip") -> 0 | S10: =SUMIFS('D5'!$L$11:$L$4860,'D5'!$B$11:$B$4860,'A2'!$D10,'D5'!$BH$11:$BH$4860,S$7,'D5'!$BN$11:$BN$4860,"taip") -> 0 | T10: =SUMIFS('D5'!$L$11:$L$4860,'D5'!$B$11:$B$4860,'A2'!$D10,'D5'!$BH$11:$BH$4860,T$7,'D5'!$BN$11:$BN$4860,"taip") -> 0 | U10: =IF($F10>0,N10/$F10*100,0) -> 59.981178 | V10: =IF($F10>0,O10/$F10*100,0) -> 29.99804 | W10: =IF($F10>0,P10/$F10*100,0) -> 29.983138 | X10: =IF($F10>0,Q10/$F10*100,0) -> 0 | Y10: =IF($F10>0,R10/$F10*100,0) -> 0 | Z10: =IF($F10>0,S10/$F10*100,0) -> 0 | AA10: =IF($F10>0,T10/$F10*100,0) -> 0 | AB10: =SUM(AC10:AH10) -> 3 | AC10: =COUNTIFS('D5'!$B$11:$B$4860,'A2'!$D10,'D5'!$BI$11:$BI$4860,'A2'!AC$7,'D5'!$BO$11:$BO$4860,"taip") -> 0 | AD10: =COUNTIFS('D5'!$B$11:$B$4860,'A2'!$D10,'D5'!$BI$11:$BI$4860,'A2'!AD$7,'D5'!$BO$11:$BO$4860,"taip") -> 3 | AE10: =COUNTIFS('D5'!$B$11:$B$4860,'A2'!$D10,'D5'!$BI$11:$BI$4860,'A2'!AE$7,'D5'!$BO$11:$BO$4860,"taip") -> 0 | AF10: =COUNTIFS('D5'!$B$11:$B$4860,'A2'!$D10,'D5'!$BI$11:$BI$4860,'A2'!AF$7,'D5'!$BO$11:$BO$4860,"taip") -> 0 | AG10: =COUNTIFS('D5'!$B$11:$B$4860,'A2'!$D10,'D5'!$BI$11:$BI$4860,'A2'!AG$7,'D5'!$BO$11:$BO$4860,"taip") -> 0 | AH10: =COUNTIFS('D5'!$B$11:$B$4860,'A2'!$D10,'D5'!$BI$11:$BI$4860,'A2'!AH$7,'D5'!$BO$11:$BO$4860,"taip") -> 0 | AI10: =SUM(AJ10:AO10) -> 73167 | AJ10: =SUMIFS('D5'!$AG$11:$AG$4860,'D5'!$B$11:$B$4860,'A2'!$D10,'D5'!$BI$11:$BI$4860,AJ$7,'D5'!$BO$11:$BO$4860,"taip") -> 0 | AK10: =SUMIFS('D5'!$AG$11:$AG$4860,'D5'!$B$11:$B$4860,'A2'!$D10,'D5'!$BI$11:$BI$4860,AK$7,'D5'!$BO$11:$BO$4860,"taip") -> 73167 | AL10: =SUMIFS('D5'!$AG$11:$AG$4860,'D5'!$B$11:$B$4860,'A2'!$D10,'D5'!$BI$11:$BI$4860,AL$7,'D5'!$BO$11:$BO$4860,"taip") -> 0 | AM10: =SUMIFS('D5'!$AG$11:$AG$4860,'D5'!$B$11:$B$4860,'A2'!$D10,'D5'!$BI$11:$BI$4860,AM$7,'D5'!$BO$11:$BO$4860,"taip") -> 0 | AN10: =SUMIFS('D5'!$AG$11:$AG$4860,'D5'!$B$11:$B$4860,'A2'!$D10,'D5'!$BI$11:$BI$4860,AN$7,'D5'!$BO$11:$BO$4860,"taip") -> 0 | AO10: =SUMIFS('D5'!$AG$11:$AG$4860,'D5'!$B$11:$B$4860,'A2'!$D10,'D5'!$BI$11:$BI$4860,AO$7,'D5'!$BO$11:$BO$4860,"taip") -> 0 | AP10: =IF($F10>0,AI10/$F10*100,0) -> 29.084753 | AQ10: =IF($F10>0,AJ10/$F10*100,0) -> 0 | AR10: =IF($F10>0,AK10/$F10*100,0) -> 29.084753 | AS10: =IF($F10>0,AL10/$F10*100,0) -> 0 | AT10: =IF($F10>0,AM10/$F10*100,0) -> 0 | AU10: =IF($F10>0,AN10/$F10*100,0) -> 0 | AV10: =IF($F10>0,AO10/$F10*100,0) -> 0 | AW10: =SUM(AX10:BC10) -> 3 | AX10: =COUNTIFS('D5'!$B$11:$B$4860,'A2'!$D10,'D5'!$BJ$11:$BJ$4860,'A2'!AX$7,'D5'!$BP$11:$BP$4860,"taip") -> 0 | AY10: =COUNTIFS('D5'!$B$11:$B$4860,'A2'!$D10,'D5'!$BJ$11:$BJ$4860,'A2'!AY$7,'D5'!$BP$11:$BP$4860,"taip") -> 3 | AZ10: =COUNTIFS('D5'!$B$11:$B$4860,'A2'!$D10,'D5'!$BJ$11:$BJ$4860,'A2'!AZ$7,'D5'!$BP$11:$BP$4860,"taip") -> 0 | BA10: =COUNTIFS('D5'!$B$11:$B$4860,'A2'!$D10,'D5'!$BJ$11:$BJ$4860,'A2'!BA$7,'D5'!$BP$11:$BP$4860,"taip") -> 0 | BB10: =COUNTIFS('D5'!$B$11:$B$4860,'A2'!$D10,'D5'!$BJ$11:$BJ$4860,'A2'!BB$7,'D5'!$BP$11:$BP$4860,"taip") -> 0 | BC10: =COUNTIFS('D5'!$B$11:$B$4860,'A2'!$D10,'D5'!$BJ$11:$BJ$4860,'A2'!BC$7,'D5'!$BP$11:$BP$4860,"taip") -> 0 | BD10: =SUM(BE10:BJ10) -> 73167 | BE10: =SUMIFS('D5'!$AG$11:$AG$4860,'D5'!$B$11:$B$4860,'A2'!$D10,'D5'!$BJ$11:$BJ$4860,BE$7,'D5'!$BP$11:$BP$4860,"taip") -> 0 | BF10: =SUMIFS('D5'!$AG$11:$AG$4860,'D5'!$B$11:$B$4860,'A2'!$D10,'D5'!$BJ$11:$BJ$4860,BF$7,'D5'!$BP$11:$BP$4860,"taip") -> 73167 | BG10: =SUMIFS('D5'!$AG$11:$AG$4860,'D5'!$B$11:$B$4860,'A2'!$D10,'D5'!$BJ$11:$BJ$4860,BG$7,'D5'!$BP$11:$BP$4860,"taip") -> 0 | BH10: =SUMIFS('D5'!$AG$11:$AG$4860,'D5'!$B$11:$B$4860,'A2'!$D10,'D5'!$BJ$11:$BJ$4860,BH$7,'D5'!$BP$11:$BP$4860,"taip") -> 0 | BI10: =SUMIFS('D5'!$AG$11:$AG$4860,'D5'!$B$11:$B$4860,'A2'!$D10,'D5'!$BJ$11:$BJ$4860,BI$7,'D5'!$BP$11:$BP$4860,"taip") -> 0 | BJ10: =SUMIFS('D5'!$AG$11:$AG$4860,'D5'!$B$11:$B$4860,'A2'!$D10,'D5'!$BJ$11:$BJ$4860,BJ$7,'D5'!$BP$11:$BP$4860,"taip") -> 0 | BK10: =IF($F10>0,BD10/$F10*100,0) -> 29.084753 | BL10: =IF($F10>0,BE10/$F10*100,0) -> 0 | BM10: =IF($F10>0,BF10/$F10*100,0) -> 29.084753 | BN10: =IF($F10>0,BG10/$F10*100,0) -> 0 | BO10: =IF($F10>0,BH10/$F10*100,0) -> 0 | BP10: =IF($F10>0,BI10/$F10*100,0) -> 0 | BQ10: =IF($F10>0,BJ10/$F10*100,0) -> 0 | BR10: =SUM(BS10:BX10) -> 2 | BS10: =COUNTIFS('D5'!$B$11:$B$4860,'A2'!$D10,'D5'!$BK$11:$BK$4860,'A2'!BS$7,'D5'!$BS$11:$BS$4860,"taip") -> 0 | BT10: =COUNTIFS('D5'!$B$11:$B$4860,'A2'!$D10,'D5'!$BK$11:$BK$4860,'A2'!BT$7,'D5'!$BS$11:$BS$4860,"taip") -> 2 | BU10: =COUNTIFS('D5'!$B$11:$B$4860,'A2'!$D10,'D5'!$BK$11:$BK$4860,'A2'!BU$7,'D5'!$BS$11:$BS$4860,"taip") -> 0 | BV10: =COUNTIFS('D5'!$B$11:$B$4860,'A2'!$D10,'D5'!$BK$11:$BK$4860,'A2'!BV$7,'D5'!$BS$11:$BS$4860,"taip") -> 0 | BW10: =COUNTIFS('D5'!$B$11:$B$4860,'A2'!$D10,'D5'!$BK$11:$BK$4860,'A2'!BW$7,'D5'!$BS$11:$BS$4860,"taip") -> 0 | BX10: =COUNTIFS('D5'!$B$11:$B$4860,'A2'!$D10,'D5'!$BK$11:$BK$4860,'A2'!BX$7,'D5'!$BS$11:$BS$4860,"taip") -> 0 | BY10: =SUM(BZ10:CE10) -> 50308 | BZ10: =SUMIFS('D5'!$AG$11:$AG$4860,'D5'!$B$11:$B$4860,'A2'!$D10,'D5'!$BK$11:$BK$4860,BZ$7,'D5'!$BS$11:$BS$4860,"taip") -> 0 | CA10: =SUMIFS('D5'!$AG$11:$AG$4860,'D5'!$B$11:$B$4860,'A2'!$D10,'D5'!$BK$11:$BK$4860,CA$7,'D5'!$BS$11:$BS$4860,"taip") -> 50308 | CB10: =SUMIFS('D5'!$AG$11:$AG$4860,'D5'!$B$11:$B$4860,'A2'!$D10,'D5'!$BK$11:$BK$4860,CB$7,'D5'!$BS$11:$BS$4860,"taip") -> 0 | CC10: =SUMIFS('D5'!$AG$11:$AG$4860,'D5'!$B$11:$B$4860,'A2'!$D10,'D5'!$BK$11:$BK$4860,CC$7,'D5'!$BS$11:$BS$4860,"taip") -> 0 | CD10: =SUMIFS('D5'!$AG$11:$AG$4860,'D5'!$B$11:$B$4860,'A2'!$D10,'D5'!$BK$11:$BK$4860,CD$7,'D5'!$BS$11:$BS$4860,"taip") -> 0 | CE10: =SUMIFS('D5'!$AG$11:$AG$4860,'D5'!$B$11:$B$4860,'A2'!$D10,'D5'!$BK$11:$BK$4860,CE$7,'D5'!$BS$11:$BS$4860,"taip") -> 0 | CF10: =IF($F10>0,BY10/$F10*100,0) -> 19.998028 | CG10: =IF($F10>0,BZ10/$F10*100,0) -> 0 | CH10: =IF($F10>0,CA10/$F10*100,0) -> 19.998028 | CI10: =IF($F10>0,CB10/$F10*100,0) -> 0 | CJ10: =IF($F10>0,CC10/$F10*100,0) -> 0 | CK10: =IF($F10>0,CD10/$F10*100,0) -> 0 | CL10: =IF($F10>0,CE10/$F10*100,0) -> 0
A11: 2 priemonė | B11: ='VPS1'!C11 -> MARI | C11: ='VPS1'!D11 -> Ne žemės ūkio verslo kūrimas ir plėtra | D11: ='VPS1'!J11 -> MARI-LEADER-20VVG-03-02 | E11: ='VPS1'!L11 -> EŽŪFKP | F11: ='VPS1'!G11 -> 650000 | G11: =SUM(H11:M11) -> 5 | H11: =COUNTIFS('D5'!$B$11:$B$4860,'A2'!$D11,'D5'!$BH$11:$BH$4860,'A2'!H$7,'D5'!$BN$11:$BN$4860,"taip") -> 2 | I11: =COUNTIFS('D5'!$B$11:$B$4860,'A2'!$D11,'D5'!$BH$11:$BH$4860,'A2'!I$7,'D5'!$BN$11:$BN$4860,"taip") -> 3 | J11: =COUNTIFS('D5'!$B$11:$B$4860,'A2'!$D11,'D5'!$BH$11:$BH$4860,'A2'!J$7,'D5'!$BN$11:$BN$4860,"taip") -> 0 | K11: =COUNTIFS('D5'!$B$11:$B$4860,'A2'!$D11,'D5'!$BH$11:$BH$4860,'A2'!K$7,'D5'!$BN$11:$BN$4860,"taip") -> 0 | L11: =COUNTIFS('D5'!$B$11:$B$4860,'A2'!$D11,'D5'!$BH$11:$BH$4860,'A2'!L$7,'D5'!$BN$11:$BN$4860,"taip") -> 0 | M11: =COUNTIFS('D5'!$B$11:$B$4860,'A2'!$D11,'D5'!$BH$11:$BH$4860,'A2'!M$7,'D5'!$BN$11:$BN$4860,"taip") -> 0 | N11: =SUM(O11:T11) -> 275900.72 | O11: =SUMIFS('D5'!$L$11:$L$4860,'D5'!$B$11:$B$4860,'A2'!$D11,'D5'!$BH$11:$BH$4860,O$7,'D5'!$BN$11:$BN$4860,"taip") -> 123497.29 | P11: =SUMIFS('D5'!$L$11:$L$4860,'D5'!$B$11:$B$4860,'A2'!$D11,'D5'!$BH$11:$BH$4860,P$7,'D5'!$BN$11:$BN$4860,"taip") -> 152403.43 | Q11: =SUMIFS('D5'!$L$11:$L$4860,'D5'!$B$11:$B$4860,'A2'!$D11,'D5'!$BH$11:$BH$4860,Q$7,'D5'!$BN$11:$BN$4860,"taip") -> 0 | R11: =SUMIFS('D5'!$L$11:$L$4860,'D5'!$B$11:$B$4860,'A2'!$D11,'D5'!$BH$11:$BH$4860,R$7,'D5'!$BN$11:$BN$4860,"taip") -> 0 | S11: =SUMIFS('D5'!$L$11:$L$4860,'D5'!$B$11:$B$4860,'A2'!$D11,'D5'!$BH$11:$BH$4860,S$7,'D5'!$BN$11:$BN$4860,"taip") -> 0 | T11: =SUMIFS('D5'!$L$11:$L$4860,'D5'!$B$11:$B$4860,'A2'!$D11,'D5'!$BH$11:$BH$4860,T$7,'D5'!$BN$11:$BN$4860,"taip") -> 0 | U11: =IF($F11>0,N11/$F11*100,0) -> 42.446265 | V11: =IF($F11>0,O11/$F11*100,0) -> 18.999583 | W11: =IF($F11>0,P11/$F11*100,0) -> 23.446682 | X11: =IF($F11>0,Q11/$F11*100,0) -> 0 | Y11: =IF($F11>0,R11/$F11*100,0) -> 0 | Z11: =IF($F11>0,S11/$F11*100,0) -> 0 | AA11: =IF($F11>0,T11/$F11*100,0) -> 0 | AB11: =SUM(AC11:AH11) -> 4 | AC11: =COUNTIFS('D5'!$B$11:$B$4860,'A2'!$D11,'D5'!$BI$11:$BI$4860,'A2'!AC$7,'D5'!$BO$11:$BO$4860,"taip") -> 1 | AD11: =COUNTIFS('D5'!$B$11:$B$4860,'A2'!$D11,'D5'!$BI$11:$BI$4860,'A2'!AD$7,'D5'!$BO$11:$BO$4860,"taip") -> 3 | AE11: =COUNTIFS('D5'!$B$11:$B$4860,'A2'!$D11,'D5'!$BI$11:$BI$4860,'A2'!AE$7,'D5'!$BO$11:$BO$4860,"taip") -> 0 | AF11: =COUNTIFS('D5'!$B$11:$B$4860,'A2'!$D11,'D5'!$BI$11:$BI$4860,'A2'!AF$7,'D5'!$BO$11:$BO$4860,"taip") -> 0 | AG11: =COUNTIFS('D5'!$B$11:$B$4860,'A2'!$D11,'D5'!$BI$11:$BI$4860,'A2'!AG$7,'D5'!$BO$11:$BO$4860,"taip") -> 0 | AH11: =COUNTIFS('D5'!$B$11:$B$4860,'A2'!$D11,'D5'!$BI$11:$BI$4860,'A2'!AH$7,'D5'!$BO$11:$BO$4860,"taip") -> 0 | AI11: =SUM(AJ11:AO11) -> 143133 | AJ11: =SUMIFS('D5'!$AG$11:$AG$4860,'D5'!$B$11:$B$4860,'A2'!$D11,'D5'!$BI$11:$BI$4860,AJ$7,'D5'!$BO$11:$BO$4860,"taip") -> 0 | AK11: =SUMIFS('D5'!$AG$11:$AG$4860,'D5'!$B$11:$B$4860,'A2'!$D11,'D5'!$BI$11:$BI$4860,AK$7,'D5'!$BO$11:$BO$4860,"taip") -> 143133 | AL11: =SUMIFS('D5'!$AG$11:$AG$4860,'D5'!$B$11:$B$4860,'A2'!$D11,'D5'!$BI$11:$BI$4860,AL$7,'D5'!$BO$11:$BO$4860,"taip") -> 0 | AM11: =SUMIFS('D5'!$AG$11:$AG$4860,'D5'!$B$11:$B$4860,'A2'!$D11,'D5'!$BI$11:$BI$4860,AM$7,'D5'!$BO$11:$BO$4860,"taip") -> 0 | AN11: =SUMIFS('D5'!$AG$11:$AG$4860,'D5'!$B$11:$B$4860,'A2'!$D11,'D5'!$BI$11:$BI$4860,AN$7,'D5'!$BO$11:$BO$4860,"taip") -> 0 | AO11: =SUMIFS('D5'!$AG$11:$AG$4860,'D5'!$B$11:$B$4860,'A2'!$D11,'D5'!$BI$11:$BI$4860,AO$7,'D5'!$BO$11:$BO$4860,"taip") -> 0 | AP11: =IF($F11>0,AI11/$F11*100,0) -> 22.020462 | AQ11: =IF($F11>0,AJ11/$F11*100,0) -> 0 | AR11: =IF($F11>0,AK11/$F11*100,0) -> 22.020462 | AS11: =IF($F11>0,AL11/$F11*100,0) -> 0 | AT11: =IF($F11>0,AM11/$F11*100,0) -> 0 | AU11: =IF($F11>0,AN11/$F11*100,0) -> 0 | AV11: =IF($F11>0,AO11/$F11*100,0) -> 0 | AW11: =SUM(AX11:BC11) -> 1 | AX11: =COUNTIFS('D5'!$B$11:$B$4860,'A2'!$D11,'D5'!$BJ$11:$BJ$4860,'A2'!AX$7,'D5'!$BP$11:$BP$4860,"taip") -> 0 | AY11: =COUNTIFS('D5'!$B$11:$B$4860,'A2'!$D11,'D5'!$BJ$11:$BJ$4860,'A2'!AY$7,'D5'!$BP$11:$BP$4860,"taip") -> 1 | AZ11: =COUNTIFS('D5'!$B$11:$B$4860,'A2'!$D11,'D5'!$BJ$11:$BJ$4860,'A2'!AZ$7,'D5'!$BP$11:$BP$4860,"taip") -> 0 | BA11: =COUNTIFS('D5'!$B$11:$B$4860,'A2'!$D11,'D5'!$BJ$11:$BJ$4860,'A2'!BA$7,'D5'!$BP$11:$BP$4860,"taip") -> 0 | BB11: =COUNTIFS('D5'!$B$11:$B$4860,'A2'!$D11,'D5'!$BJ$11:$BJ$4860,'A2'!BB$7,'D5'!$BP$11:$BP$4860,"taip") -> 0 | BC11: =COUNTIFS('D5'!$B$11:$B$4860,'A2'!$D11,'D5'!$BJ$11:$BJ$4860,'A2'!BC$7,'D5'!$BP$11:$BP$4860,"taip") -> 0 | BD11: =SUM(BE11:BJ11) -> 13134 | BE11: =SUMIFS('D5'!$AG$11:$AG$4860,'D5'!$B$11:$B$4860,'A2'!$D11,'D5'!$BJ$11:$BJ$4860,BE$7,'D5'!$BP$11:$BP$4860,"taip") -> 0 | BF11: =SUMIFS('D5'!$AG$11:$AG$4860,'D5'!$B$11:$B$4860,'A2'!$D11,'D5'!$BJ$11:$BJ$4860,BF$7,'D5'!$BP$11:$BP$4860,"taip") -> 13134 | BG11: =SUMIFS('D5'!$AG$11:$AG$4860,'D5'!$B$11:$B$4860,'A2'!$D11,'D5'!$BJ$11:$BJ$4860,BG$7,'D5'!$BP$11:$BP$4860,"taip") -> 0 | BH11: =SUMIFS('D5'!$AG$11:$AG$4860,'D5'!$B$11:$B$4860,'A2'!$D11,'D5'!$BJ$11:$BJ$4860,BH$7,'D5'!$BP$11:$BP$4860,"taip") -> 0 | BI11: =SUMIFS('D5'!$AG$11:$AG$4860,'D5'!$B$11:$B$4860,'A2'!$D11,'D5'!$BJ$11:$BJ$4860,BI$7,'D5'!$BP$11:$BP$4860,"taip") -> 0 | BJ11: =SUMIFS('D5'!$AG$11:$AG$4860,'D5'!$B$11:$B$4860,'A2'!$D11,'D5'!$BJ$11:$BJ$4860,BJ$7,'D5'!$BP$11:$BP$4860,"taip") -> 0 | BK11: =IF($F11>0,BD11/$F11*100,0) -> 2.0206154 | BL11: =IF($F11>0,BE11/$F11*100,0) -> 0 | BM11: =IF($F11>0,BF11/$F11*100,0) -> 2.0206154 | BN11: =IF($F11>0,BG11/$F11*100,0) -> 0 | BO11: =IF($F11>0,BH11/$F11*100,0) -> 0 | BP11: =IF($F11>0,BI11/$F11*100,0) -> 0 | BQ11: =IF($F11>0,BJ11/$F11*100,0) -> 0 | BR11: =SUM(BS11:BX11) -> 0 | BS11: =COUNTIFS('D5'!$B$11:$B$4860,'A2'!$D11,'D5'!$BK$11:$BK$4860,'A2'!BS$7,'D5'!$BS$11:$BS$4860,"taip") -> 0 | BT11: =COUNTIFS('D5'!$B$11:$B$4860,'A2'!$D11,'D5'!$BK$11:$BK$4860,'A2'!BT$7,'D5'!$BS$11:$BS$4860,"taip") -> 0 | BU11: =COUNTIFS('D5'!$B$11:$B$4860,'A2'!$D11,'D5'!$BK$11:$BK$4860,'A2'!BU$7,'D5'!$BS$11:$BS$4860,"taip") -> 0 | BV11: =COUNTIFS('D5'!$B$11:$B$4860,'A2'!$D11,'D5'!$BK$11:$BK$4860,'A2'!BV$7,'D5'!$BS$11:$BS$4860,"taip") -> 0 | BW11: =COUNTIFS('D5'!$B$11:$B$4860,'A2'!$D11,'D5'!$BK$11:$BK$4860,'A2'!BW$7,'D5'!$BS$11:$BS$4860,"taip") -> 0 | BX11: =COUNTIFS('D5'!$B$11:$B$4860,'A2'!$D11,'D5'!$BK$11:$BK$4860,'A2'!BX$7,'D5'!$BS$11:$BS$4860,"taip") -> 0 | BY11: =SUM(BZ11:CE11) -> 0 | BZ11: =SUMIFS('D5'!$AG$11:$AG$4860,'D5'!$B$11:$B$4860,'A2'!$D11,'D5'!$BK$11:$BK$4860,BZ$7,'D5'!$BS$11:$BS$4860,"taip") -> 0 | CA11: =SUMIFS('D5'!$AG$11:$AG$4860,'D5'!$B$11:$B$4860,'A2'!$D11,'D5'!$BK$11:$BK$4860,CA$7,'D5'!$BS$11:$BS$4860,"taip") -> 0 | CB11: =SUMIFS('D5'!$AG$11:$AG$4860,'D5'!$B$11:$B$4860,'A2'!$D11,'D5'!$BK$11:$BK$4860,CB$7,'D5'!$BS$11:$BS$4860,"taip") -> 0 | CC11: =SUMIFS('D5'!$AG$11:$AG$4860,'D5'!$B$11:$B$4860,'A2'!$D11,'D5'!$BK$11:$BK$4860,CC$7,'D5'!$BS$11:$BS$4860,"taip") -> 0 | CD11: =SUMIFS('D5'!$AG$11:$AG$4860,'D5'!$B$11:$B$4860,'A2'!$D11,'D5'!$BK$11:$BK$4860,CD$7,'D5'!$BS$11:$BS$4860,"taip") -> 0 | CE11: =SUMIFS('D5'!$AG$11:$AG$4860,'D5'!$B$11:$B$4860,'A2'!$D11,'D5'!$BK$11:$BK$4860,CE$7,'D5'!$BS$11:$BS$4860,"taip") -> 0 | CF11: =IF($F11>0,BY11/$F11*100,0) -> 0 | CG11: =IF($F11>0,BZ11/$F11*100,0) -> 0 | CH11: =IF($F11>0,CA11/$F11*100,0) -> 0 | CI11: =IF($F11>0,CB11/$F11*100,0) -> 0 | CJ11: =IF($F11>0,CC11/$F11*100,0) -> 0 | CK11: =IF($F11>0,CD11/$F11*100,0) -> 0 | CL11: =IF($F11>0,CE11/$F11*100,0) -> 0
A12: 3 priemonė | B12: ='VPS1'!C12 -> MARI | C12: ='VPS1'!D12 -> Bendruomeninio verslo kūrimas ir plėtra | D12: ='VPS1'!J12 -> MARI-LEADER-20VVG-07-03 | E12: ='VPS1'!L12 -> EŽŪFKP | F12: ='VPS1'!G12 -> 100000 | G12: =SUM(H12:M12) -> 0 | H12: =COUNTIFS('D5'!$B$11:$B$4860,'A2'!$D12,'D5'!$BH$11:$BH$4860,'A2'!H$7,'D5'!$BN$11:$BN$4860,"taip") -> 0 | I12: =COUNTIFS('D5'!$B$11:$B$4860,'A2'!$D12,'D5'!$BH$11:$BH$4860,'A2'!I$7,'D5'!$BN$11:$BN$4860,"taip") -> 0 | J12: =COUNTIFS('D5'!$B$11:$B$4860,'A2'!$D12,'D5'!$BH$11:$BH$4860,'A2'!J$7,'D5'!$BN$11:$BN$4860,"taip") -> 0 | K12: =COUNTIFS('D5'!$B$11:$B$4860,'A2'!$D12,'D5'!$BH$11:$BH$4860,'A2'!K$7,'D5'!$BN$11:$BN$4860,"taip") -> 0 | L12: =COUNTIFS('D5'!$B$11:$B$4860,'A2'!$D12,'D5'!$BH$11:$BH$4860,'A2'!L$7,'D5'!$BN$11:$BN$4860,"taip") -> 0 | M12: =COUNTIFS('D5'!$B$11:$B$4860,'A2'!$D12,'D5'!$BH$11:$BH$4860,'A2'!M$7,'D5'!$BN$11:$BN$4860,"taip") -> 0 | N12: =SUM(O12:T12) -> 0 | O12: =SUMIFS('D5'!$L$11:$L$4860,'D5'!$B$11:$B$4860,'A2'!$D12,'D5'!$BH$11:$BH$4860,O$7,'D5'!$BN$11:$BN$4860,"taip") -> 0 | P12: =SUMIFS('D5'!$L$11:$L$4860,'D5'!$B$11:$B$4860,'A2'!$D12,'D5'!$BH$11:$BH$4860,P$7,'D5'!$BN$11:$BN$4860,"taip") -> 0 | Q12: =SUMIFS('D5'!$L$11:$L$4860,'D5'!$B$11:$B$4860,'A2'!$D12,'D5'!$BH$11:$BH$4860,Q$7,'D5'!$BN$11:$BN$4860,"taip") -> 0 | R12: =SUMIFS('D5'!$L$11:$L$4860,'D5'!$B$11:$B$4860,'A2'!$D12,'D5'!$BH$11:$BH$4860,R$7,'D5'!$BN$11:$BN$4860,"taip") -> 0 | S12: =SUMIFS('D5'!$L$11:$L$4860,'D5'!$B$11:$B$4860,'A2'!$D12,'D5'!$BH$11:$BH$4860,S$7,'D5'!$BN$11:$BN$4860,"taip") -> 0 | T12: =SUMIFS('D5'!$L$11:$L$4860,'D5'!$B$11:$B$4860,'A2'!$D12,'D5'!$BH$11:$BH$4860,T$7,'D5'!$BN$11:$BN$4860,"taip") -> 0 | U12: =IF($F12>0,N12/$F12*100,0) -> 0 | V12: =IF($F12>0,O12/$F12*100,0) -> 0 | W12: =IF($F12>0,P12/$F12*100,0) -> 0 | X12: =IF($F12>0,Q12/$F12*100,0) -> 0 | Y12: =IF($F12>0,R12/$F12*100,0) -> 0 | Z12: =IF($F12>0,S12/$F12*100,0) -> 0 | AA12: =IF($F12>0,T12/$F12*100,0) -> 0 | AB12: =SUM(AC12:AH12) -> 0 | AC12: =COUNTIFS('D5'!$B$11:$B$4860,'A2'!$D12,'D5'!$BI$11:$BI$4860,'A2'!AC$7,'D5'!$BO$11:$BO$4860,"taip") -> 0 | AD12: =COUNTIFS('D5'!$B$11:$B$4860,'A2'!$D12,'D5'!$BI$11:$BI$4860,'A2'!AD$7,'D5'!$BO$11:$BO$4860,"taip") -> 0 | AE12: =COUNTIFS('D5'!$B$11:$B$4860,'A2'!$D12,'D5'!$BI$11:$BI$4860,'A2'!AE$7,'D5'!$BO$11:$BO$4860,"taip") -> 0 | AF12: =COUNTIFS('D5'!$B$11:$B$4860,'A2'!$D12,'D5'!$BI$11:$BI$4860,'A2'!AF$7,'D5'!$BO$11:$BO$4860,"taip") -> 0 | AG12: =COUNTIFS('D5'!$B$11:$B$4860,'A2'!$D12,'D5'!$BI$11:$BI$4860,'A2'!AG$7,'D5'!$BO$11:$BO$4860,"taip") -> 0 | AH12: =COUNTIFS('D5'!$B$11:$B$4860,'A2'!$D12,'D5'!$BI$11:$BI$4860,'A2'!AH$7,'D5'!$BO$11:$BO$4860,"taip") -> 0 | AI12: =SUM(AJ12:AO12) -> 0 | AJ12: =SUMIFS('D5'!$AG$11:$AG$4860,'D5'!$B$11:$B$4860,'A2'!$D12,'D5'!$BI$11:$BI$4860,AJ$7,'D5'!$BO$11:$BO$4860,"taip") -> 0 | AK12: =SUMIFS('D5'!$AG$11:$AG$4860,'D5'!$B$11:$B$4860,'A2'!$D12,'D5'!$BI$11:$BI$4860,AK$7,'D5'!$BO$11:$BO$4860,"taip") -> 0 | AL12: =SUMIFS('D5'!$AG$11:$AG$4860,'D5'!$B$11:$B$4860,'A2'!$D12,'D5'!$BI$11:$BI$4860,AL$7,'D5'!$BO$11:$BO$4860,"taip") -> 0 | AM12: =SUMIFS('D5'!$AG$11:$AG$4860,'D5'!$B$11:$B$4860,'A2'!$D12,'D5'!$BI$11:$BI$4860,AM$7,'D5'!$BO$11:$BO$4860,"taip") -> 0 | AN12: =SUMIFS('D5'!$AG$11:$AG$4860,'D5'!$B$11:$B$4860,'A2'!$D12,'D5'!$BI$11:$BI$4860,AN$7,'D5'!$BO$11:$BO$4860,"taip") -> 0 | AO12: =SUMIFS('D5'!$AG$11:$AG$4860,'D5'!$B$11:$B$4860,'A2'!$D12,'D5'!$BI$11:$BI$4860,AO$7,'D5'!$BO$11:$BO$4860,"taip") -> 0 | AP12: =IF($F12>0,AI12/$F12*100,0) -> 0 | AQ12: =IF($F12>0,AJ12/$F12*100,0) -> 0 | AR12: =IF($F12>0,AK12/$F12*100,0) -> 0 | AS12: =IF($F12>0,AL12/$F12*100,0) -> 0 | AT12: =IF($F12>0,AM12/$F12*100,0) -> 0 | AU12: =IF($F12>0,AN12/$F12*100,0) -> 0 | AV12: =IF($F12>0,AO12/$F12*100,0) -> 0 | AW12: =SUM(AX12:BC12) -> 0 | AX12: =COUNTIFS('D5'!$B$11:$B$4860,'A2'!$D12,'D5'!$BJ$11:$BJ$4860,'A2'!AX$7,'D5'!$BP$11:$BP$4860,"taip") -> 0 | AY12: =COUNTIFS('D5'!$B$11:$B$4860,'A2'!$D12,'D5'!$BJ$11:$BJ$4860,'A2'!AY$7,'D5'!$BP$11:$BP$4860,"taip") -> 0 | AZ12: =COUNTIFS('D5'!$B$11:$B$4860,'A2'!$D12,'D5'!$BJ$11:$BJ$4860,'A2'!AZ$7,'D5'!$BP$11:$BP$4860,"taip") -> 0 | BA12: =COUNTIFS('D5'!$B$11:$B$4860,'A2'!$D12,'D5'!$BJ$11:$BJ$4860,'A2'!BA$7,'D5'!$BP$11:$BP$4860,"taip") -> 0 | BB12: =COUNTIFS('D5'!$B$11:$B$4860,'A2'!$D12,'D5'!$BJ$11:$BJ$4860,'A2'!BB$7,'D5'!$BP$11:$BP$4860,"taip") -> 0 | BC12: =COUNTIFS('D5'!$B$11:$B$4860,'A2'!$D12,'D5'!$BJ$11:$BJ$4860,'A2'!BC$7,'D5'!$BP$11:$BP$4860,"taip") -> 0 | BD12: =SUM(BE12:BJ12) -> 0 | BE12: =SUMIFS('D5'!$AG$11:$AG$4860,'D5'!$B$11:$B$4860,'A2'!$D12,'D5'!$BJ$11:$BJ$4860,BE$7,'D5'!$BP$11:$BP$4860,"taip") -> 0 | BF12: =SUMIFS('D5'!$AG$11:$AG$4860,'D5'!$B$11:$B$4860,'A2'!$D12,'D5'!$BJ$11:$BJ$4860,BF$7,'D5'!$BP$11:$BP$4860,"taip") -> 0 | BG12: =SUMIFS('D5'!$AG$11:$AG$4860,'D5'!$B$11:$B$4860,'A2'!$D12,'D5'!$BJ$11:$BJ$4860,BG$7,'D5'!$BP$11:$BP$4860,"taip") -> 0 | BH12: =SUMIFS('D5'!$AG$11:$AG$4860,'D5'!$B$11:$B$4860,'A2'!$D12,'D5'!$BJ$11:$BJ$4860,BH$7,'D5'!$BP$11:$BP$4860,"taip") -> 0 | BI12: =SUMIFS('D5'!$AG$11:$AG$4860,'D5'!$B$11:$B$4860,'A2'!$D12,'D5'!$BJ$11:$BJ$4860,BI$7,'D5'!$BP$11:$BP$4860,"taip") -> 0 | BJ12: =SUMIFS('D5'!$AG$11:$AG$4860,'D5'!$B$11:$B$4860,'A2'!$D12,'D5'!$BJ$11:$BJ$4860,BJ$7,'D5'!$BP$11:$BP$4860,"taip") -> 0 | BK12: =IF($F12>0,BD12/$F12*100,0) -> 0 | BL12: =IF($F12>0,BE12/$F12*100,0) -> 0 | BM12: =IF($F12>0,BF12/$F12*100,0) -> 0 | BN12: =IF($F12>0,BG12/$F12*100,0) -> 0 | BO12: =IF($F12>0,BH12/$F12*100,0) -> 0 | BP12: =IF($F12>0,BI12/$F12*100,0) -> 0 | BQ12: =IF($F12>0,BJ12/$F12*100,0) -> 0 | BR12: =SUM(BS12:BX12) -> 0 | BS12: =COUNTIFS('D5'!$B$11:$B$4860,'A2'!$D12,'D5'!$BK$11:$BK$4860,'A2'!BS$7,'D5'!$BS$11:$BS$4860,"taip") -> 0 | BT12: =COUNTIFS('D5'!$B$11:$B$4860,'A2'!$D12,'D5'!$BK$11:$BK$4860,'A2'!BT$7,'D5'!$BS$11:$BS$4860,"taip") -> 0 | BU12: =COUNTIFS('D5'!$B$11:$B$4860,'A2'!$D12,'D5'!$BK$11:$BK$4860,'A2'!BU$7,'D5'!$BS$11:$BS$4860,"taip") -> 0 | BV12: =COUNTIFS('D5'!$B$11:$B$4860,'A2'!$D12,'D5'!$BK$11:$BK$4860,'A2'!BV$7,'D5'!$BS$11:$BS$4860,"taip") -> 0 | BW12: =COUNTIFS('D5'!$B$11:$B$4860,'A2'!$D12,'D5'!$BK$11:$BK$4860,'A2'!BW$7,'D5'!$BS$11:$BS$4860,"taip") -> 0 | BX12: =COUNTIFS('D5'!$B$11:$B$4860,'A2'!$D12,'D5'!$BK$11:$BK$4860,'A2'!BX$7,'D5'!$BS$11:$BS$4860,"taip") -> 0 | BY12: =SUM(BZ12:CE12) -> 0 | BZ12: =SUMIFS('D5'!$AG$11:$AG$4860,'D5'!$B$11:$B$4860,'A2'!$D12,'D5'!$BK$11:$BK$4860,BZ$7,'D5'!$BS$11:$BS$4860,"taip") -> 0 | CA12: =SUMIFS('D5'!$AG$11:$AG$4860,'D5'!$B$11:$B$4860,'A2'!$D12,'D5'!$BK$11:$BK$4860,CA$7,'D5'!$BS$11:$BS$4860,"taip") -> 0 | CB12: =SUMIFS('D5'!$AG$11:$AG$4860,'D5'!$B$11:$B$4860,'A2'!$D12,'D5'!$BK$11:$BK$4860,CB$7,'D5'!$BS$11:$BS$4860,"taip") -> 0 | CC12: =SUMIFS('D5'!$AG$11:$AG$4860,'D5'!$B$11:$B$4860,'A2'!$D12,'D5'!$BK$11:$BK$4860,CC$7,'D5'!$BS$11:$BS$4860,"taip") -> 0 | CD12: =SUMIFS('D5'!$AG$11:$AG$4860,'D5'!$B$11:$B$4860,'A2'!$D12,'D5'!$BK$11:$BK$4860,CD$7,'D5'!$BS$11:$BS$4860,"taip") -> 0 | CE12: =SUMIFS('D5'!$AG$11:$AG$4860,'D5'!$B$11:$B$4860,'A2'!$D12,'D5'!$BK$11:$BK$4860,CE$7,'D5'!$BS$11:$BS$4860,"taip") -> 0 | CF12: =IF($F12>0,BY12/$F12*100,0) -> 0 | CG12: =IF($F12>0,BZ12/$F12*100,0) -> 0 | CH12: =IF($F12>0,CA12/$F12*100,0) -> 0 | CI12: =IF($F12>0,CB12/$F12*100,0) -> 0 | CJ12: =IF($F12>0,CC12/$F12*100,0) -> 0 | CK12: =IF($F12>0,CD12/$F12*100,0) -> 0 | CL12: =IF($F12>0,CE12/$F12*100,0) -> 0
A13: 4 priemonė | B13: ='VPS1'!C13 -> MARI | C13: ='VPS1'!D13 -> Socialinio verslo kūrimas ir plėtra | D13: ='VPS1'!J13 -> MARI-LEADER-20VVG-06-04 | E13: ='VPS1'!L13 -> EŽŪFKP | F13: ='VPS1'!G13 -> 260000 | G13: =SUM(H13:M13) -> 2 | H13: =COUNTIFS('D5'!$B$11:$B$4860,'A2'!$D13,'D5'!$BH$11:$BH$4860,'A2'!H$7,'D5'!$BN$11:$BN$4860,"taip") -> 0 | I13: =COUNTIFS('D5'!$B$11:$B$4860,'A2'!$D13,'D5'!$BH$11:$BH$4860,'A2'!I$7,'D5'!$BN$11:$BN$4860,"taip") -> 2 | J13: =COUNTIFS('D5'!$B$11:$B$4860,'A2'!$D13,'D5'!$BH$11:$BH$4860,'A2'!J$7,'D5'!$BN$11:$BN$4860,"taip") -> 0 | K13: =COUNTIFS('D5'!$B$11:$B$4860,'A2'!$D13,'D5'!$BH$11:$BH$4860,'A2'!K$7,'D5'!$BN$11:$BN$4860,"taip") -> 0 | L13: =COUNTIFS('D5'!$B$11:$B$4860,'A2'!$D13,'D5'!$BH$11:$BH$4860,'A2'!L$7,'D5'!$BN$11:$BN$4860,"taip") -> 0 | M13: =COUNTIFS('D5'!$B$11:$B$4860,'A2'!$D13,'D5'!$BH$11:$BH$4860,'A2'!M$7,'D5'!$BN$11:$BN$4860,"taip") -> 0 | N13: =SUM(O13:T13) -> 129985.76 | O13: =SUMIFS('D5'!$L$11:$L$4860,'D5'!$B$11:$B$4860,'A2'!$D13,'D5'!$BH$11:$BH$4860,O$7,'D5'!$BN$11:$BN$4860,"taip") -> 0 | P13: =SUMIFS('D5'!$L$11:$L$4860,'D5'!$B$11:$B$4860,'A2'!$D13,'D5'!$BH$11:$BH$4860,P$7,'D5'!$BN$11:$BN$4860,"taip") -> 129985.76 | Q13: =SUMIFS('D5'!$L$11:$L$4860,'D5'!$B$11:$B$4860,'A2'!$D13,'D5'!$BH$11:$BH$4860,Q$7,'D5'!$BN$11:$BN$4860,"taip") -> 0 | R13: =SUMIFS('D5'!$L$11:$L$4860,'D5'!$B$11:$B$4860,'A2'!$D13,'D5'!$BH$11:$BH$4860,R$7,'D5'!$BN$11:$BN$4860,"taip") -> 0 | S13: =SUMIFS('D5'!$L$11:$L$4860,'D5'!$B$11:$B$4860,'A2'!$D13,'D5'!$BH$11:$BH$4860,S$7,'D5'!$BN$11:$BN$4860,"taip") -> 0 | T13: =SUMIFS('D5'!$L$11:$L$4860,'D5'!$B$11:$B$4860,'A2'!$D13,'D5'!$BH$11:$BH$4860,T$7,'D5'!$BN$11:$BN$4860,"taip") -> 0 | U13: =IF($F13>0,N13/$F13*100,0) -> 49.994523 | V13: =IF($F13>0,O13/$F13*100,0) -> 0 | W13: =IF($F13>0,P13/$F13*100,0) -> 49.994523 | X13: =IF($F13>0,Q13/$F13*100,0) -> 0 | Y13: =IF($F13>0,R13/$F13*100,0) -> 0 | Z13: =IF($F13>0,S13/$F13*100,0) -> 0 | AA13: =IF($F13>0,T13/$F13*100,0) -> 0 | AB13: =SUM(AC13:AH13) -> 0 | AC13: =COUNTIFS('D5'!$B$11:$B$4860,'A2'!$D13,'D5'!$BI$11:$BI$4860,'A2'!AC$7,'D5'!$BO$11:$BO$4860,"taip") -> 0 | AD13: =COUNTIFS('D5'!$B$11:$B$4860,'A2'!$D13,'D5'!$BI$11:$BI$4860,'A2'!AD$7,'D5'!$BO$11:$BO$4860,"taip") -> 0 | AE13: =COUNTIFS('D5'!$B$11:$B$4860,'A2'!$D13,'D5'!$BI$11:$BI$4860,'A2'!AE$7,'D5'!$BO$11:$BO$4860,"taip") -> 0 | AF13: =COUNTIFS('D5'!$B$11:$B$4860,'A2'!$D13,'D5'!$BI$11:$BI$4860,'A2'!AF$7,'D5'!$BO$11:$BO$4860,"taip") -> 0 | AG13: =COUNTIFS('D5'!$B$11:$B$4860,'A2'!$D13,'D5'!$BI$11:$BI$4860,'A2'!AG$7,'D5'!$BO$11:$BO$4860,"taip") -> 0 | AH13: =COUNTIFS('D5'!$B$11:$B$4860,'A2'!$D13,'D5'!$BI$11:$BI$4860,'A2'!AH$7,'D5'!$BO$11:$BO$4860,"taip") -> 0 | AI13: =SUM(AJ13:AO13) -> 0 | AJ13: =SUMIFS('D5'!$AG$11:$AG$4860,'D5'!$B$11:$B$4860,'A2'!$D13,'D5'!$BI$11:$BI$4860,AJ$7,'D5'!$BO$11:$BO$4860,"taip") -> 0 | AK13: =SUMIFS('D5'!$AG$11:$AG$4860,'D5'!$B$11:$B$4860,'A2'!$D13,'D5'!$BI$11:$BI$4860,AK$7,'D5'!$BO$11:$BO$4860,"taip") -> 0 | AL13: =SUMIFS('D5'!$AG$11:$AG$4860,'D5'!$B$11:$B$4860,'A2'!$D13,'D5'!$BI$11:$BI$4860,AL$7,'D5'!$BO$11:$BO$4860,"taip") -> 0 | AM13: =SUMIFS('D5'!$AG$11:$AG$4860,'D5'!$B$11:$B$4860,'A2'!$D13,'D5'!$BI$11:$BI$4860,AM$7,'D5'!$BO$11:$BO$4860,"taip") -> 0 | AN13: =SUMIFS('D5'!$AG$11:$AG$4860,'D5'!$B$11:$B$4860,'A2'!$D13,'D5'!$BI$11:$BI$4860,AN$7,'D5'!$BO$11:$BO$4860,"taip") -> 0 | AO13: =SUMIFS('D5'!$AG$11:$AG$4860,'D5'!$B$11:$B$4860,'A2'!$D13,'D5'!$BI$11:$BI$4860,AO$7,'D5'!$BO$11:$BO$4860,"taip") -> 0 | AP13: =IF($F13>0,AI13/$F13*100,0) -> 0 | AQ13: =IF($F13>0,AJ13/$F13*100,0) -> 0 | AR13: =IF($F13>0,AK13/$F13*100,0) -> 0 | AS13: =IF($F13>0,AL13/$F13*100,0) -> 0 | AT13: =IF($F13>0,AM13/$F13*100,0) -> 0 | AU13: =IF($F13>0,AN13/$F13*100,0) -> 0 | AV13: =IF($F13>0,AO13/$F13*100,0) -> 0 | AW13: =SUM(AX13:BC13) -> 0 | AX13: =COUNTIFS('D5'!$B$11:$B$4860,'A2'!$D13,'D5'!$BJ$11:$BJ$4860,'A2'!AX$7,'D5'!$BP$11:$BP$4860,"taip") -> 0 | AY13: =COUNTIFS('D5'!$B$11:$B$4860,'A2'!$D13,'D5'!$BJ$11:$BJ$4860,'A2'!AY$7,'D5'!$BP$11:$BP$4860,"taip") -> 0 | AZ13: =COUNTIFS('D5'!$B$11:$B$4860,'A2'!$D13,'D5'!$BJ$11:$BJ$4860,'A2'!AZ$7,'D5'!$BP$11:$BP$4860,"taip") -> 0 | BA13: =COUNTIFS('D5'!$B$11:$B$4860,'A2'!$D13,'D5'!$BJ$11:$BJ$4860,'A2'!BA$7,'D5'!$BP$11:$BP$4860,"taip") -> 0 | BB13: =COUNTIFS('D5'!$B$11:$B$4860,'A2'!$D13,'D5'!$BJ$11:$BJ$4860,'A2'!BB$7,'D5'!$BP$11:$BP$4860,"taip") -> 0 | BC13: =COUNTIFS('D5'!$B$11:$B$4860,'A2'!$D13,'D5'!$BJ$11:$BJ$4860,'A2'!BC$7,'D5'!$BP$11:$BP$4860,"taip") -> 0 | BD13: =SUM(BE13:BJ13) -> 0 | BE13: =SUMIFS('D5'!$AG$11:$AG$4860,'D5'!$B$11:$B$4860,'A2'!$D13,'D5'!$BJ$11:$BJ$4860,BE$7,'D5'!$BP$11:$BP$4860,"taip") -> 0 | BF13: =SUMIFS('D5'!$AG$11:$AG$4860,'D5'!$B$11:$B$4860,'A2'!$D13,'D5'!$BJ$11:$BJ$4860,BF$7,'D5'!$BP$11:$BP$4860,"taip") -> 0 | BG13: =SUMIFS('D5'!$AG$11:$AG$4860,'D5'!$B$11:$B$4860,'A2'!$D13,'D5'!$BJ$11:$BJ$4860,BG$7,'D5'!$BP$11:$BP$4860,"taip") -> 0 | BH13: =SUMIFS('D5'!$AG$11:$AG$4860,'D5'!$B$11:$B$4860,'A2'!$D13,'D5'!$BJ$11:$BJ$4860,BH$7,'D5'!$BP$11:$BP$4860,"taip") -> 0 | BI13: =SUMIFS('D5'!$AG$11:$AG$4860,'D5'!$B$11:$B$4860,'A2'!$D13,'D5'!$BJ$11:$BJ$4860,BI$7,'D5'!$BP$11:$BP$4860,"taip") -> 0 | BJ13: =SUMIFS('D5'!$AG$11:$AG$4860,'D5'!$B$11:$B$4860,'A2'!$D13,'D5'!$BJ$11:$BJ$4860,BJ$7,'D5'!$BP$11:$BP$4860,"taip") -> 0 | BK13: =IF($F13>0,BD13/$F13*100,0) -> 0 | BL13: =IF($F13>0,BE13/$F13*100,0) -> 0 | BM13: =IF($F13>0,BF13/$F13*100,0) -> 0 | BN13: =IF($F13>0,BG13/$F13*100,0) -> 0 | BO13: =IF($F13>0,BH13/$F13*100,0) -> 0 | BP13: =IF($F13>0,BI13/$F13*100,0) -> 0 | BQ13: =IF($F13>0,BJ13/$F13*100,0) -> 0 | BR13: =SUM(BS13:BX13) -> 0 | BS13: =COUNTIFS('D5'!$B$11:$B$4860,'A2'!$D13,'D5'!$BK$11:$BK$4860,'A2'!BS$7,'D5'!$BS$11:$BS$4860,"taip") -> 0 | BT13: =COUNTIFS('D5'!$B$11:$B$4860,'A2'!$D13,'D5'!$BK$11:$BK$4860,'A2'!BT$7,'D5'!$BS$11:$BS$4860,"taip") -> 0 | BU13: =COUNTIFS('D5'!$B$11:$B$4860,'A2'!$D13,'D5'!$BK$11:$BK$4860,'A2'!BU$7,'D5'!$BS$11:$BS$4860,"taip") -> 0 | BV13: =COUNTIFS('D5'!$B$11:$B$4860,'A2'!$D13,'D5'!$BK$11:$BK$4860,'A2'!BV$7,'D5'!$BS$11:$BS$4860,"taip") -> 0 | BW13: =COUNTIFS('D5'!$B$11:$B$4860,'A2'!$D13,'D5'!$BK$11:$BK$4860,'A2'!BW$7,'D5'!$BS$11:$BS$4860,"taip") -> 0 | BX13: =COUNTIFS('D5'!$B$11:$B$4860,'A2'!$D13,'D5'!$BK$11:$BK$4860,'A2'!BX$7,'D5'!$BS$11:$BS$4860,"taip") -> 0 | BY13: =SUM(BZ13:CE13) -> 0 | BZ13: =SUMIFS('D5'!$AG$11:$AG$4860,'D5'!$B$11:$B$4860,'A2'!$D13,'D5'!$BK$11:$BK$4860,BZ$7,'D5'!$BS$11:$BS$4860,"taip") -> 0 | CA13: =SUMIFS('D5'!$AG$11:$AG$4860,'D5'!$B$11:$B$4860,'A2'!$D13,'D5'!$BK$11:$BK$4860,CA$7,'D5'!$BS$11:$BS$4860,"taip") -> 0 | CB13: =SUMIFS('D5'!$AG$11:$AG$4860,'D5'!$B$11:$B$4860,'A2'!$D13,'D5'!$BK$11:$BK$4860,CB$7,'D5'!$BS$11:$BS$4860,"taip") -> 0 | CC13: =SUMIFS('D5'!$AG$11:$AG$4860,'D5'!$B$11:$B$4860,'A2'!$D13,'D5'!$BK$11:$BK$4860,CC$7,'D5'!$BS$11:$BS$4860,"taip") -> 0 | CD13: =SUMIFS('D5'!$AG$11:$AG$4860,'D5'!$B$11:$B$4860,'A2'!$D13,'D5'!$BK$11:$BK$4860,CD$7,'D5'!$BS$11:$BS$4860,"taip") -> 0 | CE13: =SUMIFS('D5'!$AG$11:$AG$4860,'D5'!$B$11:$B$4860,'A2'!$D13,'D5'!$BK$11:$BK$4860,CE$7,'D5'!$BS$11:$BS$4860,"taip") -> 0 | CF13: =IF($F13>0,BY13/$F13*100,0) -> 0 | CG13: =IF($F13>0,BZ13/$F13*100,0) -> 0 | CH13: =IF($F13>0,CA13/$F13*100,0) -> 0 | CI13: =IF($F13>0,CB13/$F13*100,0) -> 0 | CJ13: =IF($F13>0,CC13/$F13*100,0) -> 0 | CK13: =IF($F13>0,CD13/$F13*100,0) -> 0 | CL13: =IF($F13>0,CE13/$F13*100,0) -> 0
A14: 5 priemonė | B14: ='VPS1'!C14 -> 0 | C14: ='VPS1'!D14 -> 0 | D14: ='VPS1'!J14 -> 0 | E14: ='VPS1'!L14 -> EŽŪFKP | F14: ='VPS1'!G14 -> 0 | G14: =SUM(H14:M14) -> 0 | H14: =COUNTIFS('D5'!$B$11:$B$4860,'A2'!$D14,'D5'!$BH$11:$BH$4860,'A2'!H$7,'D5'!$BN$11:$BN$4860,"taip") -> 0 | I14: =COUNTIFS('D5'!$B$11:$B$4860,'A2'!$D14,'D5'!$BH$11:$BH$4860,'A2'!I$7,'D5'!$BN$11:$BN$4860,"taip") -> 0 | J14: =COUNTIFS('D5'!$B$11:$B$4860,'A2'!$D14,'D5'!$BH$11:$BH$4860,'A2'!J$7,'D5'!$BN$11:$BN$4860,"taip") -> 0 | K14: =COUNTIFS('D5'!$B$11:$B$4860,'A2'!$D14,'D5'!$BH$11:$BH$4860,'A2'!K$7,'D5'!$BN$11:$BN$4860,"taip") -> 0 | L14: =COUNTIFS('D5'!$B$11:$B$4860,'A2'!$D14,'D5'!$BH$11:$BH$4860,'A2'!L$7,'D5'!$BN$11:$BN$4860,"taip") -> 0 | M14: =COUNTIFS('D5'!$B$11:$B$4860,'A2'!$D14,'D5'!$BH$11:$BH$4860,'A2'!M$7,'D5'!$BN$11:$BN$4860,"taip") -> 0 | N14: =SUM(O14:T14) -> 0 | O14: =SUMIFS('D5'!$L$11:$L$4860,'D5'!$B$11:$B$4860,'A2'!$D14,'D5'!$BH$11:$BH$4860,O$7,'D5'!$BN$11:$BN$4860,"taip") -> 0 | P14: =SUMIFS('D5'!$L$11:$L$4860,'D5'!$B$11:$B$4860,'A2'!$D14,'D5'!$BH$11:$BH$4860,P$7,'D5'!$BN$11:$BN$4860,"taip") -> 0 | Q14: =SUMIFS('D5'!$L$11:$L$4860,'D5'!$B$11:$B$4860,'A2'!$D14,'D5'!$BH$11:$BH$4860,Q$7,'D5'!$BN$11:$BN$4860,"taip") -> 0 | R14: =SUMIFS('D5'!$L$11:$L$4860,'D5'!$B$11:$B$4860,'A2'!$D14,'D5'!$BH$11:$BH$4860,R$7,'D5'!$BN$11:$BN$4860,"taip") -> 0 | S14: =SUMIFS('D5'!$L$11:$L$4860,'D5'!$B$11:$B$4860,'A2'!$D14,'D5'!$BH$11:$BH$4860,S$7,'D5'!$BN$11:$BN$4860,"taip") -> 0 | T14: =SUMIFS('D5'!$L$11:$L$4860,'D5'!$B$11:$B$4860,'A2'!$D14,'D5'!$BH$11:$BH$4860,T$7,'D5'!$BN$11:$BN$4860,"taip") -> 0 | U14: =IF($F14>0,N14/$F14*100,0) -> 0 | V14: =IF($F14>0,O14/$F14*100,0) -> 0 | W14: =IF($F14>0,P14/$F14*100,0) -> 0 | X14: =IF($F14>0,Q14/$F14*100,0) -> 0 | Y14: =IF($F14>0,R14/$F14*100,0) -> 0 | Z14: =IF($F14>0,S14/$F14*100,0) -> 0 | AA14: =IF($F14>0,T14/$F14*100,0) -> 0 | AB14: =SUM(AC14:AH14) -> 0 | AC14: =COUNTIFS('D5'!$B$11:$B$4860,'A2'!$D14,'D5'!$BI$11:$BI$4860,'A2'!AC$7,'D5'!$BO$11:$BO$4860,"taip") -> 0 | AD14: =COUNTIFS('D5'!$B$11:$B$4860,'A2'!$D14,'D5'!$BI$11:$BI$4860,'A2'!AD$7,'D5'!$BO$11:$BO$4860,"taip") -> 0 | AE14: =COUNTIFS('D5'!$B$11:$B$4860,'A2'!$D14,'D5'!$BI$11:$BI$4860,'A2'!AE$7,'D5'!$BO$11:$BO$4860,"taip") -> 0 | AF14: =COUNTIFS('D5'!$B$11:$B$4860,'A2'!$D14,'D5'!$BI$11:$BI$4860,'A2'!AF$7,'D5'!$BO$11:$BO$4860,"taip") -> 0 | AG14: =COUNTIFS('D5'!$B$11:$B$4860,'A2'!$D14,'D5'!$BI$11:$BI$4860,'A2'!AG$7,'D5'!$BO$11:$BO$4860,"taip") -> 0 | AH14: =COUNTIFS('D5'!$B$11:$B$4860,'A2'!$D14,'D5'!$BI$11:$BI$4860,'A2'!AH$7,'D5'!$BO$11:$BO$4860,"taip") -> 0 | AI14: =SUM(AJ14:AO14) -> 0 | AJ14: =SUMIFS('D5'!$AG$11:$AG$4860,'D5'!$B$11:$B$4860,'A2'!$D14,'D5'!$BI$11:$BI$4860,AJ$7,'D5'!$BO$11:$BO$4860,"taip") -> 0 | AK14: =SUMIFS('D5'!$AG$11:$AG$4860,'D5'!$B$11:$B$4860,'A2'!$D14,'D5'!$BI$11:$BI$4860,AK$7,'D5'!$BO$11:$BO$4860,"taip") -> 0 | AL14: =SUMIFS('D5'!$AG$11:$AG$4860,'D5'!$B$11:$B$4860,'A2'!$D14,'D5'!$BI$11:$BI$4860,AL$7,'D5'!$BO$11:$BO$4860,"taip") -> 0 | AM14: =SUMIFS('D5'!$AG$11:$AG$4860,'D5'!$B$11:$B$4860,'A2'!$D14,'D5'!$BI$11:$BI$4860,AM$7,'D5'!$BO$11:$BO$4860,"taip") -> 0 | AN14: =SUMIFS('D5'!$AG$11:$AG$4860,'D5'!$B$11:$B$4860,'A2'!$D14,'D5'!$BI$11:$BI$4860,AN$7,'D5'!$BO$11:$BO$4860,"taip") -> 0 | AO14: =SUMIFS('D5'!$AG$11:$AG$4860,'D5'!$B$11:$B$4860,'A2'!$D14,'D5'!$BI$11:$BI$4860,AO$7,'D5'!$BO$11:$BO$4860,"taip") -> 0 | AP14: =IF($F14>0,AI14/$F14*100,0) -> 0 | AQ14: =IF($F14>0,AJ14/$F14*100,0) -> 0 | AR14: =IF($F14>0,AK14/$F14*100,0) -> 0 | AS14: =IF($F14>0,AL14/$F14*100,0) -> 0 | AT14: =IF($F14>0,AM14/$F14*100,0) -> 0 | AU14: =IF($F14>0,AN14/$F14*100,0) -> 0 | AV14: =IF($F14>0,AO14/$F14*100,0) -> 0 | AW14: =SUM(AX14:BC14) -> 0 | AX14: =COUNTIFS('D5'!$B$11:$B$4860,'A2'!$D14,'D5'!$BJ$11:$BJ$4860,'A2'!AX$7,'D5'!$BP$11:$BP$4860,"taip") -> 0 | AY14: =COUNTIFS('D5'!$B$11:$B$4860,'A2'!$D14,'D5'!$BJ$11:$BJ$4860,'A2'!AY$7,'D5'!$BP$11:$BP$4860,"taip") -> 0 | AZ14: =COUNTIFS('D5'!$B$11:$B$4860,'A2'!$D14,'D5'!$BJ$11:$BJ$4860,'A2'!AZ$7,'D5'!$BP$11:$BP$4860,"taip") -> 0 | BA14: =COUNTIFS('D5'!$B$11:$B$4860,'A2'!$D14,'D5'!$BJ$11:$BJ$4860,'A2'!BA$7,'D5'!$BP$11:$BP$4860,"taip") -> 0 | BB14: =COUNTIFS('D5'!$B$11:$B$4860,'A2'!$D14,'D5'!$BJ$11:$BJ$4860,'A2'!BB$7,'D5'!$BP$11:$BP$4860,"taip") -> 0 | BC14: =COUNTIFS('D5'!$B$11:$B$4860,'A2'!$D14,'D5'!$BJ$11:$BJ$4860,'A2'!BC$7,'D5'!$BP$11:$BP$4860,"taip") -> 0 | BD14: =SUM(BE14:BJ14) -> 0 | BE14: =SUMIFS('D5'!$AG$11:$AG$4860,'D5'!$B$11:$B$4860,'A2'!$D14,'D5'!$BJ$11:$BJ$4860,BE$7,'D5'!$BP$11:$BP$4860,"taip") -> 0 | BF14: =SUMIFS('D5'!$AG$11:$AG$4860,'D5'!$B$11:$B$4860,'A2'!$D14,'D5'!$BJ$11:$BJ$4860,BF$7,'D5'!$BP$11:$BP$4860,"taip") -> 0 | BG14: =SUMIFS('D5'!$AG$11:$AG$4860,'D5'!$B$11:$B$4860,'A2'!$D14,'D5'!$BJ$11:$BJ$4860,BG$7,'D5'!$BP$11:$BP$4860,"taip") -> 0 | BH14: =SUMIFS('D5'!$AG$11:$AG$4860,'D5'!$B$11:$B$4860,'A2'!$D14,'D5'!$BJ$11:$BJ$4860,BH$7,'D5'!$BP$11:$BP$4860,"taip") -> 0 | BI14: =SUMIFS('D5'!$AG$11:$AG$4860,'D5'!$B$11:$B$4860,'A2'!$D14,'D5'!$BJ$11:$BJ$4860,BI$7,'D5'!$BP$11:$BP$4860,"taip") -> 0 | BJ14: =SUMIFS('D5'!$AG$11:$AG$4860,'D5'!$B$11:$B$4860,'A2'!$D14,'D5'!$BJ$11:$BJ$4860,BJ$7,'D5'!$BP$11:$BP$4860,"taip") -> 0 | BK14: =IF($F14>0,BD14/$F14*100,0) -> 0 | BL14: =IF($F14>0,BE14/$F14*100,0) -> 0 | BM14: =IF($F14>0,BF14/$F14*100,0) -> 0 | BN14: =IF($F14>0,BG14/$F14*100,0) -> 0 | BO14: =IF($F14>0,BH14/$F14*100,0) -> 0 | BP14: =IF($F14>0,BI14/$F14*100,0) -> 0 | BQ14: =IF($F14>0,BJ14/$F14*100,0) -> 0 | BR14: =SUM(BS14:BX14) -> 0 | BS14: =COUNTIFS('D5'!$B$11:$B$4860,'A2'!$D14,'D5'!$BK$11:$BK$4860,'A2'!BS$7,'D5'!$BS$11:$BS$4860,"taip") -> 0 | BT14: =COUNTIFS('D5'!$B$11:$B$4860,'A2'!$D14,'D5'!$BK$11:$BK$4860,'A2'!BT$7,'D5'!$BS$11:$BS$4860,"taip") -> 0 | BU14: =COUNTIFS('D5'!$B$11:$B$4860,'A2'!$D14,'D5'!$BK$11:$BK$4860,'A2'!BU$7,'D5'!$BS$11:$BS$4860,"taip") -> 0 | BV14: =COUNTIFS('D5'!$B$11:$B$4860,'A2'!$D14,'D5'!$BK$11:$BK$4860,'A2'!BV$7,'D5'!$BS$11:$BS$4860,"taip") -> 0 | BW14: =COUNTIFS('D5'!$B$11:$B$4860,'A2'!$D14,'D5'!$BK$11:$BK$4860,'A2'!BW$7,'D5'!$BS$11:$BS$4860,"taip") -> 0 | BX14: =COUNTIFS('D5'!$B$11:$B$4860,'A2'!$D14,'D5'!$BK$11:$BK$4860,'A2'!BX$7,'D5'!$BS$11:$BS$4860,"taip") -> 0 | BY14: =SUM(BZ14:CE14) -> 0 | BZ14: =SUMIFS('D5'!$AG$11:$AG$4860,'D5'!$B$11:$B$4860,'A2'!$D14,'D5'!$BK$11:$BK$4860,BZ$7,'D5'!$BS$11:$BS$4860,"taip") -> 0 | CA14: =SUMIFS('D5'!$AG$11:$AG$4860,'D5'!$B$11:$B$4860,'A2'!$D14,'D5'!$BK$11:$BK$4860,CA$7,'D5'!$BS$11:$BS$4860,"taip") -> 0 | CB14: =SUMIFS('D5'!$AG$11:$AG$4860,'D5'!$B$11:$B$4860,'A2'!$D14,'D5'!$BK$11:$BK$4860,CB$7,'D5'!$BS$11:$BS$4860,"taip") -> 0 | CC14: =SUMIFS('D5'!$AG$11:$AG$4860,'D5'!$B$11:$B$4860,'A2'!$D14,'D5'!$BK$11:$BK$4860,CC$7,'D5'!$BS$11:$BS$4860,"taip") -> 0 | CD14: =SUMIFS('D5'!$AG$11:$AG$4860,'D5'!$B$11:$B$4860,'A2'!$D14,'D5'!$BK$11:$BK$4860,CD$7,'D5'!$BS$11:$BS$4860,"taip") -> 0 | CE14: =SUMIFS('D5'!$AG$11:$AG$4860,'D5'!$B$11:$B$4860,'A2'!$D14,'D5'!$BK$11:$BK$4860,CE$7,'D5'!$BS$11:$BS$4860,"taip") -> 0 | CF14: =IF($F14>0,BY14/$F14*100,0) -> 0 | CG14: =IF($F14>0,BZ14/$F14*100,0) -> 0 | CH14: =IF($F14>0,CA14/$F14*100,0) -> 0 | CI14: =IF($F14>0,CB14/$F14*100,0) -> 0 | CJ14: =IF($F14>0,CC14/$F14*100,0) -> 0 | CK14: =IF($F14>0,CD14/$F14*100,0) -> 0 | CL14: =IF($F14>0,CE14/$F14*100,0) -> 0
A15: 6 priemonė | B15: ='VPS1'!C15 -> 0 | C15: ='VPS1'!D15 -> 0 | D15: ='VPS1'!J15 -> 0 | E15: ='VPS1'!L15 -> EŽŪFKP | F15: ='VPS1'!G15 -> 0 | G15: =SUM(H15:M15) -> 0 | H15: =COUNTIFS('D5'!$B$11:$B$4860,'A2'!$D15,'D5'!$BH$11:$BH$4860,'A2'!H$7,'D5'!$BN$11:$BN$4860,"taip") -> 0 | I15: =COUNTIFS('D5'!$B$11:$B$4860,'A2'!$D15,'D5'!$BH$11:$BH$4860,'A2'!I$7,'D5'!$BN$11:$BN$4860,"taip") -> 0 | J15: =COUNTIFS('D5'!$B$11:$B$4860,'A2'!$D15,'D5'!$BH$11:$BH$4860,'A2'!J$7,'D5'!$BN$11:$BN$4860,"taip") -> 0 | K15: =COUNTIFS('D5'!$B$11:$B$4860,'A2'!$D15,'D5'!$BH$11:$BH$4860,'A2'!K$7,'D5'!$BN$11:$BN$4860,"taip") -> 0 | L15: =COUNTIFS('D5'!$B$11:$B$4860,'A2'!$D15,'D5'!$BH$11:$BH$4860,'A2'!L$7,'D5'!$BN$11:$BN$4860,"taip") -> 0 | M15: =COUNTIFS('D5'!$B$11:$B$4860,'A2'!$D15,'D5'!$BH$11:$BH$4860,'A2'!M$7,'D5'!$BN$11:$BN$4860,"taip") -> 0 | N15: =SUM(O15:T15) -> 0 | O15: =SUMIFS('D5'!$L$11:$L$4860,'D5'!$B$11:$B$4860,'A2'!$D15,'D5'!$BH$11:$BH$4860,O$7,'D5'!$BN$11:$BN$4860,"taip") -> 0 | P15: =SUMIFS('D5'!$L$11:$L$4860,'D5'!$B$11:$B$4860,'A2'!$D15,'D5'!$BH$11:$BH$4860,P$7,'D5'!$BN$11:$BN$4860,"taip") -> 0 | Q15: =SUMIFS('D5'!$L$11:$L$4860,'D5'!$B$11:$B$4860,'A2'!$D15,'D5'!$BH$11:$BH$4860,Q$7,'D5'!$BN$11:$BN$4860,"taip") -> 0 | R15: =SUMIFS('D5'!$L$11:$L$4860,'D5'!$B$11:$B$4860,'A2'!$D15,'D5'!$BH$11:$BH$4860,R$7,'D5'!$BN$11:$BN$4860,"taip") -> 0 | S15: =SUMIFS('D5'!$L$11:$L$4860,'D5'!$B$11:$B$4860,'A2'!$D15,'D5'!$BH$11:$BH$4860,S$7,'D5'!$BN$11:$BN$4860,"taip") -> 0 | T15: =SUMIFS('D5'!$L$11:$L$4860,'D5'!$B$11:$B$4860,'A2'!$D15,'D5'!$BH$11:$BH$4860,T$7,'D5'!$BN$11:$BN$4860,"taip") -> 0 | U15: =IF($F15>0,N15/$F15*100,0) -> 0 | V15: =IF($F15>0,O15/$F15*100,0) -> 0 | W15: =IF($F15>0,P15/$F15*100,0) -> 0 | X15: =IF($F15>0,Q15/$F15*100,0) -> 0 | Y15: =IF($F15>0,R15/$F15*100,0) -> 0 | Z15: =IF($F15>0,S15/$F15*100,0) -> 0 | AA15: =IF($F15>0,T15/$F15*100,0) -> 0 | AB15: =SUM(AC15:AH15) -> 0 | AC15: =COUNTIFS('D5'!$B$11:$B$4860,'A2'!$D15,'D5'!$BI$11:$BI$4860,'A2'!AC$7,'D5'!$BO$11:$BO$4860,"taip") -> 0 | AD15: =COUNTIFS('D5'!$B$11:$B$4860,'A2'!$D15,'D5'!$BI$11:$BI$4860,'A2'!AD$7,'D5'!$BO$11:$BO$4860,"taip") -> 0 | AE15: =COUNTIFS('D5'!$B$11:$B$4860,'A2'!$D15,'D5'!$BI$11:$BI$4860,'A2'!AE$7,'D5'!$BO$11:$BO$4860,"taip") -> 0 | AF15: =COUNTIFS('D5'!$B$11:$B$4860,'A2'!$D15,'D5'!$BI$11:$BI$4860,'A2'!AF$7,'D5'!$BO$11:$BO$4860,"taip") -> 0 | AG15: =COUNTIFS('D5'!$B$11:$B$4860,'A2'!$D15,'D5'!$BI$11:$BI$4860,'A2'!AG$7,'D5'!$BO$11:$BO$4860,"taip") -> 0 | AH15: =COUNTIFS('D5'!$B$11:$B$4860,'A2'!$D15,'D5'!$BI$11:$BI$4860,'A2'!AH$7,'D5'!$BO$11:$BO$4860,"taip") -> 0 | AI15: =SUM(AJ15:AO15) -> 0 | AJ15: =SUMIFS('D5'!$AG$11:$AG$4860,'D5'!$B$11:$B$4860,'A2'!$D15,'D5'!$BI$11:$BI$4860,AJ$7,'D5'!$BO$11:$BO$4860,"taip") -> 0 | AK15: =SUMIFS('D5'!$AG$11:$AG$4860,'D5'!$B$11:$B$4860,'A2'!$D15,'D5'!$BI$11:$BI$4860,AK$7,'D5'!$BO$11:$BO$4860,"taip") -> 0 | AL15: =SUMIFS('D5'!$AG$11:$AG$4860,'D5'!$B$11:$B$4860,'A2'!$D15,'D5'!$BI$11:$BI$4860,AL$7,'D5'!$BO$11:$BO$4860,"taip") -> 0 | AM15: =SUMIFS('D5'!$AG$11:$AG$4860,'D5'!$B$11:$B$4860,'A2'!$D15,'D5'!$BI$11:$BI$4860,AM$7,'D5'!$BO$11:$BO$4860,"taip") -> 0 | AN15: =SUMIFS('D5'!$AG$11:$AG$4860,'D5'!$B$11:$B$4860,'A2'!$D15,'D5'!$BI$11:$BI$4860,AN$7,'D5'!$BO$11:$BO$4860,"taip") -> 0 | AO15: =SUMIFS('D5'!$AG$11:$AG$4860,'D5'!$B$11:$B$4860,'A2'!$D15,'D5'!$BI$11:$BI$4860,AO$7,'D5'!$BO$11:$BO$4860,"taip") -> 0 | AP15: =IF($F15>0,AI15/$F15*100,0) -> 0 | AQ15: =IF($F15>0,AJ15/$F15*100,0) -> 0 | AR15: =IF($F15>0,AK15/$F15*100,0) -> 0 | AS15: =IF($F15>0,AL15/$F15*100,0) -> 0 | AT15: =IF($F15>0,AM15/$F15*100,0) -> 0 | AU15: =IF($F15>0,AN15/$F15*100,0) -> 0 | AV15: =IF($F15>0,AO15/$F15*100,0) -> 0 | AW15: =SUM(AX15:BC15) -> 0 | AX15: =COUNTIFS('D5'!$B$11:$B$4860,'A2'!$D15,'D5'!$BJ$11:$BJ$4860,'A2'!AX$7,'D5'!$BP$11:$BP$4860,"taip") -> 0 | AY15: =COUNTIFS('D5'!$B$11:$B$4860,'A2'!$D15,'D5'!$BJ$11:$BJ$4860,'A2'!AY$7,'D5'!$BP$11:$BP$4860,"taip") -> 0 | AZ15: =COUNTIFS('D5'!$B$11:$B$4860,'A2'!$D15,'D5'!$BJ$11:$BJ$4860,'A2'!AZ$7,'D5'!$BP$11:$BP$4860,"taip") -> 0 | BA15: =COUNTIFS('D5'!$B$11:$B$4860,'A2'!$D15,'D5'!$BJ$11:$BJ$4860,'A2'!BA$7,'D5'!$BP$11:$BP$4860,"taip") -> 0 | BB15: =COUNTIFS('D5'!$B$11:$B$4860,'A2'!$D15,'D5'!$BJ$11:$BJ$4860,'A2'!BB$7,'D5'!$BP$11:$BP$4860,"taip") -> 0 | BC15: =COUNTIFS('D5'!$B$11:$B$4860,'A2'!$D15,'D5'!$BJ$11:$BJ$4860,'A2'!BC$7,'D5'!$BP$11:$BP$4860,"taip") -> 0 | BD15: =SUM(BE15:BJ15) -> 0 | BE15: =SUMIFS('D5'!$AG$11:$AG$4860,'D5'!$B$11:$B$4860,'A2'!$D15,'D5'!$BJ$11:$BJ$4860,BE$7,'D5'!$BP$11:$BP$4860,"taip") -> 0 | BF15: =SUMIFS('D5'!$AG$11:$AG$4860,'D5'!$B$11:$B$4860,'A2'!$D15,'D5'!$BJ$11:$BJ$4860,BF$7,'D5'!$BP$11:$BP$4860,"taip") -> 0 | BG15: =SUMIFS('D5'!$AG$11:$AG$4860,'D5'!$B$11:$B$4860,'A2'!$D15,'D5'!$BJ$11:$BJ$4860,BG$7,'D5'!$BP$11:$BP$4860,"taip") -> 0 | BH15: =SUMIFS('D5'!$AG$11:$AG$4860,'D5'!$B$11:$B$4860,'A2'!$D15,'D5'!$BJ$11:$BJ$4860,BH$7,'D5'!$BP$11:$BP$4860,"taip") -> 0 | BI15: =SUMIFS('D5'!$AG$11:$AG$4860,'D5'!$B$11:$B$4860,'A2'!$D15,'D5'!$BJ$11:$BJ$4860,BI$7,'D5'!$BP$11:$BP$4860,"taip") -> 0 | BJ15: =SUMIFS('D5'!$AG$11:$AG$4860,'D5'!$B$11:$B$4860,'A2'!$D15,'D5'!$BJ$11:$BJ$4860,BJ$7,'D5'!$BP$11:$BP$4860,"taip") -> 0 | BK15: =IF($F15>0,BD15/$F15*100,0) -> 0 | BL15: =IF($F15>0,BE15/$F15*100,0) -> 0 | BM15: =IF($F15>0,BF15/$F15*100,0) -> 0 | BN15: =IF($F15>0,BG15/$F15*100,0) -> 0 | BO15: =IF($F15>0,BH15/$F15*100,0) -> 0 | BP15: =IF($F15>0,BI15/$F15*100,0) -> 0 | BQ15: =IF($F15>0,BJ15/$F15*100,0) -> 0 | BR15: =SUM(BS15:BX15) -> 0 | BS15: =COUNTIFS('D5'!$B$11:$B$4860,'A2'!$D15,'D5'!$BK$11:$BK$4860,'A2'!BS$7,'D5'!$BS$11:$BS$4860,"taip") -> 0 | BT15: =COUNTIFS('D5'!$B$11:$B$4860,'A2'!$D15,'D5'!$BK$11:$BK$4860,'A2'!BT$7,'D5'!$BS$11:$BS$4860,"taip") -> 0 | BU15: =COUNTIFS('D5'!$B$11:$B$4860,'A2'!$D15,'D5'!$BK$11:$BK$4860,'A2'!BU$7,'D5'!$BS$11:$BS$4860,"taip") -> 0 | BV15: =COUNTIFS('D5'!$B$11:$B$4860,'A2'!$D15,'D5'!$BK$11:$BK$4860,'A2'!BV$7,'D5'!$BS$11:$BS$4860,"taip") -> 0 | BW15: =COUNTIFS('D5'!$B$11:$B$4860,'A2'!$D15,'D5'!$BK$11:$BK$4860,'A2'!BW$7,'D5'!$BS$11:$BS$4860,"taip") -> 0 | BX15: =COUNTIFS('D5'!$B$11:$B$4860,'A2'!$D15,'D5'!$BK$11:$BK$4860,'A2'!BX$7,'D5'!$BS$11:$BS$4860,"taip") -> 0 | BY15: =SUM(BZ15:CE15) -> 0 | BZ15: =SUMIFS('D5'!$AG$11:$AG$4860,'D5'!$B$11:$B$4860,'A2'!$D15,'D5'!$BK$11:$BK$4860,BZ$7,'D5'!$BS$11:$BS$4860,"taip") -> 0 | CA15: =SUMIFS('D5'!$AG$11:$AG$4860,'D5'!$B$11:$B$4860,'A2'!$D15,'D5'!$BK$11:$BK$4860,CA$7,'D5'!$BS$11:$BS$4860,"taip") -> 0 | CB15: =SUMIFS('D5'!$AG$11:$AG$4860,'D5'!$B$11:$B$4860,'A2'!$D15,'D5'!$BK$11:$BK$4860,CB$7,'D5'!$BS$11:$BS$4860,"taip") -> 0 | CC15: =SUMIFS('D5'!$AG$11:$AG$4860,'D5'!$B$11:$B$4860,'A2'!$D15,'D5'!$BK$11:$BK$4860,CC$7,'D5'!$BS$11:$BS$4860,"taip") -> 0 | CD15: =SUMIFS('D5'!$AG$11:$AG$4860,'D5'!$B$11:$B$4860,'A2'!$D15,'D5'!$BK$11:$BK$4860,CD$7,'D5'!$BS$11:$BS$4860,"taip") -> 0 | CE15: =SUMIFS('D5'!$AG$11:$AG$4860,'D5'!$B$11:$B$4860,'A2'!$D15,'D5'!$BK$11:$BK$4860,CE$7,'D5'!$BS$11:$BS$4860,"taip") -> 0 | CF15: =IF($F15>0,BY15/$F15*100,0) -> 0 | CG15: =IF($F15>0,BZ15/$F15*100,0) -> 0 | CH15: =IF($F15>0,CA15/$F15*100,0) -> 0 | CI15: =IF($F15>0,CB15/$F15*100,0) -> 0 | CJ15: =IF($F15>0,CC15/$F15*100,0) -> 0 | CK15: =IF($F15>0,CD15/$F15*100,0) -> 0 | CL15: =IF($F15>0,CE15/$F15*100,0) -> 0
A16: 7 priemonė | B16: ='VPS1'!C16 -> 0 | C16: ='VPS1'!D16 -> 0 | D16: ='VPS1'!J16 -> 0 | E16: ='VPS1'!L16 -> EŽŪFKP | F16: ='VPS1'!G16 -> 0 | G16: =SUM(H16:M16) -> 0 | H16: =COUNTIFS('D5'!$B$11:$B$4860,'A2'!$D16,'D5'!$BH$11:$BH$4860,'A2'!H$7,'D5'!$BN$11:$BN$4860,"taip") -> 0 | I16: =COUNTIFS('D5'!$B$11:$B$4860,'A2'!$D16,'D5'!$BH$11:$BH$4860,'A2'!I$7,'D5'!$BN$11:$BN$4860,"taip") -> 0 | J16: =COUNTIFS('D5'!$B$11:$B$4860,'A2'!$D16,'D5'!$BH$11:$BH$4860,'A2'!J$7,'D5'!$BN$11:$BN$4860,"taip") -> 0 | K16: =COUNTIFS('D5'!$B$11:$B$4860,'A2'!$D16,'D5'!$BH$11:$BH$4860,'A2'!K$7,'D5'!$BN$11:$BN$4860,"taip") -> 0 | L16: =COUNTIFS('D5'!$B$11:$B$4860,'A2'!$D16,'D5'!$BH$11:$BH$4860,'A2'!L$7,'D5'!$BN$11:$BN$4860,"taip") -> 0 | M16: =COUNTIFS('D5'!$B$11:$B$4860,'A2'!$D16,'D5'!$BH$11:$BH$4860,'A2'!M$7,'D5'!$BN$11:$BN$4860,"taip") -> 0 | N16: =SUM(O16:T16) -> 0 | O16: =SUMIFS('D5'!$L$11:$L$4860,'D5'!$B$11:$B$4860,'A2'!$D16,'D5'!$BH$11:$BH$4860,O$7,'D5'!$BN$11:$BN$4860,"taip") -> 0 | P16: =SUMIFS('D5'!$L$11:$L$4860,'D5'!$B$11:$B$4860,'A2'!$D16,'D5'!$BH$11:$BH$4860,P$7,'D5'!$BN$11:$BN$4860,"taip") -> 0 | Q16: =SUMIFS('D5'!$L$11:$L$4860,'D5'!$B$11:$B$4860,'A2'!$D16,'D5'!$BH$11:$BH$4860,Q$7,'D5'!$BN$11:$BN$4860,"taip") -> 0 | R16: =SUMIFS('D5'!$L$11:$L$4860,'D5'!$B$11:$B$4860,'A2'!$D16,'D5'!$BH$11:$BH$4860,R$7,'D5'!$BN$11:$BN$4860,"taip") -> 0 | S16: =SUMIFS('D5'!$L$11:$L$4860,'D5'!$B$11:$B$4860,'A2'!$D16,'D5'!$BH$11:$BH$4860,S$7,'D5'!$BN$11:$BN$4860,"taip") -> 0 | T16: =SUMIFS('D5'!$L$11:$L$4860,'D5'!$B$11:$B$4860,'A2'!$D16,'D5'!$BH$11:$BH$4860,T$7,'D5'!$BN$11:$BN$4860,"taip") -> 0 | U16: =IF($F16>0,N16/$F16*100,0) -> 0 | V16: =IF($F16>0,O16/$F16*100,0) -> 0 | W16: =IF($F16>0,P16/$F16*100,0) -> 0 | X16: =IF($F16>0,Q16/$F16*100,0) -> 0 | Y16: =IF($F16>0,R16/$F16*100,0) -> 0 | Z16: =IF($F16>0,S16/$F16*100,0) -> 0 | AA16: =IF($F16>0,T16/$F16*100,0) -> 0 | AB16: =SUM(AC16:AH16) -> 0 | AC16: =COUNTIFS('D5'!$B$11:$B$4860,'A2'!$D16,'D5'!$BI$11:$BI$4860,'A2'!AC$7,'D5'!$BO$11:$BO$4860,"taip") -> 0 | AD16: =COUNTIFS('D5'!$B$11:$B$4860,'A2'!$D16,'D5'!$BI$11:$BI$4860,'A2'!AD$7,'D5'!$BO$11:$BO$4860,"taip") -> 0 | AE16: =COUNTIFS('D5'!$B$11:$B$4860,'A2'!$D16,'D5'!$BI$11:$BI$4860,'A2'!AE$7,'D5'!$BO$11:$BO$4860,"taip") -> 0 | AF16: =COUNTIFS('D5'!$B$11:$B$4860,'A2'!$D16,'D5'!$BI$11:$BI$4860,'A2'!AF$7,'D5'!$BO$11:$BO$4860,"taip") -> 0 | AG16: =COUNTIFS('D5'!$B$11:$B$4860,'A2'!$D16,'D5'!$BI$11:$BI$4860,'A2'!AG$7,'D5'!$BO$11:$BO$4860,"taip") -> 0 | AH16: =COUNTIFS('D5'!$B$11:$B$4860,'A2'!$D16,'D5'!$BI$11:$BI$4860,'A2'!AH$7,'D5'!$BO$11:$BO$4860,"taip") -> 0 | AI16: =SUM(AJ16:AO16) -> 0 | AJ16: =SUMIFS('D5'!$AG$11:$AG$4860,'D5'!$B$11:$B$4860,'A2'!$D16,'D5'!$BI$11:$BI$4860,AJ$7,'D5'!$BO$11:$BO$4860,"taip") -> 0 | AK16: =SUMIFS('D5'!$AG$11:$AG$4860,'D5'!$B$11:$B$4860,'A2'!$D16,'D5'!$BI$11:$BI$4860,AK$7,'D5'!$BO$11:$BO$4860,"taip") -> 0 | AL16: =SUMIFS('D5'!$AG$11:$AG$4860,'D5'!$B$11:$B$4860,'A2'!$D16,'D5'!$BI$11:$BI$4860,AL$7,'D5'!$BO$11:$BO$4860,"taip") -> 0 | AM16: =SUMIFS('D5'!$AG$11:$AG$4860,'D5'!$B$11:$B$4860,'A2'!$D16,'D5'!$BI$11:$BI$4860,AM$7,'D5'!$BO$11:$BO$4860,"taip") -> 0 | AN16: =SUMIFS('D5'!$AG$11:$AG$4860,'D5'!$B$11:$B$4860,'A2'!$D16,'D5'!$BI$11:$BI$4860,AN$7,'D5'!$BO$11:$BO$4860,"taip") -> 0 | AO16: =SUMIFS('D5'!$AG$11:$AG$4860,'D5'!$B$11:$B$4860,'A2'!$D16,'D5'!$BI$11:$BI$4860,AO$7,'D5'!$BO$11:$BO$4860,"taip") -> 0 | AP16: =IF($F16>0,AI16/$F16*100,0) -> 0 | AQ16: =IF($F16>0,AJ16/$F16*100,0) -> 0 | AR16: =IF($F16>0,AK16/$F16*100,0) -> 0 | AS16: =IF($F16>0,AL16/$F16*100,0) -> 0 | AT16: =IF($F16>0,AM16/$F16*100,0) -> 0 | AU16: =IF($F16>0,AN16/$F16*100,0) -> 0 | AV16: =IF($F16>0,AO16/$F16*100,0) -> 0 | AW16: =SUM(AX16:BC16) -> 0 | AX16: =COUNTIFS('D5'!$B$11:$B$4860,'A2'!$D16,'D5'!$BJ$11:$BJ$4860,'A2'!AX$7,'D5'!$BP$11:$BP$4860,"taip") -> 0 | AY16: =COUNTIFS('D5'!$B$11:$B$4860,'A2'!$D16,'D5'!$BJ$11:$BJ$4860,'A2'!AY$7,'D5'!$BP$11:$BP$4860,"taip") -> 0 | AZ16: =COUNTIFS('D5'!$B$11:$B$4860,'A2'!$D16,'D5'!$BJ$11:$BJ$4860,'A2'!AZ$7,'D5'!$BP$11:$BP$4860,"taip") -> 0 | BA16: =COUNTIFS('D5'!$B$11:$B$4860,'A2'!$D16,'D5'!$BJ$11:$BJ$4860,'A2'!BA$7,'D5'!$BP$11:$BP$4860,"taip") -> 0 | BB16: =COUNTIFS('D5'!$B$11:$B$4860,'A2'!$D16,'D5'!$BJ$11:$BJ$4860,'A2'!BB$7,'D5'!$BP$11:$BP$4860,"taip") -> 0 | BC16: =COUNTIFS('D5'!$B$11:$B$4860,'A2'!$D16,'D5'!$BJ$11:$BJ$4860,'A2'!BC$7,'D5'!$BP$11:$BP$4860,"taip") -> 0 | BD16: =SUM(BE16:BJ16) -> 0 | BE16: =SUMIFS('D5'!$AG$11:$AG$4860,'D5'!$B$11:$B$4860,'A2'!$D16,'D5'!$BJ$11:$BJ$4860,BE$7,'D5'!$BP$11:$BP$4860,"taip") -> 0 | BF16: =SUMIFS('D5'!$AG$11:$AG$4860,'D5'!$B$11:$B$4860,'A2'!$D16,'D5'!$BJ$11:$BJ$4860,BF$7,'D5'!$BP$11:$BP$4860,"taip") -> 0 | BG16: =SUMIFS('D5'!$AG$11:$AG$4860,'D5'!$B$11:$B$4860,'A2'!$D16,'D5'!$BJ$11:$BJ$4860,BG$7,'D5'!$BP$11:$BP$4860,"taip") -> 0 | BH16: =SUMIFS('D5'!$AG$11:$AG$4860,'D5'!$B$11:$B$4860,'A2'!$D16,'D5'!$BJ$11:$BJ$4860,BH$7,'D5'!$BP$11:$BP$4860,"taip") -> 0 | BI16: =SUMIFS('D5'!$AG$11:$AG$4860,'D5'!$B$11:$B$4860,'A2'!$D16,'D5'!$BJ$11:$BJ$4860,BI$7,'D5'!$BP$11:$BP$4860,"taip") -> 0 | BJ16: =SUMIFS('D5'!$AG$11:$AG$4860,'D5'!$B$11:$B$4860,'A2'!$D16,'D5'!$BJ$11:$BJ$4860,BJ$7,'D5'!$BP$11:$BP$4860,"taip") -> 0 | BK16: =IF($F16>0,BD16/$F16*100,0) -> 0 | BL16: =IF($F16>0,BE16/$F16*100,0) -> 0 | BM16: =IF($F16>0,BF16/$F16*100,0) -> 0 | BN16: =IF($F16>0,BG16/$F16*100,0) -> 0 | BO16: =IF($F16>0,BH16/$F16*100,0) -> 0 | BP16: =IF($F16>0,BI16/$F16*100,0) -> 0 | BQ16: =IF($F16>0,BJ16/$F16*100,0) -> 0 | BR16: =SUM(BS16:BX16) -> 0 | BS16: =COUNTIFS('D5'!$B$11:$B$4860,'A2'!$D16,'D5'!$BK$11:$BK$4860,'A2'!BS$7,'D5'!$BS$11:$BS$4860,"taip") -> 0 | BT16: =COUNTIFS('D5'!$B$11:$B$4860,'A2'!$D16,'D5'!$BK$11:$BK$4860,'A2'!BT$7,'D5'!$BS$11:$BS$4860,"taip") -> 0 | BU16: =COUNTIFS('D5'!$B$11:$B$4860,'A2'!$D16,'D5'!$BK$11:$BK$4860,'A2'!BU$7,'D5'!$BS$11:$BS$4860,"taip") -> 0 | BV16: =COUNTIFS('D5'!$B$11:$B$4860,'A2'!$D16,'D5'!$BK$11:$BK$4860,'A2'!BV$7,'D5'!$BS$11:$BS$4860,"taip") -> 0 | BW16: =COUNTIFS('D5'!$B$11:$B$4860,'A2'!$D16,'D5'!$BK$11:$BK$4860,'A2'!BW$7,'D5'!$BS$11:$BS$4860,"taip") -> 0 | BX16: =COUNTIFS('D5'!$B$11:$B$4860,'A2'!$D16,'D5'!$BK$11:$BK$4860,'A2'!BX$7,'D5'!$BS$11:$BS$4860,"taip") -> 0 | BY16: =SUM(BZ16:CE16) -> 0 | BZ16: =SUMIFS('D5'!$AG$11:$AG$4860,'D5'!$B$11:$B$4860,'A2'!$D16,'D5'!$BK$11:$BK$4860,BZ$7,'D5'!$BS$11:$BS$4860,"taip") -> 0 | CA16: =SUMIFS('D5'!$AG$11:$AG$4860,'D5'!$B$11:$B$4860,'A2'!$D16,'D5'!$BK$11:$BK$4860,CA$7,'D5'!$BS$11:$BS$4860,"taip") -> 0 | CB16: =SUMIFS('D5'!$AG$11:$AG$4860,'D5'!$B$11:$B$4860,'A2'!$D16,'D5'!$BK$11:$BK$4860,CB$7,'D5'!$BS$11:$BS$4860,"taip") -> 0 | CC16: =SUMIFS('D5'!$AG$11:$AG$4860,'D5'!$B$11:$B$4860,'A2'!$D16,'D5'!$BK$11:$BK$4860,CC$7,'D5'!$BS$11:$BS$4860,"taip") -> 0 | CD16: =SUMIFS('D5'!$AG$11:$AG$4860,'D5'!$B$11:$B$4860,'A2'!$D16,'D5'!$BK$11:$BK$4860,CD$7,'D5'!$BS$11:$BS$4860,"taip") -> 0 | CE16: =SUMIFS('D5'!$AG$11:$AG$4860,'D5'!$B$11:$B$4860,'A2'!$D16,'D5'!$BK$11:$BK$4860,CE$7,'D5'!$BS$11:$BS$4860,"taip") -> 0 | CF16: =IF($F16>0,BY16/$F16*100,0) -> 0 | CG16: =IF($F16>0,BZ16/$F16*100,0) -> 0 | CH16: =IF($F16>0,CA16/$F16*100,0) -> 0 | CI16: =IF($F16>0,CB16/$F16*100,0) -> 0 | CJ16: =IF($F16>0,CC16/$F16*100,0) -> 0 | CK16: =IF($F16>0,CD16/$F16*100,0) -> 0 | CL16: =IF($F16>0,CE16/$F16*100,0) -> 0
A17: 8 priemonė | B17: ='VPS1'!C17 -> 0 | C17: ='VPS1'!D17 -> 0 | D17: ='VPS1'!J17 -> 0 | E17: ='VPS1'!L17 -> EŽŪFKP | F17: ='VPS1'!G17 -> 0 | G17: =SUM(H17:M17) -> 0 | H17: =COUNTIFS('D5'!$B$11:$B$4860,'A2'!$D17,'D5'!$BH$11:$BH$4860,'A2'!H$7,'D5'!$BN$11:$BN$4860,"taip") -> 0 | I17: =COUNTIFS('D5'!$B$11:$B$4860,'A2'!$D17,'D5'!$BH$11:$BH$4860,'A2'!I$7,'D5'!$BN$11:$BN$4860,"taip") -> 0 | J17: =COUNTIFS('D5'!$B$11:$B$4860,'A2'!$D17,'D5'!$BH$11:$BH$4860,'A2'!J$7,'D5'!$BN$11:$BN$4860,"taip") -> 0 | K17: =COUNTIFS('D5'!$B$11:$B$4860,'A2'!$D17,'D5'!$BH$11:$BH$4860,'A2'!K$7,'D5'!$BN$11:$BN$4860,"taip") -> 0 | L17: =COUNTIFS('D5'!$B$11:$B$4860,'A2'!$D17,'D5'!$BH$11:$BH$4860,'A2'!L$7,'D5'!$BN$11:$BN$4860,"taip") -> 0 | M17: =COUNTIFS('D5'!$B$11:$B$4860,'A2'!$D17,'D5'!$BH$11:$BH$4860,'A2'!M$7,'D5'!$BN$11:$BN$4860,"taip") -> 0 | N17: =SUM(O17:T17) -> 0 | O17: =SUMIFS('D5'!$L$11:$L$4860,'D5'!$B$11:$B$4860,'A2'!$D17,'D5'!$BH$11:$BH$4860,O$7,'D5'!$BN$11:$BN$4860,"taip") -> 0 | P17: =SUMIFS('D5'!$L$11:$L$4860,'D5'!$B$11:$B$4860,'A2'!$D17,'D5'!$BH$11:$BH$4860,P$7,'D5'!$BN$11:$BN$4860,"taip") -> 0 | Q17: =SUMIFS('D5'!$L$11:$L$4860,'D5'!$B$11:$B$4860,'A2'!$D17,'D5'!$BH$11:$BH$4860,Q$7,'D5'!$BN$11:$BN$4860,"taip") -> 0 | R17: =SUMIFS('D5'!$L$11:$L$4860,'D5'!$B$11:$B$4860,'A2'!$D17,'D5'!$BH$11:$BH$4860,R$7,'D5'!$BN$11:$BN$4860,"taip") -> 0 | S17: =SUMIFS('D5'!$L$11:$L$4860,'D5'!$B$11:$B$4860,'A2'!$D17,'D5'!$BH$11:$BH$4860,S$7,'D5'!$BN$11:$BN$4860,"taip") -> 0 | T17: =SUMIFS('D5'!$L$11:$L$4860,'D5'!$B$11:$B$4860,'A2'!$D17,'D5'!$BH$11:$BH$4860,T$7,'D5'!$BN$11:$BN$4860,"taip") -> 0 | U17: =IF($F17>0,N17/$F17*100,0) -> 0 | V17: =IF($F17>0,O17/$F17*100,0) -> 0 | W17: =IF($F17>0,P17/$F17*100,0) -> 0 | X17: =IF($F17>0,Q17/$F17*100,0) -> 0 | Y17: =IF($F17>0,R17/$F17*100,0) -> 0 | Z17: =IF($F17>0,S17/$F17*100,0) -> 0 | AA17: =IF($F17>0,T17/$F17*100,0) -> 0 | AB17: =SUM(AC17:AH17) -> 0 | AC17: =COUNTIFS('D5'!$B$11:$B$4860,'A2'!$D17,'D5'!$BI$11:$BI$4860,'A2'!AC$7,'D5'!$BO$11:$BO$4860,"taip") -> 0 | AD17: =COUNTIFS('D5'!$B$11:$B$4860,'A2'!$D17,'D5'!$BI$11:$BI$4860,'A2'!AD$7,'D5'!$BO$11:$BO$4860,"taip") -> 0 | AE17: =COUNTIFS('D5'!$B$11:$B$4860,'A2'!$D17,'D5'!$BI$11:$BI$4860,'A2'!AE$7,'D5'!$BO$11:$BO$4860,"taip") -> 0 | AF17: =COUNTIFS('D5'!$B$11:$B$4860,'A2'!$D17,'D5'!$BI$11:$BI$4860,'A2'!AF$7,'D5'!$BO$11:$BO$4860,"taip") -> 0 | AG17: =COUNTIFS('D5'!$B$11:$B$4860,'A2'!$D17,'D5'!$BI$11:$BI$4860,'A2'!AG$7,'D5'!$BO$11:$BO$4860,"taip") -> 0 | AH17: =COUNTIFS('D5'!$B$11:$B$4860,'A2'!$D17,'D5'!$BI$11:$BI$4860,'A2'!AH$7,'D5'!$BO$11:$BO$4860,"taip") -> 0 | AI17: =SUM(AJ17:AO17) -> 0 | AJ17: =SUMIFS('D5'!$AG$11:$AG$4860,'D5'!$B$11:$B$4860,'A2'!$D17,'D5'!$BI$11:$BI$4860,AJ$7,'D5'!$BO$11:$BO$4860,"taip") -> 0 | AK17: =SUMIFS('D5'!$AG$11:$AG$4860,'D5'!$B$11:$B$4860,'A2'!$D17,'D5'!$BI$11:$BI$4860,AK$7,'D5'!$BO$11:$BO$4860,"taip") -> 0 | AL17: =SUMIFS('D5'!$AG$11:$AG$4860,'D5'!$B$11:$B$4860,'A2'!$D17,'D5'!$BI$11:$BI$4860,AL$7,'D5'!$BO$11:$BO$4860,"taip") -> 0 | AM17: =SUMIFS('D5'!$AG$11:$AG$4860,'D5'!$B$11:$B$4860,'A2'!$D17,'D5'!$BI$11:$BI$4860,AM$7,'D5'!$BO$11:$BO$4860,"taip") -> 0 | AN17: =SUMIFS('D5'!$AG$11:$AG$4860,'D5'!$B$11:$B$4860,'A2'!$D17,'D5'!$BI$11:$BI$4860,AN$7,'D5'!$BO$11:$BO$4860,"taip") -> 0 | AO17: =SUMIFS('D5'!$AG$11:$AG$4860,'D5'!$B$11:$B$4860,'A2'!$D17,'D5'!$BI$11:$BI$4860,AO$7,'D5'!$BO$11:$BO$4860,"taip") -> 0 | AP17: =IF($F17>0,AI17/$F17*100,0) -> 0 | AQ17: =IF($F17>0,AJ17/$F17*100,0) -> 0 | AR17: =IF($F17>0,AK17/$F17*100,0) -> 0 | AS17: =IF($F17>0,AL17/$F17*100,0) -> 0 | AT17: =IF($F17>0,AM17/$F17*100,0) -> 0 | AU17: =IF($F17>0,AN17/$F17*100,0) -> 0 | AV17: =IF($F17>0,AO17/$F17*100,0) -> 0 | AW17: =SUM(AX17:BC17) -> 0 | AX17: =COUNTIFS('D5'!$B$11:$B$4860,'A2'!$D17,'D5'!$BJ$11:$BJ$4860,'A2'!AX$7,'D5'!$BP$11:$BP$4860,"taip") -> 0 | AY17: =COUNTIFS('D5'!$B$11:$B$4860,'A2'!$D17,'D5'!$BJ$11:$BJ$4860,'A2'!AY$7,'D5'!$BP$11:$BP$4860,"taip") -> 0 | AZ17: =COUNTIFS('D5'!$B$11:$B$4860,'A2'!$D17,'D5'!$BJ$11:$BJ$4860,'A2'!AZ$7,'D5'!$BP$11:$BP$4860,"taip") -> 0 | BA17: =COUNTIFS('D5'!$B$11:$B$4860,'A2'!$D17,'D5'!$BJ$11:$BJ$4860,'A2'!BA$7,'D5'!$BP$11:$BP$4860,"taip") -> 0 | BB17: =COUNTIFS('D5'!$B$11:$B$4860,'A2'!$D17,'D5'!$BJ$11:$BJ$4860,'A2'!BB$7,'D5'!$BP$11:$BP$4860,"taip") -> 0 | BC17: =COUNTIFS('D5'!$B$11:$B$4860,'A2'!$D17,'D5'!$BJ$11:$BJ$4860,'A2'!BC$7,'D5'!$BP$11:$BP$4860,"taip") -> 0 | BD17: =SUM(BE17:BJ17) -> 0 | BE17: =SUMIFS('D5'!$AG$11:$AG$4860,'D5'!$B$11:$B$4860,'A2'!$D17,'D5'!$BJ$11:$BJ$4860,BE$7,'D5'!$BP$11:$BP$4860,"taip") -> 0 | BF17: =SUMIFS('D5'!$AG$11:$AG$4860,'D5'!$B$11:$B$4860,'A2'!$D17,'D5'!$BJ$11:$BJ$4860,BF$7,'D5'!$BP$11:$BP$4860,"taip") -> 0 | BG17: =SUMIFS('D5'!$AG$11:$AG$4860,'D5'!$B$11:$B$4860,'A2'!$D17,'D5'!$BJ$11:$BJ$4860,BG$7,'D5'!$BP$11:$BP$4860,"taip") -> 0 | BH17: =SUMIFS('D5'!$AG$11:$AG$4860,'D5'!$B$11:$B$4860,'A2'!$D17,'D5'!$BJ$11:$BJ$4860,BH$7,'D5'!$BP$11:$BP$4860,"taip") -> 0 | BI17: =SUMIFS('D5'!$AG$11:$AG$4860,'D5'!$B$11:$B$4860,'A2'!$D17,'D5'!$BJ$11:$BJ$4860,BI$7,'D5'!$BP$11:$BP$4860,"taip") -> 0 | BJ17: =SUMIFS('D5'!$AG$11:$AG$4860,'D5'!$B$11:$B$4860,'A2'!$D17,'D5'!$BJ$11:$BJ$4860,BJ$7,'D5'!$BP$11:$BP$4860,"taip") -> 0 | BK17: =IF($F17>0,BD17/$F17*100,0) -> 0 | BL17: =IF($F17>0,BE17/$F17*100,0) -> 0 | BM17: =IF($F17>0,BF17/$F17*100,0) -> 0 | BN17: =IF($F17>0,BG17/$F17*100,0) -> 0 | BO17: =IF($F17>0,BH17/$F17*100,0) -> 0 | BP17: =IF($F17>0,BI17/$F17*100,0) -> 0 | BQ17: =IF($F17>0,BJ17/$F17*100,0) -> 0 | BR17: =SUM(BS17:BX17) -> 0 | BS17: =COUNTIFS('D5'!$B$11:$B$4860,'A2'!$D17,'D5'!$BK$11:$BK$4860,'A2'!BS$7,'D5'!$BS$11:$BS$4860,"taip") -> 0 | BT17: =COUNTIFS('D5'!$B$11:$B$4860,'A2'!$D17,'D5'!$BK$11:$BK$4860,'A2'!BT$7,'D5'!$BS$11:$BS$4860,"taip") -> 0 | BU17: =COUNTIFS('D5'!$B$11:$B$4860,'A2'!$D17,'D5'!$BK$11:$BK$4860,'A2'!BU$7,'D5'!$BS$11:$BS$4860,"taip") -> 0 | BV17: =COUNTIFS('D5'!$B$11:$B$4860,'A2'!$D17,'D5'!$BK$11:$BK$4860,'A2'!BV$7,'D5'!$BS$11:$BS$4860,"taip") -> 0 | BW17: =COUNTIFS('D5'!$B$11:$B$4860,'A2'!$D17,'D5'!$BK$11:$BK$4860,'A2'!BW$7,'D5'!$BS$11:$BS$4860,"taip") -> 0 | BX17: =COUNTIFS('D5'!$B$11:$B$4860,'A2'!$D17,'D5'!$BK$11:$BK$4860,'A2'!BX$7,'D5'!$BS$11:$BS$4860,"taip") -> 0 | BY17: =SUM(BZ17:CE17) -> 0 | BZ17: =SUMIFS('D5'!$AG$11:$AG$4860,'D5'!$B$11:$B$4860,'A2'!$D17,'D5'!$BK$11:$BK$4860,BZ$7,'D5'!$BS$11:$BS$4860,"taip") -> 0 | CA17: =SUMIFS('D5'!$AG$11:$AG$4860,'D5'!$B$11:$B$4860,'A2'!$D17,'D5'!$BK$11:$BK$4860,CA$7,'D5'!$BS$11:$BS$4860,"taip") -> 0 | CB17: =SUMIFS('D5'!$AG$11:$AG$4860,'D5'!$B$11:$B$4860,'A2'!$D17,'D5'!$BK$11:$BK$4860,CB$7,'D5'!$BS$11:$BS$4860,"taip") -> 0 | CC17: =SUMIFS('D5'!$AG$11:$AG$4860,'D5'!$B$11:$B$4860,'A2'!$D17,'D5'!$BK$11:$BK$4860,CC$7,'D5'!$BS$11:$BS$4860,"taip") -> 0 | CD17: =SUMIFS('D5'!$AG$11:$AG$4860,'D5'!$B$11:$B$4860,'A2'!$D17,'D5'!$BK$11:$BK$4860,CD$7,'D5'!$BS$11:$BS$4860,"taip") -> 0 | CE17: =SUMIFS('D5'!$AG$11:$AG$4860,'D5'!$B$11:$B$4860,'A2'!$D17,'D5'!$BK$11:$BK$4860,CE$7,'D5'!$BS$11:$BS$4860,"taip") -> 0 | CF17: =IF($F17>0,BY17/$F17*100,0) -> 0 | CG17: =IF($F17>0,BZ17/$F17*100,0) -> 0 | CH17: =IF($F17>0,CA17/$F17*100,0) -> 0 | CI17: =IF($F17>0,CB17/$F17*100,0) -> 0 | CJ17: =IF($F17>0,CC17/$F17*100,0) -> 0 | CK17: =IF($F17>0,CD17/$F17*100,0) -> 0 | CL17: =IF($F17>0,CE17/$F17*100,0) -> 0
A18: 9 priemonė | B18: ='VPS1'!C18 -> 0 | C18: ='VPS1'!D18 -> 0 | D18: ='VPS1'!J18 -> 0 | E18: ='VPS1'!L18 -> EŽŪFKP | F18: ='VPS1'!G18 -> 0 | G18: =SUM(H18:M18) -> 0 | H18: =COUNTIFS('D5'!$B$11:$B$4860,'A2'!$D18,'D5'!$BH$11:$BH$4860,'A2'!H$7,'D5'!$BN$11:$BN$4860,"taip") -> 0 | I18: =COUNTIFS('D5'!$B$11:$B$4860,'A2'!$D18,'D5'!$BH$11:$BH$4860,'A2'!I$7,'D5'!$BN$11:$BN$4860,"taip") -> 0 | J18: =COUNTIFS('D5'!$B$11:$B$4860,'A2'!$D18,'D5'!$BH$11:$BH$4860,'A2'!J$7,'D5'!$BN$11:$BN$4860,"taip") -> 0 | K18: =COUNTIFS('D5'!$B$11:$B$4860,'A2'!$D18,'D5'!$BH$11:$BH$4860,'A2'!K$7,'D5'!$BN$11:$BN$4860,"taip") -> 0 | L18: =COUNTIFS('D5'!$B$11:$B$4860,'A2'!$D18,'D5'!$BH$11:$BH$4860,'A2'!L$7,'D5'!$BN$11:$BN$4860,"taip") -> 0 | M18: =COUNTIFS('D5'!$B$11:$B$4860,'A2'!$D18,'D5'!$BH$11:$BH$4860,'A2'!M$7,'D5'!$BN$11:$BN$4860,"taip") -> 0 | N18: =SUM(O18:T18) -> 0 | O18: =SUMIFS('D5'!$L$11:$L$4860,'D5'!$B$11:$B$4860,'A2'!$D18,'D5'!$BH$11:$BH$4860,O$7,'D5'!$BN$11:$BN$4860,"taip") -> 0 | P18: =SUMIFS('D5'!$L$11:$L$4860,'D5'!$B$11:$B$4860,'A2'!$D18,'D5'!$BH$11:$BH$4860,P$7,'D5'!$BN$11:$BN$4860,"taip") -> 0 | Q18: =SUMIFS('D5'!$L$11:$L$4860,'D5'!$B$11:$B$4860,'A2'!$D18,'D5'!$BH$11:$BH$4860,Q$7,'D5'!$BN$11:$BN$4860,"taip") -> 0 | R18: =SUMIFS('D5'!$L$11:$L$4860,'D5'!$B$11:$B$4860,'A2'!$D18,'D5'!$BH$11:$BH$4860,R$7,'D5'!$BN$11:$BN$4860,"taip") -> 0 | S18: =SUMIFS('D5'!$L$11:$L$4860,'D5'!$B$11:$B$4860,'A2'!$D18,'D5'!$BH$11:$BH$4860,S$7,'D5'!$BN$11:$BN$4860,"taip") -> 0 | T18: =SUMIFS('D5'!$L$11:$L$4860,'D5'!$B$11:$B$4860,'A2'!$D18,'D5'!$BH$11:$BH$4860,T$7,'D5'!$BN$11:$BN$4860,"taip") -> 0 | U18: =IF($F18>0,N18/$F18*100,0) -> 0 | V18: =IF($F18>0,O18/$F18*100,0) -> 0 | W18: =IF($F18>0,P18/$F18*100,0) -> 0 | X18: =IF($F18>0,Q18/$F18*100,0) -> 0 | Y18: =IF($F18>0,R18/$F18*100,0) -> 0 | Z18: =IF($F18>0,S18/$F18*100,0) -> 0 | AA18: =IF($F18>0,T18/$F18*100,0) -> 0 | AB18: =SUM(AC18:AH18) -> 0 | AC18: =COUNTIFS('D5'!$B$11:$B$4860,'A2'!$D18,'D5'!$BI$11:$BI$4860,'A2'!AC$7,'D5'!$BO$11:$BO$4860,"taip") -> 0 | AD18: =COUNTIFS('D5'!$B$11:$B$4860,'A2'!$D18,'D5'!$BI$11:$BI$4860,'A2'!AD$7,'D5'!$BO$11:$BO$4860,"taip") -> 0 | AE18: =COUNTIFS('D5'!$B$11:$B$4860,'A2'!$D18,'D5'!$BI$11:$BI$4860,'A2'!AE$7,'D5'!$BO$11:$BO$4860,"taip") -> 0 | AF18: =COUNTIFS('D5'!$B$11:$B$4860,'A2'!$D18,'D5'!$BI$11:$BI$4860,'A2'!AF$7,'D5'!$BO$11:$BO$4860,"taip") -> 0 | AG18: =COUNTIFS('D5'!$B$11:$B$4860,'A2'!$D18,'D5'!$BI$11:$BI$4860,'A2'!AG$7,'D5'!$BO$11:$BO$4860,"taip") -> 0 | AH18: =COUNTIFS('D5'!$B$11:$B$4860,'A2'!$D18,'D5'!$BI$11:$BI$4860,'A2'!AH$7,'D5'!$BO$11:$BO$4860,"taip") -> 0 | AI18: =SUM(AJ18:AO18) -> 0 | AJ18: =SUMIFS('D5'!$AG$11:$AG$4860,'D5'!$B$11:$B$4860,'A2'!$D18,'D5'!$BI$11:$BI$4860,AJ$7,'D5'!$BO$11:$BO$4860,"taip") -> 0 | AK18: =SUMIFS('D5'!$AG$11:$AG$4860,'D5'!$B$11:$B$4860,'A2'!$D18,'D5'!$BI$11:$BI$4860,AK$7,'D5'!$BO$11:$BO$4860,"taip") -> 0 | AL18: =SUMIFS('D5'!$AG$11:$AG$4860,'D5'!$B$11:$B$4860,'A2'!$D18,'D5'!$BI$11:$BI$4860,AL$7,'D5'!$BO$11:$BO$4860,"taip") -> 0 | AM18: =SUMIFS('D5'!$AG$11:$AG$4860,'D5'!$B$11:$B$4860,'A2'!$D18,'D5'!$BI$11:$BI$4860,AM$7,'D5'!$BO$11:$BO$4860,"taip") -> 0 | AN18: =SUMIFS('D5'!$AG$11:$AG$4860,'D5'!$B$11:$B$4860,'A2'!$D18,'D5'!$BI$11:$BI$4860,AN$7,'D5'!$BO$11:$BO$4860,"taip") -> 0 | AO18: =SUMIFS('D5'!$AG$11:$AG$4860,'D5'!$B$11:$B$4860,'A2'!$D18,'D5'!$BI$11:$BI$4860,AO$7,'D5'!$BO$11:$BO$4860,"taip") -> 0 | AP18: =IF($F18>0,AI18/$F18*100,0) -> 0 | AQ18: =IF($F18>0,AJ18/$F18*100,0) -> 0 | AR18: =IF($F18>0,AK18/$F18*100,0) -> 0 | AS18: =IF($F18>0,AL18/$F18*100,0) -> 0 | AT18: =IF($F18>0,AM18/$F18*100,0) -> 0 | AU18: =IF($F18>0,AN18/$F18*100,0) -> 0 | AV18: =IF($F18>0,AO18/$F18*100,0) -> 0 | AW18: =SUM(AX18:BC18) -> 0 | AX18: =COUNTIFS('D5'!$B$11:$B$4860,'A2'!$D18,'D5'!$BJ$11:$BJ$4860,'A2'!AX$7,'D5'!$BP$11:$BP$4860,"taip") -> 0 | AY18: =COUNTIFS('D5'!$B$11:$B$4860,'A2'!$D18,'D5'!$BJ$11:$BJ$4860,'A2'!AY$7,'D5'!$BP$11:$BP$4860,"taip") -> 0 | AZ18: =COUNTIFS('D5'!$B$11:$B$4860,'A2'!$D18,'D5'!$BJ$11:$BJ$4860,'A2'!AZ$7,'D5'!$BP$11:$BP$4860,"taip") -> 0 | BA18: =COUNTIFS('D5'!$B$11:$B$4860,'A2'!$D18,'D5'!$BJ$11:$BJ$4860,'A2'!BA$7,'D5'!$BP$11:$BP$4860,"taip") -> 0 | BB18: =COUNTIFS('D5'!$B$11:$B$4860,'A2'!$D18,'D5'!$BJ$11:$BJ$4860,'A2'!BB$7,'D5'!$BP$11:$BP$4860,"taip") -> 0 | BC18: =COUNTIFS('D5'!$B$11:$B$4860,'A2'!$D18,'D5'!$BJ$11:$BJ$4860,'A2'!BC$7,'D5'!$BP$11:$BP$4860,"taip") -> 0 | BD18: =SUM(BE18:BJ18) -> 0 | BE18: =SUMIFS('D5'!$AG$11:$AG$4860,'D5'!$B$11:$B$4860,'A2'!$D18,'D5'!$BJ$11:$BJ$4860,BE$7,'D5'!$BP$11:$BP$4860,"taip") -> 0 | BF18: =SUMIFS('D5'!$AG$11:$AG$4860,'D5'!$B$11:$B$4860,'A2'!$D18,'D5'!$BJ$11:$BJ$4860,BF$7,'D5'!$BP$11:$BP$4860,"taip") -> 0 | BG18: =SUMIFS('D5'!$AG$11:$AG$4860,'D5'!$B$11:$B$4860,'A2'!$D18,'D5'!$BJ$11:$BJ$4860,BG$7,'D5'!$BP$11:$BP$4860,"taip") -> 0 | BH18: =SUMIFS('D5'!$AG$11:$AG$4860,'D5'!$B$11:$B$4860,'A2'!$D18,'D5'!$BJ$11:$BJ$4860,BH$7,'D5'!$BP$11:$BP$4860,"taip") -> 0 | BI18: =SUMIFS('D5'!$AG$11:$AG$4860,'D5'!$B$11:$B$4860,'A2'!$D18,'D5'!$BJ$11:$BJ$4860,BI$7,'D5'!$BP$11:$BP$4860,"taip") -> 0 | BJ18: =SUMIFS('D5'!$AG$11:$AG$4860,'D5'!$B$11:$B$4860,'A2'!$D18,'D5'!$BJ$11:$BJ$4860,BJ$7,'D5'!$BP$11:$BP$4860,"taip") -> 0 | BK18: =IF($F18>0,BD18/$F18*100,0) -> 0 | BL18: =IF($F18>0,BE18/$F18*100,0) -> 0 | BM18: =IF($F18>0,BF18/$F18*100,0) -> 0 | BN18: =IF($F18>0,BG18/$F18*100,0) -> 0 | BO18: =IF($F18>0,BH18/$F18*100,0) -> 0 | BP18: =IF($F18>0,BI18/$F18*100,0) -> 0 | BQ18: =IF($F18>0,BJ18/$F18*100,0) -> 0 | BR18: =SUM(BS18:BX18) -> 0 | BS18: =COUNTIFS('D5'!$B$11:$B$4860,'A2'!$D18,'D5'!$BK$11:$BK$4860,'A2'!BS$7,'D5'!$BS$11:$BS$4860,"taip") -> 0 | BT18: =COUNTIFS('D5'!$B$11:$B$4860,'A2'!$D18,'D5'!$BK$11:$BK$4860,'A2'!BT$7,'D5'!$BS$11:$BS$4860,"taip") -> 0 | BU18: =COUNTIFS('D5'!$B$11:$B$4860,'A2'!$D18,'D5'!$BK$11:$BK$4860,'A2'!BU$7,'D5'!$BS$11:$BS$4860,"taip") -> 0 | BV18: =COUNTIFS('D5'!$B$11:$B$4860,'A2'!$D18,'D5'!$BK$11:$BK$4860,'A2'!BV$7,'D5'!$BS$11:$BS$4860,"taip") -> 0 | BW18: =COUNTIFS('D5'!$B$11:$B$4860,'A2'!$D18,'D5'!$BK$11:$BK$4860,'A2'!BW$7,'D5'!$BS$11:$BS$4860,"taip") -> 0 | BX18: =COUNTIFS('D5'!$B$11:$B$4860,'A2'!$D18,'D5'!$BK$11:$BK$4860,'A2'!BX$7,'D5'!$BS$11:$BS$4860,"taip") -> 0 | BY18: =SUM(BZ18:CE18) -> 0 | BZ18: =SUMIFS('D5'!$AG$11:$AG$4860,'D5'!$B$11:$B$4860,'A2'!$D18,'D5'!$BK$11:$BK$4860,BZ$7,'D5'!$BS$11:$BS$4860,"taip") -> 0 | CA18: =SUMIFS('D5'!$AG$11:$AG$4860,'D5'!$B$11:$B$4860,'A2'!$D18,'D5'!$BK$11:$BK$4860,CA$7,'D5'!$BS$11:$BS$4860,"taip") -> 0 | CB18: =SUMIFS('D5'!$AG$11:$AG$4860,'D5'!$B$11:$B$4860,'A2'!$D18,'D5'!$BK$11:$BK$4860,CB$7,'D5'!$BS$11:$BS$4860,"taip") -> 0 | CC18: =SUMIFS('D5'!$AG$11:$AG$4860,'D5'!$B$11:$B$4860,'A2'!$D18,'D5'!$BK$11:$BK$4860,CC$7,'D5'!$BS$11:$BS$4860,"taip") -> 0 | CD18: =SUMIFS('D5'!$AG$11:$AG$4860,'D5'!$B$11:$B$4860,'A2'!$D18,'D5'!$BK$11:$BK$4860,CD$7,'D5'!$BS$11:$BS$4860,"taip") -> 0 | CE18: =SUMIFS('D5'!$AG$11:$AG$4860,'D5'!$B$11:$B$4860,'A2'!$D18,'D5'!$BK$11:$BK$4860,CE$7,'D5'!$BS$11:$BS$4860,"taip") -> 0 | CF18: =IF($F18>0,BY18/$F18*100,0) -> 0 | CG18: =IF($F18>0,BZ18/$F18*100,0) -> 0 | CH18: =IF($F18>0,CA18/$F18*100,0) -> 0 | CI18: =IF($F18>0,CB18/$F18*100,0) -> 0 | CJ18: =IF($F18>0,CC18/$F18*100,0) -> 0 | CK18: =IF($F18>0,CD18/$F18*100,0) -> 0 | CL18: =IF($F18>0,CE18/$F18*100,0) -> 0
A19: 10 priemonė | B19: ='VPS1'!C19 -> 0 | C19: ='VPS1'!D19 -> 0 | D19: ='VPS1'!J19 -> 0 | E19: ='VPS1'!L19 -> EŽŪFKP | F19: ='VPS1'!G19 -> 0 | G19: =SUM(H19:M19) -> 0 | H19: =COUNTIFS('D5'!$B$11:$B$4860,'A2'!$D19,'D5'!$BH$11:$BH$4860,'A2'!H$7,'D5'!$BN$11:$BN$4860,"taip") -> 0 | I19: =COUNTIFS('D5'!$B$11:$B$4860,'A2'!$D19,'D5'!$BH$11:$BH$4860,'A2'!I$7,'D5'!$BN$11:$BN$4860,"taip") -> 0 | J19: =COUNTIFS('D5'!$B$11:$B$4860,'A2'!$D19,'D5'!$BH$11:$BH$4860,'A2'!J$7,'D5'!$BN$11:$BN$4860,"taip") -> 0 | K19: =COUNTIFS('D5'!$B$11:$B$4860,'A2'!$D19,'D5'!$BH$11:$BH$4860,'A2'!K$7,'D5'!$BN$11:$BN$4860,"taip") -> 0 | L19: =COUNTIFS('D5'!$B$11:$B$4860,'A2'!$D19,'D5'!$BH$11:$BH$4860,'A2'!L$7,'D5'!$BN$11:$BN$4860,"taip") -> 0 | M19: =COUNTIFS('D5'!$B$11:$B$4860,'A2'!$D19,'D5'!$BH$11:$BH$4860,'A2'!M$7,'D5'!$BN$11:$BN$4860,"taip") -> 0 | N19: =SUM(O19:T19) -> 0 | O19: =SUMIFS('D5'!$L$11:$L$4860,'D5'!$B$11:$B$4860,'A2'!$D19,'D5'!$BH$11:$BH$4860,O$7,'D5'!$BN$11:$BN$4860,"taip") -> 0 | P19: =SUMIFS('D5'!$L$11:$L$4860,'D5'!$B$11:$B$4860,'A2'!$D19,'D5'!$BH$11:$BH$4860,P$7,'D5'!$BN$11:$BN$4860,"taip") -> 0 | Q19: =SUMIFS('D5'!$L$11:$L$4860,'D5'!$B$11:$B$4860,'A2'!$D19,'D5'!$BH$11:$BH$4860,Q$7,'D5'!$BN$11:$BN$4860,"taip") -> 0 | R19: =SUMIFS('D5'!$L$11:$L$4860,'D5'!$B$11:$B$4860,'A2'!$D19,'D5'!$BH$11:$BH$4860,R$7,'D5'!$BN$11:$BN$4860,"taip") -> 0 | S19: =SUMIFS('D5'!$L$11:$L$4860,'D5'!$B$11:$B$4860,'A2'!$D19,'D5'!$BH$11:$BH$4860,S$7,'D5'!$BN$11:$BN$4860,"taip") -> 0 | T19: =SUMIFS('D5'!$L$11:$L$4860,'D5'!$B$11:$B$4860,'A2'!$D19,'D5'!$BH$11:$BH$4860,T$7,'D5'!$BN$11:$BN$4860,"taip") -> 0 | U19: =IF($F19>0,N19/$F19*100,0) -> 0 | V19: =IF($F19>0,O19/$F19*100,0) -> 0 | W19: =IF($F19>0,P19/$F19*100,0) -> 0 | X19: =IF($F19>0,Q19/$F19*100,0) -> 0 | Y19: =IF($F19>0,R19/$F19*100,0) -> 0 | Z19: =IF($F19>0,S19/$F19*100,0) -> 0 | AA19: =IF($F19>0,T19/$F19*100,0) -> 0 | AB19: =SUM(AC19:AH19) -> 0 | AC19: =COUNTIFS('D5'!$B$11:$B$4860,'A2'!$D19,'D5'!$BI$11:$BI$4860,'A2'!AC$7,'D5'!$BO$11:$BO$4860,"taip") -> 0 | AD19: =COUNTIFS('D5'!$B$11:$B$4860,'A2'!$D19,'D5'!$BI$11:$BI$4860,'A2'!AD$7,'D5'!$BO$11:$BO$4860,"taip") -> 0 | AE19: =COUNTIFS('D5'!$B$11:$B$4860,'A2'!$D19,'D5'!$BI$11:$BI$4860,'A2'!AE$7,'D5'!$BO$11:$BO$4860,"taip") -> 0 | AF19: =COUNTIFS('D5'!$B$11:$B$4860,'A2'!$D19,'D5'!$BI$11:$BI$4860,'A2'!AF$7,'D5'!$BO$11:$BO$4860,"taip") -> 0 | AG19: =COUNTIFS('D5'!$B$11:$B$4860,'A2'!$D19,'D5'!$BI$11:$BI$4860,'A2'!AG$7,'D5'!$BO$11:$BO$4860,"taip") -> 0 | AH19: =COUNTIFS('D5'!$B$11:$B$4860,'A2'!$D19,'D5'!$BI$11:$BI$4860,'A2'!AH$7,'D5'!$BO$11:$BO$4860,"taip") -> 0 | AI19: =SUM(AJ19:AO19) -> 0 | AJ19: =SUMIFS('D5'!$AG$11:$AG$4860,'D5'!$B$11:$B$4860,'A2'!$D19,'D5'!$BI$11:$BI$4860,AJ$7,'D5'!$BO$11:$BO$4860,"taip") -> 0 | AK19: =SUMIFS('D5'!$AG$11:$AG$4860,'D5'!$B$11:$B$4860,'A2'!$D19,'D5'!$BI$11:$BI$4860,AK$7,'D5'!$BO$11:$BO$4860,"taip") -> 0 | AL19: =SUMIFS('D5'!$AG$11:$AG$4860,'D5'!$B$11:$B$4860,'A2'!$D19,'D5'!$BI$11:$BI$4860,AL$7,'D5'!$BO$11:$BO$4860,"taip") -> 0 | AM19: =SUMIFS('D5'!$AG$11:$AG$4860,'D5'!$B$11:$B$4860,'A2'!$D19,'D5'!$BI$11:$BI$4860,AM$7,'D5'!$BO$11:$BO$4860,"taip") -> 0 | AN19: =SUMIFS('D5'!$AG$11:$AG$4860,'D5'!$B$11:$B$4860,'A2'!$D19,'D5'!$BI$11:$BI$4860,AN$7,'D5'!$BO$11:$BO$4860,"taip") -> 0 | AO19: =SUMIFS('D5'!$AG$11:$AG$4860,'D5'!$B$11:$B$4860,'A2'!$D19,'D5'!$BI$11:$BI$4860,AO$7,'D5'!$BO$11:$BO$4860,"taip") -> 0 | AP19: =IF($F19>0,AI19/$F19*100,0) -> 0 | AQ19: =IF($F19>0,AJ19/$F19*100,0) -> 0 | AR19: =IF($F19>0,AK19/$F19*100,0) -> 0 | AS19: =IF($F19>0,AL19/$F19*100,0) -> 0 | AT19: =IF($F19>0,AM19/$F19*100,0) -> 0 | AU19: =IF($F19>0,AN19/$F19*100,0) -> 0 | AV19: =IF($F19>0,AO19/$F19*100,0) -> 0 | AW19: =SUM(AX19:BC19) -> 0 | AX19: =COUNTIFS('D5'!$B$11:$B$4860,'A2'!$D19,'D5'!$BJ$11:$BJ$4860,'A2'!AX$7,'D5'!$BP$11:$BP$4860,"taip") -> 0 | AY19: =COUNTIFS('D5'!$B$11:$B$4860,'A2'!$D19,'D5'!$BJ$11:$BJ$4860,'A2'!AY$7,'D5'!$BP$11:$BP$4860,"taip") -> 0 | AZ19: =COUNTIFS('D5'!$B$11:$B$4860,'A2'!$D19,'D5'!$BJ$11:$BJ$4860,'A2'!AZ$7,'D5'!$BP$11:$BP$4860,"taip") -> 0 | BA19: =COUNTIFS('D5'!$B$11:$B$4860,'A2'!$D19,'D5'!$BJ$11:$BJ$4860,'A2'!BA$7,'D5'!$BP$11:$BP$4860,"taip") -> 0 | BB19: =COUNTIFS('D5'!$B$11:$B$4860,'A2'!$D19,'D5'!$BJ$11:$BJ$4860,'A2'!BB$7,'D5'!$BP$11:$BP$4860,"taip") -> 0 | BC19: =COUNTIFS('D5'!$B$11:$B$4860,'A2'!$D19,'D5'!$BJ$11:$BJ$4860,'A2'!BC$7,'D5'!$BP$11:$BP$4860,"taip") -> 0 | BD19: =SUM(BE19:BJ19) -> 0 | BE19: =SUMIFS('D5'!$AG$11:$AG$4860,'D5'!$B$11:$B$4860,'A2'!$D19,'D5'!$BJ$11:$BJ$4860,BE$7,'D5'!$BP$11:$BP$4860,"taip") -> 0 | BF19: =SUMIFS('D5'!$AG$11:$AG$4860,'D5'!$B$11:$B$4860,'A2'!$D19,'D5'!$BJ$11:$BJ$4860,BF$7,'D5'!$BP$11:$BP$4860,"taip") -> 0 | BG19: =SUMIFS('D5'!$AG$11:$AG$4860,'D5'!$B$11:$B$4860,'A2'!$D19,'D5'!$BJ$11:$BJ$4860,BG$7,'D5'!$BP$11:$BP$4860,"taip") -> 0 | BH19: =SUMIFS('D5'!$AG$11:$AG$4860,'D5'!$B$11:$B$4860,'A2'!$D19,'D5'!$BJ$11:$BJ$4860,BH$7,'D5'!$BP$11:$BP$4860,"taip") -> 0 | BI19: =SUMIFS('D5'!$AG$11:$AG$4860,'D5'!$B$11:$B$4860,'A2'!$D19,'D5'!$BJ$11:$BJ$4860,BI$7,'D5'!$BP$11:$BP$4860,"taip") -> 0 | BJ19: =SUMIFS('D5'!$AG$11:$AG$4860,'D5'!$B$11:$B$4860,'A2'!$D19,'D5'!$BJ$11:$BJ$4860,BJ$7,'D5'!$BP$11:$BP$4860,"taip") -> 0 | BK19: =IF($F19>0,BD19/$F19*100,0) -> 0 | BL19: =IF($F19>0,BE19/$F19*100,0) -> 0 | BM19: =IF($F19>0,BF19/$F19*100,0) -> 0 | BN19: =IF($F19>0,BG19/$F19*100,0) -> 0 | BO19: =IF($F19>0,BH19/$F19*100,0) -> 0 | BP19: =IF($F19>0,BI19/$F19*100,0) -> 0 | BQ19: =IF($F19>0,BJ19/$F19*100,0) -> 0 | BR19: =SUM(BS19:BX19) -> 0 | BS19: =COUNTIFS('D5'!$B$11:$B$4860,'A2'!$D19,'D5'!$BK$11:$BK$4860,'A2'!BS$7,'D5'!$BS$11:$BS$4860,"taip") -> 0 | BT19: =COUNTIFS('D5'!$B$11:$B$4860,'A2'!$D19,'D5'!$BK$11:$BK$4860,'A2'!BT$7,'D5'!$BS$11:$BS$4860,"taip") -> 0 | BU19: =COUNTIFS('D5'!$B$11:$B$4860,'A2'!$D19,'D5'!$BK$11:$BK$4860,'A2'!BU$7,'D5'!$BS$11:$BS$4860,"taip") -> 0 | BV19: =COUNTIFS('D5'!$B$11:$B$4860,'A2'!$D19,'D5'!$BK$11:$BK$4860,'A2'!BV$7,'D5'!$BS$11:$BS$4860,"taip") -> 0 | BW19: =COUNTIFS('D5'!$B$11:$B$4860,'A2'!$D19,'D5'!$BK$11:$BK$4860,'A2'!BW$7,'D5'!$BS$11:$BS$4860,"taip") -> 0 | BX19: =COUNTIFS('D5'!$B$11:$B$4860,'A2'!$D19,'D5'!$BK$11:$BK$4860,'A2'!BX$7,'D5'!$BS$11:$BS$4860,"taip") -> 0 | BY19: =SUM(BZ19:CE19) -> 0 | BZ19: =SUMIFS('D5'!$AG$11:$AG$4860,'D5'!$B$11:$B$4860,'A2'!$D19,'D5'!$BK$11:$BK$4860,BZ$7,'D5'!$BS$11:$BS$4860,"taip") -> 0 | CA19: =SUMIFS('D5'!$AG$11:$AG$4860,'D5'!$B$11:$B$4860,'A2'!$D19,'D5'!$BK$11:$BK$4860,CA$7,'D5'!$BS$11:$BS$4860,"taip") -> 0 | CB19: =SUMIFS('D5'!$AG$11:$AG$4860,'D5'!$B$11:$B$4860,'A2'!$D19,'D5'!$BK$11:$BK$4860,CB$7,'D5'!$BS$11:$BS$4860,"taip") -> 0 | CC19: =SUMIFS('D5'!$AG$11:$AG$4860,'D5'!$B$11:$B$4860,'A2'!$D19,'D5'!$BK$11:$BK$4860,CC$7,'D5'!$BS$11:$BS$4860,"taip") -> 0 | CD19: =SUMIFS('D5'!$AG$11:$AG$4860,'D5'!$B$11:$B$4860,'A2'!$D19,'D5'!$BK$11:$BK$4860,CD$7,'D5'!$BS$11:$BS$4860,"taip") -> 0 | CE19: =SUMIFS('D5'!$AG$11:$AG$4860,'D5'!$B$11:$B$4860,'A2'!$D19,'D5'!$BK$11:$BK$4860,CE$7,'D5'!$BS$11:$BS$4860,"taip") -> 0 | CF19: =IF($F19>0,BY19/$F19*100,0) -> 0 | CG19: =IF($F19>0,BZ19/$F19*100,0) -> 0 | CH19: =IF($F19>0,CA19/$F19*100,0) -> 0 | CI19: =IF($F19>0,CB19/$F19*100,0) -> 0 | CJ19: =IF($F19>0,CC19/$F19*100,0) -> 0 | CK19: =IF($F19>0,CD19/$F19*100,0) -> 0 | CL19: =IF($F19>0,CE19/$F19*100,0) -> 0
A20: 11 priemonė | B20: ='VPS1'!C20 -> 0 | C20: ='VPS1'!D20 -> 0 | D20: ='VPS1'!J20 -> 0 | E20: ='VPS1'!L20 -> EŽŪFKP | F20: ='VPS1'!G20 -> 0 | G20: =SUM(H20:M20) -> 0 | H20: =COUNTIFS('D5'!$B$11:$B$4860,'A2'!$D20,'D5'!$BH$11:$BH$4860,'A2'!H$7,'D5'!$BN$11:$BN$4860,"taip") -> 0 | I20: =COUNTIFS('D5'!$B$11:$B$4860,'A2'!$D20,'D5'!$BH$11:$BH$4860,'A2'!I$7,'D5'!$BN$11:$BN$4860,"taip") -> 0 | J20: =COUNTIFS('D5'!$B$11:$B$4860,'A2'!$D20,'D5'!$BH$11:$BH$4860,'A2'!J$7,'D5'!$BN$11:$BN$4860,"taip") -> 0 | K20: =COUNTIFS('D5'!$B$11:$B$4860,'A2'!$D20,'D5'!$BH$11:$BH$4860,'A2'!K$7,'D5'!$BN$11:$BN$4860,"taip") -> 0 | L20: =COUNTIFS('D5'!$B$11:$B$4860,'A2'!$D20,'D5'!$BH$11:$BH$4860,'A2'!L$7,'D5'!$BN$11:$BN$4860,"taip") -> 0 | M20: =COUNTIFS('D5'!$B$11:$B$4860,'A2'!$D20,'D5'!$BH$11:$BH$4860,'A2'!M$7,'D5'!$BN$11:$BN$4860,"taip") -> 0 | N20: =SUM(O20:T20) -> 0 | O20: =SUMIFS('D5'!$L$11:$L$4860,'D5'!$B$11:$B$4860,'A2'!$D20,'D5'!$BH$11:$BH$4860,O$7,'D5'!$BN$11:$BN$4860,"taip") -> 0 | P20: =SUMIFS('D5'!$L$11:$L$4860,'D5'!$B$11:$B$4860,'A2'!$D20,'D5'!$BH$11:$BH$4860,P$7,'D5'!$BN$11:$BN$4860,"taip") -> 0 | Q20: =SUMIFS('D5'!$L$11:$L$4860,'D5'!$B$11:$B$4860,'A2'!$D20,'D5'!$BH$11:$BH$4860,Q$7,'D5'!$BN$11:$BN$4860,"taip") -> 0 | R20: =SUMIFS('D5'!$L$11:$L$4860,'D5'!$B$11:$B$4860,'A2'!$D20,'D5'!$BH$11:$BH$4860,R$7,'D5'!$BN$11:$BN$4860,"taip") -> 0 | S20: =SUMIFS('D5'!$L$11:$L$4860,'D5'!$B$11:$B$4860,'A2'!$D20,'D5'!$BH$11:$BH$4860,S$7,'D5'!$BN$11:$BN$4860,"taip") -> 0 | T20: =SUMIFS('D5'!$L$11:$L$4860,'D5'!$B$11:$B$4860,'A2'!$D20,'D5'!$BH$11:$BH$4860,T$7,'D5'!$BN$11:$BN$4860,"taip") -> 0 | U20: =IF($F20>0,N20/$F20*100,0) -> 0 | V20: =IF($F20>0,O20/$F20*100,0) -> 0 | W20: =IF($F20>0,P20/$F20*100,0) -> 0 | X20: =IF($F20>0,Q20/$F20*100,0) -> 0 | Y20: =IF($F20>0,R20/$F20*100,0) -> 0 | Z20: =IF($F20>0,S20/$F20*100,0) -> 0 | AA20: =IF($F20>0,T20/$F20*100,0) -> 0 | AB20: =SUM(AC20:AH20) -> 0 | AC20: =COUNTIFS('D5'!$B$11:$B$4860,'A2'!$D20,'D5'!$BI$11:$BI$4860,'A2'!AC$7,'D5'!$BO$11:$BO$4860,"taip") -> 0 | AD20: =COUNTIFS('D5'!$B$11:$B$4860,'A2'!$D20,'D5'!$BI$11:$BI$4860,'A2'!AD$7,'D5'!$BO$11:$BO$4860,"taip") -> 0 | AE20: =COUNTIFS('D5'!$B$11:$B$4860,'A2'!$D20,'D5'!$BI$11:$BI$4860,'A2'!AE$7,'D5'!$BO$11:$BO$4860,"taip") -> 0 | AF20: =COUNTIFS('D5'!$B$11:$B$4860,'A2'!$D20,'D5'!$BI$11:$BI$4860,'A2'!AF$7,'D5'!$BO$11:$BO$4860,"taip") -> 0 | AG20: =COUNTIFS('D5'!$B$11:$B$4860,'A2'!$D20,'D5'!$BI$11:$BI$4860,'A2'!AG$7,'D5'!$BO$11:$BO$4860,"taip") -> 0 | AH20: =COUNTIFS('D5'!$B$11:$B$4860,'A2'!$D20,'D5'!$BI$11:$BI$4860,'A2'!AH$7,'D5'!$BO$11:$BO$4860,"taip") -> 0 | AI20: =SUM(AJ20:AO20) -> 0 | AJ20: =SUMIFS('D5'!$AG$11:$AG$4860,'D5'!$B$11:$B$4860,'A2'!$D20,'D5'!$BI$11:$BI$4860,AJ$7,'D5'!$BO$11:$BO$4860,"taip") -> 0 | AK20: =SUMIFS('D5'!$AG$11:$AG$4860,'D5'!$B$11:$B$4860,'A2'!$D20,'D5'!$BI$11:$BI$4860,AK$7,'D5'!$BO$11:$BO$4860,"taip") -> 0 | AL20: =SUMIFS('D5'!$AG$11:$AG$4860,'D5'!$B$11:$B$4860,'A2'!$D20,'D5'!$BI$11:$BI$4860,AL$7,'D5'!$BO$11:$BO$4860,"taip") -> 0 | AM20: =SUMIFS('D5'!$AG$11:$AG$4860,'D5'!$B$11:$B$4860,'A2'!$D20,'D5'!$BI$11:$BI$4860,AM$7,'D5'!$BO$11:$BO$4860,"taip") -> 0 | AN20: =SUMIFS('D5'!$AG$11:$AG$4860,'D5'!$B$11:$B$4860,'A2'!$D20,'D5'!$BI$11:$BI$4860,AN$7,'D5'!$BO$11:$BO$4860,"taip") -> 0 | AO20: =SUMIFS('D5'!$AG$11:$AG$4860,'D5'!$B$11:$B$4860,'A2'!$D20,'D5'!$BI$11:$BI$4860,AO$7,'D5'!$BO$11:$BO$4860,"taip") -> 0 | AP20: =IF($F20>0,AI20/$F20*100,0) -> 0 | AQ20: =IF($F20>0,AJ20/$F20*100,0) -> 0 | AR20: =IF($F20>0,AK20/$F20*100,0) -> 0 | AS20: =IF($F20>0,AL20/$F20*100,0) -> 0 | AT20: =IF($F20>0,AM20/$F20*100,0) -> 0 | AU20: =IF($F20>0,AN20/$F20*100,0) -> 0 | AV20: =IF($F20>0,AO20/$F20*100,0) -> 0 | AW20: =SUM(AX20:BC20) -> 0 | AX20: =COUNTIFS('D5'!$B$11:$B$4860,'A2'!$D20,'D5'!$BJ$11:$BJ$4860,'A2'!AX$7,'D5'!$BP$11:$BP$4860,"taip") -> 0 | AY20: =COUNTIFS('D5'!$B$11:$B$4860,'A2'!$D20,'D5'!$BJ$11:$BJ$4860,'A2'!AY$7,'D5'!$BP$11:$BP$4860,"taip") -> 0 | AZ20: =COUNTIFS('D5'!$B$11:$B$4860,'A2'!$D20,'D5'!$BJ$11:$BJ$4860,'A2'!AZ$7,'D5'!$BP$11:$BP$4860,"taip") -> 0 | BA20: =COUNTIFS('D5'!$B$11:$B$4860,'A2'!$D20,'D5'!$BJ$11:$BJ$4860,'A2'!BA$7,'D5'!$BP$11:$BP$4860,"taip") -> 0 | BB20: =COUNTIFS('D5'!$B$11:$B$4860,'A2'!$D20,'D5'!$BJ$11:$BJ$4860,'A2'!BB$7,'D5'!$BP$11:$BP$4860,"taip") -> 0 | BC20: =COUNTIFS('D5'!$B$11:$B$4860,'A2'!$D20,'D5'!$BJ$11:$BJ$4860,'A2'!BC$7,'D5'!$BP$11:$BP$4860,"taip") -> 0 | BD20: =SUM(BE20:BJ20) -> 0 | BE20: =SUMIFS('D5'!$AG$11:$AG$4860,'D5'!$B$11:$B$4860,'A2'!$D20,'D5'!$BJ$11:$BJ$4860,BE$7,'D5'!$BP$11:$BP$4860,"taip") -> 0 | BF20: =SUMIFS('D5'!$AG$11:$AG$4860,'D5'!$B$11:$B$4860,'A2'!$D20,'D5'!$BJ$11:$BJ$4860,BF$7,'D5'!$BP$11:$BP$4860,"taip") -> 0 | BG20: =SUMIFS('D5'!$AG$11:$AG$4860,'D5'!$B$11:$B$4860,'A2'!$D20,'D5'!$BJ$11:$BJ$4860,BG$7,'D5'!$BP$11:$BP$4860,"taip") -> 0 | BH20: =SUMIFS('D5'!$AG$11:$AG$4860,'D5'!$B$11:$B$4860,'A2'!$D20,'D5'!$BJ$11:$BJ$4860,BH$7,'D5'!$BP$11:$BP$4860,"taip") -> 0 | BI20: =SUMIFS('D5'!$AG$11:$AG$4860,'D5'!$B$11:$B$4860,'A2'!$D20,'D5'!$BJ$11:$BJ$4860,BI$7,'D5'!$BP$11:$BP$4860,"taip") -> 0 | BJ20: =SUMIFS('D5'!$AG$11:$AG$4860,'D5'!$B$11:$B$4860,'A2'!$D20,'D5'!$BJ$11:$BJ$4860,BJ$7,'D5'!$BP$11:$BP$4860,"taip") -> 0 | BK20: =IF($F20>0,BD20/$F20*100,0) -> 0 | BL20: =IF($F20>0,BE20/$F20*100,0) -> 0 | BM20: =IF($F20>0,BF20/$F20*100,0) -> 0 | BN20: =IF($F20>0,BG20/$F20*100,0) -> 0 | BO20: =IF($F20>0,BH20/$F20*100,0) -> 0 | BP20: =IF($F20>0,BI20/$F20*100,0) -> 0 | BQ20: =IF($F20>0,BJ20/$F20*100,0) -> 0 | BR20: =SUM(BS20:BX20) -> 0 | BS20: =COUNTIFS('D5'!$B$11:$B$4860,'A2'!$D20,'D5'!$BK$11:$BK$4860,'A2'!BS$7,'D5'!$BS$11:$BS$4860,"taip") -> 0 | BT20: =COUNTIFS('D5'!$B$11:$B$4860,'A2'!$D20,'D5'!$BK$11:$BK$4860,'A2'!BT$7,'D5'!$BS$11:$BS$4860,"taip") -> 0 | BU20: =COUNTIFS('D5'!$B$11:$B$4860,'A2'!$D20,'D5'!$BK$11:$BK$4860,'A2'!BU$7,'D5'!$BS$11:$BS$4860,"taip") -> 0 | BV20: =COUNTIFS('D5'!$B$11:$B$4860,'A2'!$D20,'D5'!$BK$11:$BK$4860,'A2'!BV$7,'D5'!$BS$11:$BS$4860,"taip") -> 0 | BW20: =COUNTIFS('D5'!$B$11:$B$4860,'A2'!$D20,'D5'!$BK$11:$BK$4860,'A2'!BW$7,'D5'!$BS$11:$BS$4860,"taip") -> 0 | BX20: =COUNTIFS('D5'!$B$11:$B$4860,'A2'!$D20,'D5'!$BK$11:$BK$4860,'A2'!BX$7,'D5'!$BS$11:$BS$4860,"taip") -> 0 | BY20: =SUM(BZ20:CE20) -> 0 | BZ20: =SUMIFS('D5'!$AG$11:$AG$4860,'D5'!$B$11:$B$4860,'A2'!$D20,'D5'!$BK$11:$BK$4860,BZ$7,'D5'!$BS$11:$BS$4860,"taip") -> 0 | CA20: =SUMIFS('D5'!$AG$11:$AG$4860,'D5'!$B$11:$B$4860,'A2'!$D20,'D5'!$BK$11:$BK$4860,CA$7,'D5'!$BS$11:$BS$4860,"taip") -> 0 | CB20: =SUMIFS('D5'!$AG$11:$AG$4860,'D5'!$B$11:$B$4860,'A2'!$D20,'D5'!$BK$11:$BK$4860,CB$7,'D5'!$BS$11:$BS$4860,"taip") -> 0 | CC20: =SUMIFS('D5'!$AG$11:$AG$4860,'D5'!$B$11:$B$4860,'A2'!$D20,'D5'!$BK$11:$BK$4860,CC$7,'D5'!$BS$11:$BS$4860,"taip") -> 0 | CD20: =SUMIFS('D5'!$AG$11:$AG$4860,'D5'!$B$11:$B$4860,'A2'!$D20,'D5'!$BK$11:$BK$4860,CD$7,'D5'!$BS$11:$BS$4860,"taip") -> 0 | CE20: =SUMIFS('D5'!$AG$11:$AG$4860,'D5'!$B$11:$B$4860,'A2'!$D20,'D5'!$BK$11:$BK$4860,CE$7,'D5'!$BS$11:$BS$4860,"taip") -> 0 | CF20: =IF($F20>0,BY20/$F20*100,0) -> 0 | CG20: =IF($F20>0,BZ20/$F20*100,0) -> 0 | CH20: =IF($F20>0,CA20/$F20*100,0) -> 0 | CI20: =IF($F20>0,CB20/$F20*100,0) -> 0 | CJ20: =IF($F20>0,CC20/$F20*100,0) -> 0 | CK20: =IF($F20>0,CD20/$F20*100,0) -> 0 | CL20: =IF($F20>0,CE20/$F20*100,0) -> 0
A21: 12 priemonė | B21: ='VPS1'!C21 -> 0 | C21: ='VPS1'!D21 -> 0 | D21: ='VPS1'!J21 -> 0 | E21: ='VPS1'!L21 -> EŽŪFKP | F21: ='VPS1'!G21 -> 0 | G21: =SUM(H21:M21) -> 0 | H21: =COUNTIFS('D5'!$B$11:$B$4860,'A2'!$D21,'D5'!$BH$11:$BH$4860,'A2'!H$7,'D5'!$BN$11:$BN$4860,"taip") -> 0 | I21: =COUNTIFS('D5'!$B$11:$B$4860,'A2'!$D21,'D5'!$BH$11:$BH$4860,'A2'!I$7,'D5'!$BN$11:$BN$4860,"taip") -> 0 | J21: =COUNTIFS('D5'!$B$11:$B$4860,'A2'!$D21,'D5'!$BH$11:$BH$4860,'A2'!J$7,'D5'!$BN$11:$BN$4860,"taip") -> 0 | K21: =COUNTIFS('D5'!$B$11:$B$4860,'A2'!$D21,'D5'!$BH$11:$BH$4860,'A2'!K$7,'D5'!$BN$11:$BN$4860,"taip") -> 0 | L21: =COUNTIFS('D5'!$B$11:$B$4860,'A2'!$D21,'D5'!$BH$11:$BH$4860,'A2'!L$7,'D5'!$BN$11:$BN$4860,"taip") -> 0 | M21: =COUNTIFS('D5'!$B$11:$B$4860,'A2'!$D21,'D5'!$BH$11:$BH$4860,'A2'!M$7,'D5'!$BN$11:$BN$4860,"taip") -> 0 | N21: =SUM(O21:T21) -> 0 | O21: =SUMIFS('D5'!$L$11:$L$4860,'D5'!$B$11:$B$4860,'A2'!$D21,'D5'!$BH$11:$BH$4860,O$7,'D5'!$BN$11:$BN$4860,"taip") -> 0 | P21: =SUMIFS('D5'!$L$11:$L$4860,'D5'!$B$11:$B$4860,'A2'!$D21,'D5'!$BH$11:$BH$4860,P$7,'D5'!$BN$11:$BN$4860,"taip") -> 0 | Q21: =SUMIFS('D5'!$L$11:$L$4860,'D5'!$B$11:$B$4860,'A2'!$D21,'D5'!$BH$11:$BH$4860,Q$7,'D5'!$BN$11:$BN$4860,"taip") -> 0 | R21: =SUMIFS('D5'!$L$11:$L$4860,'D5'!$B$11:$B$4860,'A2'!$D21,'D5'!$BH$11:$BH$4860,R$7,'D5'!$BN$11:$BN$4860,"taip") -> 0 | S21: =SUMIFS('D5'!$L$11:$L$4860,'D5'!$B$11:$B$4860,'A2'!$D21,'D5'!$BH$11:$BH$4860,S$7,'D5'!$BN$11:$BN$4860,"taip") -> 0 | T21: =SUMIFS('D5'!$L$11:$L$4860,'D5'!$B$11:$B$4860,'A2'!$D21,'D5'!$BH$11:$BH$4860,T$7,'D5'!$BN$11:$BN$4860,"taip") -> 0 | U21: =IF($F21>0,N21/$F21*100,0) -> 0 | V21: =IF($F21>0,O21/$F21*100,0) -> 0 | W21: =IF($F21>0,P21/$F21*100,0) -> 0 | X21: =IF($F21>0,Q21/$F21*100,0) -> 0 | Y21: =IF($F21>0,R21/$F21*100,0) -> 0 | Z21: =IF($F21>0,S21/$F21*100,0) -> 0 | AA21: =IF($F21>0,T21/$F21*100,0) -> 0 | AB21: =SUM(AC21:AH21) -> 0 | AC21: =COUNTIFS('D5'!$B$11:$B$4860,'A2'!$D21,'D5'!$BI$11:$BI$4860,'A2'!AC$7,'D5'!$BO$11:$BO$4860,"taip") -> 0 | AD21: =COUNTIFS('D5'!$B$11:$B$4860,'A2'!$D21,'D5'!$BI$11:$BI$4860,'A2'!AD$7,'D5'!$BO$11:$BO$4860,"taip") -> 0 | AE21: =COUNTIFS('D5'!$B$11:$B$4860,'A2'!$D21,'D5'!$BI$11:$BI$4860,'A2'!AE$7,'D5'!$BO$11:$BO$4860,"taip") -> 0 | AF21: =COUNTIFS('D5'!$B$11:$B$4860,'A2'!$D21,'D5'!$BI$11:$BI$4860,'A2'!AF$7,'D5'!$BO$11:$BO$4860,"taip") -> 0 | AG21: =COUNTIFS('D5'!$B$11:$B$4860,'A2'!$D21,'D5'!$BI$11:$BI$4860,'A2'!AG$7,'D5'!$BO$11:$BO$4860,"taip") -> 0 | AH21: =COUNTIFS('D5'!$B$11:$B$4860,'A2'!$D21,'D5'!$BI$11:$BI$4860,'A2'!AH$7,'D5'!$BO$11:$BO$4860,"taip") -> 0 | AI21: =SUM(AJ21:AO21) -> 0 | AJ21: =SUMIFS('D5'!$AG$11:$AG$4860,'D5'!$B$11:$B$4860,'A2'!$D21,'D5'!$BI$11:$BI$4860,AJ$7,'D5'!$BO$11:$BO$4860,"taip") -> 0 | AK21: =SUMIFS('D5'!$AG$11:$AG$4860,'D5'!$B$11:$B$4860,'A2'!$D21,'D5'!$BI$11:$BI$4860,AK$7,'D5'!$BO$11:$BO$4860,"taip") -> 0 | AL21: =SUMIFS('D5'!$AG$11:$AG$4860,'D5'!$B$11:$B$4860,'A2'!$D21,'D5'!$BI$11:$BI$4860,AL$7,'D5'!$BO$11:$BO$4860,"taip") -> 0 | AM21: =SUMIFS('D5'!$AG$11:$AG$4860,'D5'!$B$11:$B$4860,'A2'!$D21,'D5'!$BI$11:$BI$4860,AM$7,'D5'!$BO$11:$BO$4860,"taip") -> 0 | AN21: =SUMIFS('D5'!$AG$11:$AG$4860,'D5'!$B$11:$B$4860,'A2'!$D21,'D5'!$BI$11:$BI$4860,AN$7,'D5'!$BO$11:$BO$4860,"taip") -> 0 | AO21: =SUMIFS('D5'!$AG$11:$AG$4860,'D5'!$B$11:$B$4860,'A2'!$D21,'D5'!$BI$11:$BI$4860,AO$7,'D5'!$BO$11:$BO$4860,"taip") -> 0 | AP21: =IF($F21>0,AI21/$F21*100,0) -> 0 | AQ21: =IF($F21>0,AJ21/$F21*100,0) -> 0 | AR21: =IF($F21>0,AK21/$F21*100,0) -> 0 | AS21: =IF($F21>0,AL21/$F21*100,0) -> 0 | AT21: =IF($F21>0,AM21/$F21*100,0) -> 0 | AU21: =IF($F21>0,AN21/$F21*100,0) -> 0 | AV21: =IF($F21>0,AO21/$F21*100,0) -> 0 | AW21: =SUM(AX21:BC21) -> 0 | AX21: =COUNTIFS('D5'!$B$11:$B$4860,'A2'!$D21,'D5'!$BJ$11:$BJ$4860,'A2'!AX$7,'D5'!$BP$11:$BP$4860,"taip") -> 0 | AY21: =COUNTIFS('D5'!$B$11:$B$4860,'A2'!$D21,'D5'!$BJ$11:$BJ$4860,'A2'!AY$7,'D5'!$BP$11:$BP$4860,"taip") -> 0 | AZ21: =COUNTIFS('D5'!$B$11:$B$4860,'A2'!$D21,'D5'!$BJ$11:$BJ$4860,'A2'!AZ$7,'D5'!$BP$11:$BP$4860,"taip") -> 0 | BA21: =COUNTIFS('D5'!$B$11:$B$4860,'A2'!$D21,'D5'!$BJ$11:$BJ$4860,'A2'!BA$7,'D5'!$BP$11:$BP$4860,"taip") -> 0 | BB21: =COUNTIFS('D5'!$B$11:$B$4860,'A2'!$D21,'D5'!$BJ$11:$BJ$4860,'A2'!BB$7,'D5'!$BP$11:$BP$4860,"taip") -> 0 | BC21: =COUNTIFS('D5'!$B$11:$B$4860,'A2'!$D21,'D5'!$BJ$11:$BJ$4860,'A2'!BC$7,'D5'!$BP$11:$BP$4860,"taip") -> 0 | BD21: =SUM(BE21:BJ21) -> 0 | BE21: =SUMIFS('D5'!$AG$11:$AG$4860,'D5'!$B$11:$B$4860,'A2'!$D21,'D5'!$BJ$11:$BJ$4860,BE$7,'D5'!$BP$11:$BP$4860,"taip") -> 0 | BF21: =SUMIFS('D5'!$AG$11:$AG$4860,'D5'!$B$11:$B$4860,'A2'!$D21,'D5'!$BJ$11:$BJ$4860,BF$7,'D5'!$BP$11:$BP$4860,"taip") -> 0 | BG21: =SUMIFS('D5'!$AG$11:$AG$4860,'D5'!$B$11:$B$4860,'A2'!$D21,'D5'!$BJ$11:$BJ$4860,BG$7,'D5'!$BP$11:$BP$4860,"taip") -> 0 | BH21: =SUMIFS('D5'!$AG$11:$AG$4860,'D5'!$B$11:$B$4860,'A2'!$D21,'D5'!$BJ$11:$BJ$4860,BH$7,'D5'!$BP$11:$BP$4860,"taip") -> 0 | BI21: =SUMIFS('D5'!$AG$11:$AG$4860,'D5'!$B$11:$B$4860,'A2'!$D21,'D5'!$BJ$11:$BJ$4860,BI$7,'D5'!$BP$11:$BP$4860,"taip") -> 0 | BJ21: =SUMIFS('D5'!$AG$11:$AG$4860,'D5'!$B$11:$B$4860,'A2'!$D21,'D5'!$BJ$11:$BJ$4860,BJ$7,'D5'!$BP$11:$BP$4860,"taip") -> 0 | BK21: =IF($F21>0,BD21/$F21*100,0) -> 0 | BL21: =IF($F21>0,BE21/$F21*100,0) -> 0 | BM21: =IF($F21>0,BF21/$F21*100,0) -> 0 | BN21: =IF($F21>0,BG21/$F21*100,0) -> 0 | BO21: =IF($F21>0,BH21/$F21*100,0) -> 0 | BP21: =IF($F21>0,BI21/$F21*100,0) -> 0 | BQ21: =IF($F21>0,BJ21/$F21*100,0) -> 0 | BR21: =SUM(BS21:BX21) -> 0 | BS21: =COUNTIFS('D5'!$B$11:$B$4860,'A2'!$D21,'D5'!$BK$11:$BK$4860,'A2'!BS$7,'D5'!$BS$11:$BS$4860,"taip") -> 0 | BT21: =COUNTIFS('D5'!$B$11:$B$4860,'A2'!$D21,'D5'!$BK$11:$BK$4860,'A2'!BT$7,'D5'!$BS$11:$BS$4860,"taip") -> 0 | BU21: =COUNTIFS('D5'!$B$11:$B$4860,'A2'!$D21,'D5'!$BK$11:$BK$4860,'A2'!BU$7,'D5'!$BS$11:$BS$4860,"taip") -> 0 | BV21: =COUNTIFS('D5'!$B$11:$B$4860,'A2'!$D21,'D5'!$BK$11:$BK$4860,'A2'!BV$7,'D5'!$BS$11:$BS$4860,"taip") -> 0 | BW21: =COUNTIFS('D5'!$B$11:$B$4860,'A2'!$D21,'D5'!$BK$11:$BK$4860,'A2'!BW$7,'D5'!$BS$11:$BS$4860,"taip") -> 0 | BX21: =COUNTIFS('D5'!$B$11:$B$4860,'A2'!$D21,'D5'!$BK$11:$BK$4860,'A2'!BX$7,'D5'!$BS$11:$BS$4860,"taip") -> 0 | BY21: =SUM(BZ21:CE21) -> 0 | BZ21: =SUMIFS('D5'!$AG$11:$AG$4860,'D5'!$B$11:$B$4860,'A2'!$D21,'D5'!$BK$11:$BK$4860,BZ$7,'D5'!$BS$11:$BS$4860,"taip") -> 0 | CA21: =SUMIFS('D5'!$AG$11:$AG$4860,'D5'!$B$11:$B$4860,'A2'!$D21,'D5'!$BK$11:$BK$4860,CA$7,'D5'!$BS$11:$BS$4860,"taip") -> 0 | CB21: =SUMIFS('D5'!$AG$11:$AG$4860,'D5'!$B$11:$B$4860,'A2'!$D21,'D5'!$BK$11:$BK$4860,CB$7,'D5'!$BS$11:$BS$4860,"taip") -> 0 | CC21: =SUMIFS('D5'!$AG$11:$AG$4860,'D5'!$B$11:$B$4860,'A2'!$D21,'D5'!$BK$11:$BK$4860,CC$7,'D5'!$BS$11:$BS$4860,"taip") -> 0 | CD21: =SUMIFS('D5'!$AG$11:$AG$4860,'D5'!$B$11:$B$4860,'A2'!$D21,'D5'!$BK$11:$BK$4860,CD$7,'D5'!$BS$11:$BS$4860,"taip") -> 0 | CE21: =SUMIFS('D5'!$AG$11:$AG$4860,'D5'!$B$11:$B$4860,'A2'!$D21,'D5'!$BK$11:$BK$4860,CE$7,'D5'!$BS$11:$BS$4860,"taip") -> 0 | CF21: =IF($F21>0,BY21/$F21*100,0) -> 0 | CG21: =IF($F21>0,BZ21/$F21*100,0) -> 0 | CH21: =IF($F21>0,CA21/$F21*100,0) -> 0 | CI21: =IF($F21>0,CB21/$F21*100,0) -> 0 | CJ21: =IF($F21>0,CC21/$F21*100,0) -> 0 | CK21: =IF($F21>0,CD21/$F21*100,0) -> 0 | CL21: =IF($F21>0,CE21/$F21*100,0) -> 0
... A29: 20 priemonė | B29: ='VPS1'!C29 -> 0 | C29: ='VPS1'!D29 -> 0 | D29: ='VPS1'!J29 -> 0 | E29: ='VPS1'!L29 -> EŽŪFKP | F29: ='VPS1'!G29 -> 0 | G29: =SUM(H29:M29) -> 0 | H29: =COUNTIFS('D5'!$B$11:$B$4860,'A2'!$D29,'D5'!$BH$11:$BH$4860,'A2'!H$7,'D5'!$BN$11:$BN$4860,"taip") -> 0 | I29: =COUNTIFS('D5'!$B$11:$B$4860,'A2'!$D29,'D5'!$BH$11:$BH$4860,'A2'!I$7,'D5'!$BN$11:$BN$4860,"taip") -> 0 | J29: =COUNTIFS('D5'!$B$11:$B$4860,'A2'!$D29,'D5'!$BH$11:$BH$4860,'A2'!J$7,'D5'!$BN$11:$BN$4860,"taip") -> 0 | K29: =COUNTIFS('D5'!$B$11:$B$4860,'A2'!$D29,'D5'!$BH$11:$BH$4860,'A2'!K$7,'D5'!$BN$11:$BN$4860,"taip") -> 0 | L29: =COUNTIFS('D5'!$B$11:$B$4860,'A2'!$D29,'D5'!$BH$11:$BH$4860,'A2'!L$7,'D5'!$BN$11:$BN$4860,"taip") -> 0 | M29: =COUNTIFS('D5'!$B$11:$B$4860,'A2'!$D29,'D5'!$BH$11:$BH$4860,'A2'!M$7,'D5'!$BN$11:$BN$4860,"taip") -> 0 | N29: =SUM(O29:T29) -> 0 | O29: =SUMIFS('D5'!$L$11:$L$4860,'D5'!$B$11:$B$4860,'A2'!$D29,'D5'!$BH$11:$BH$4860,O$7,'D5'!$BN$11:$BN$4860,"taip") -> 0 | P29: =SUMIFS('D5'!$L$11:$L$4860,'D5'!$B$11:$B$4860,'A2'!$D29,'D5'!$BH$11:$BH$4860,P$7,'D5'!$BN$11:$BN$4860,"taip") -> 0 | Q29: =SUMIFS('D5'!$L$11:$L$4860,'D5'!$B$11:$B$4860,'A2'!$D29,'D5'!$BH$11:$BH$4860,Q$7,'D5'!$BN$11:$BN$4860,"taip") -> 0 | R29: =SUMIFS('D5'!$L$11:$L$4860,'D5'!$B$11:$B$4860,'A2'!$D29,'D5'!$BH$11:$BH$4860,R$7,'D5'!$BN$11:$BN$4860,"taip") -> 0 | S29: =SUMIFS('D5'!$L$11:$L$4860,'D5'!$B$11:$B$4860,'A2'!$D29,'D5'!$BH$11:$BH$4860,S$7,'D5'!$BN$11:$BN$4860,"taip") -> 0 | T29: =SUMIFS('D5'!$L$11:$L$4860,'D5'!$B$11:$B$4860,'A2'!$D29,'D5'!$BH$11:$BH$4860,T$7,'D5'!$BN$11:$BN$4860,"taip") -> 0 | U29: =IF($F29>0,N29/$F29*100,0) -> 0 | V29: =IF($F29>0,O29/$F29*100,0) -> 0 | W29: =IF($F29>0,P29/$F29*100,0) -> 0 | X29: =IF($F29>0,Q29/$F29*100,0) -> 0 | Y29: =IF($F29>0,R29/$F29*100,0) -> 0 | Z29: =IF($F29>0,S29/$F29*100,0) -> 0 | AA29: =IF($F29>0,T29/$F29*100,0) -> 0 | AB29: =SUM(AC29:AH29) -> 0 | AC29: =COUNTIFS('D5'!$B$11:$B$4860,'A2'!$D29,'D5'!$BI$11:$BI$4860,'A2'!AC$7,'D5'!$BO$11:$BO$4860,"taip") -> 0 | AD29: =COUNTIFS('D5'!$B$11:$B$4860,'A2'!$D29,'D5'!$BI$11:$BI$4860,'A2'!AD$7,'D5'!$BO$11:$BO$4860,"taip") -> 0 | AE29: =COUNTIFS('D5'!$B$11:$B$4860,'A2'!$D29,'D5'!$BI$11:$BI$4860,'A2'!AE$7,'D5'!$BO$11:$BO$4860,"taip") -> 0 | AF29: =COUNTIFS('D5'!$B$11:$B$4860,'A2'!$D29,'D5'!$BI$11:$BI$4860,'A2'!AF$7,'D5'!$BO$11:$BO$4860,"taip") -> 0 | AG29: =COUNTIFS('D5'!$B$11:$B$4860,'A2'!$D29,'D5'!$BI$11:$BI$4860,'A2'!AG$7,'D5'!$BO$11:$BO$4860,"taip") -> 0 | AH29: =COUNTIFS('D5'!$B$11:$B$4860,'A2'!$D29,'D5'!$BI$11:$BI$4860,'A2'!AH$7,'D5'!$BO$11:$BO$4860,"taip") -> 0 | AI29: =SUM(AJ29:AO29) -> 0 | AJ29: =SUMIFS('D5'!$AG$11:$AG$4860,'D5'!$B$11:$B$4860,'A2'!$D29,'D5'!$BI$11:$BI$4860,AJ$7,'D5'!$BO$11:$BO$4860,"taip") -> 0 | AK29: =SUMIFS('D5'!$AG$11:$AG$4860,'D5'!$B$11:$B$4860,'A2'!$D29,'D5'!$BI$11:$BI$4860,AK$7,'D5'!$BO$11:$BO$4860,"taip") -> 0 | AL29: =SUMIFS('D5'!$AG$11:$AG$4860,'D5'!$B$11:$B$4860,'A2'!$D29,'D5'!$BI$11:$BI$4860,AL$7,'D5'!$BO$11:$BO$4860,"taip") -> 0 | AM29: =SUMIFS('D5'!$AG$11:$AG$4860,'D5'!$B$11:$B$4860,'A2'!$D29,'D5'!$BI$11:$BI$4860,AM$7,'D5'!$BO$11:$BO$4860,"taip") -> 0 | AN29: =SUMIFS('D5'!$AG$11:$AG$4860,'D5'!$B$11:$B$4860,'A2'!$D29,'D5'!$BI$11:$BI$4860,AN$7,'D5'!$BO$11:$BO$4860,"taip") -> 0 | AO29: =SUMIFS('D5'!$AG$11:$AG$4860,'D5'!$B$11:$B$4860,'A2'!$D29,'D5'!$BI$11:$BI$4860,AO$7,'D5'!$BO$11:$BO$4860,"taip") -> 0 | AP29: =IF($F29>0,AI29/$F29*100,0) -> 0 | AQ29: =IF($F29>0,AJ29/$F29*100,0) -> 0 | AR29: =IF($F29>0,AK29/$F29*100,0) -> 0 | AS29: =IF($F29>0,AL29/$F29*100,0) -> 0 | AT29: =IF($F29>0,AM29/$F29*100,0) -> 0 | AU29: =IF($F29>0,AN29/$F29*100,0) -> 0 | AV29: =IF($F29>0,AO29/$F29*100,0) -> 0 | AW29: =SUM(AX29:BC29) -> 0 | AX29: =COUNTIFS('D5'!$B$11:$B$4860,'A2'!$D29,'D5'!$BJ$11:$BJ$4860,'A2'!AX$7,'D5'!$BP$11:$BP$4860,"taip") -> 0 | AY29: =COUNTIFS('D5'!$B$11:$B$4860,'A2'!$D29,'D5'!$BJ$11:$BJ$4860,'A2'!AY$7,'D5'!$BP$11:$BP$4860,"taip") -> 0 | AZ29: =COUNTIFS('D5'!$B$11:$B$4860,'A2'!$D29,'D5'!$BJ$11:$BJ$4860,'A2'!AZ$7,'D5'!$BP$11:$BP$4860,"taip") -> 0 | BA29: =COUNTIFS('D5'!$B$11:$B$4860,'A2'!$D29,'D5'!$BJ$11:$BJ$4860,'A2'!BA$7,'D5'!$BP$11:$BP$4860,"taip") -> 0 | BB29: =COUNTIFS('D5'!$B$11:$B$4860,'A2'!$D29,'D5'!$BJ$11:$BJ$4860,'A2'!BB$7,'D5'!$BP$11:$BP$4860,"taip") -> 0 | BC29: =COUNTIFS('D5'!$B$11:$B$4860,'A2'!$D29,'D5'!$BJ$11:$BJ$4860,'A2'!BC$7,'D5'!$BP$11:$BP$4860,"taip") -> 0 | BD29: =SUM(BE29:BJ29) -> 0 | BE29: =SUMIFS('D5'!$AG$11:$AG$4860,'D5'!$B$11:$B$4860,'A2'!$D29,'D5'!$BJ$11:$BJ$4860,BE$7,'D5'!$BP$11:$BP$4860,"taip") -> 0 | BF29: =SUMIFS('D5'!$AG$11:$AG$4860,'D5'!$B$11:$B$4860,'A2'!$D29,'D5'!$BJ$11:$BJ$4860,BF$7,'D5'!$BP$11:$BP$4860,"taip") -> 0 | BG29: =SUMIFS('D5'!$AG$11:$AG$4860,'D5'!$B$11:$B$4860,'A2'!$D29,'D5'!$BJ$11:$BJ$4860,BG$7,'D5'!$BP$11:$BP$4860,"taip") -> 0 | BH29: =SUMIFS('D5'!$AG$11:$AG$4860,'D5'!$B$11:$B$4860,'A2'!$D29,'D5'!$BJ$11:$BJ$4860,BH$7,'D5'!$BP$11:$BP$4860,"taip") -> 0 | BI29: =SUMIFS('D5'!$AG$11:$AG$4860,'D5'!$B$11:$B$4860,'A2'!$D29,'D5'!$BJ$11:$BJ$4860,BI$7,'D5'!$BP$11:$BP$4860,"taip") -> 0 | BJ29: =SUMIFS('D5'!$AG$11:$AG$4860,'D5'!$B$11:$B$4860,'A2'!$D29,'D5'!$BJ$11:$BJ$4860,BJ$7,'D5'!$BP$11:$BP$4860,"taip") -> 0 | BK29: =IF($F29>0,BD29/$F29*100,0) -> 0 | BL29: =IF($F29>0,BE29/$F29*100,0) -> 0 | BM29: =IF($F29>0,BF29/$F29*100,0) -> 0 | BN29: =IF($F29>0,BG29/$F29*100,0) -> 0 | BO29: =IF($F29>0,BH29/$F29*100,0) -> 0 | BP29: =IF($F29>0,BI29/$F29*100,0) -> 0 | BQ29: =IF($F29>0,BJ29/$F29*100,0) -> 0 | BR29: =SUM(BS29:BX29) -> 0 | BS29: =COUNTIFS('D5'!$B$11:$B$4860,'A2'!$D29,'D5'!$BK$11:$BK$4860,'A2'!BS$7,'D5'!$BS$11:$BS$4860,"taip") -> 0 | BT29: =COUNTIFS('D5'!$B$11:$B$4860,'A2'!$D29,'D5'!$BK$11:$BK$4860,'A2'!BT$7,'D5'!$BS$11:$BS$4860,"taip") -> 0 | BU29: =COUNTIFS('D5'!$B$11:$B$4860,'A2'!$D29,'D5'!$BK$11:$BK$4860,'A2'!BU$7,'D5'!$BS$11:$BS$4860,"taip") -> 0 | BV29: =COUNTIFS('D5'!$B$11:$B$4860,'A2'!$D29,'D5'!$BK$11:$BK$4860,'A2'!BV$7,'D5'!$BS$11:$BS$4860,"taip") -> 0 | BW29: =COUNTIFS('D5'!$B$11:$B$4860,'A2'!$D29,'D5'!$BK$11:$BK$4860,'A2'!BW$7,'D5'!$BS$11:$BS$4860,"taip") -> 0 | BX29: =COUNTIFS('D5'!$B$11:$B$4860,'A2'!$D29,'D5'!$BK$11:$BK$4860,'A2'!BX$7,'D5'!$BS$11:$BS$4860,"taip") -> 0 | BY29: =SUM(BZ29:CE29) -> 0 | BZ29: =SUMIFS('D5'!$AG$11:$AG$4860,'D5'!$B$11:$B$4860,'A2'!$D29,'D5'!$BK$11:$BK$4860,BZ$7,'D5'!$BS$11:$BS$4860,"taip") -> 0 | CA29: =SUMIFS('D5'!$AG$11:$AG$4860,'D5'!$B$11:$B$4860,'A2'!$D29,'D5'!$BK$11:$BK$4860,CA$7,'D5'!$BS$11:$BS$4860,"taip") -> 0 | CB29: =SUMIFS('D5'!$AG$11:$AG$4860,'D5'!$B$11:$B$4860,'A2'!$D29,'D5'!$BK$11:$BK$4860,CB$7,'D5'!$BS$11:$BS$4860,"taip") -> 0 | CC29: =SUMIFS('D5'!$AG$11:$AG$4860,'D5'!$B$11:$B$4860,'A2'!$D29,'D5'!$BK$11:$BK$4860,CC$7,'D5'!$BS$11:$BS$4860,"taip") -> 0 | CD29: =SUMIFS('D5'!$AG$11:$AG$4860,'D5'!$B$11:$B$4860,'A2'!$D29,'D5'!$BK$11:$BK$4860,CD$7,'D5'!$BS$11:$BS$4860,"taip") -> 0 | CE29: =SUMIFS('D5'!$AG$11:$AG$4860,'D5'!$B$11:$B$4860,'A2'!$D29,'D5'!$BK$11:$BK$4860,CE$7,'D5'!$BS$11:$BS$4860,"taip") -> 0 | CF29: =IF($F29>0,BY29/$F29*100,0) -> 0 | CG29: =IF($F29>0,BZ29/$F29*100,0) -> 0 | CH29: =IF($F29>0,CA29/$F29*100,0) -> 0 | CI29: =IF($F29>0,CB29/$F29*100,0) -> 0 | CJ29: =IF($F29>0,CC29/$F29*100,0) -> 0 | CK29: =IF($F29>0,CD29/$F29*100,0) -> 0 | CL29: =IF($F29>0,CE29/$F29*100,0) -> 0

Sheet A2.1
A1: A4 | B1: Ataskaita: atrinkti vietos projektai VPS priemonių lygiu
A3: NMA vaidmuo: | B3: -
A4: VVG vaidmuo: | B4: -
H5: Atrinkta vietos projektų | I5: Atrinkta vietos projektų | J5: Atrinkta vietos projektų | K5: Atrinkta vietos projektų
A6: VPS priemonės numeris | B6: VVG kodas | C6: VPS priemonės pavadinimas | D6: VPS priemonės kodas (unikalus) | E6: Finansavimo šaltinis | F6: Iš viso suplanuota (Eur) | G6: Iš viso suplanuota (vnt.) | H6: Eur | I6: Vnt. | J6: Proc. nuo suplanuoto rodiklio, Eur | K6: Proc. nuo suplanuoto rodiklio, vnt
A7: Užsipildo automatiškai pagal lapą VPS1 | B7: Užsipildo automatiškai pagal lapą VPS1 | C7: Užsipildo automatiškai pagal lapą VPS1 | D7: Užsipildo automatiškai pagal lapą VPS1 | E7: Užsipildo automatiškai pagal lapą VPS1 | F7: Užsipildo automatiškai pagal lapą VPS1 | G7: Užsipildo automatiškai pagal lapą VPS1 | H7: Užsipildo automatiškai pagal lapą A2 | I7: Užsipildo automatiškai pagal lapą A2 | J7: Užsipildo automatiškai (formulė) | K7: Užsipildo automatiškai (formulė)
A8: Iš viso | F8: =SUM(F9:F28) -> 1261564.8 | G8: =SUM(G9:G28) -> 26 | H8: =SUM(H9:H28) -> 556778.01 | I8: =SUM(I9:I28) -> 13 | J8: =IF(F8>0,H8/$F8*100,0) -> 44.133921 | K8: =IF(G8>0,I8/$G8*100,0) -> 50
A9: 1 priemonė | B9: ='VPS1'!C10 -> MARI | C9: ='VPS1'!D10 -> Bendruomeniškumo skatinimas | D9: ='VPS1'!J10 -> MARI-LEADER-20VVG-09-01 | E9: ='VPS1'!L10 -> EŽŪFKP | F9: ='VPS1'!G10 -> 251564.8 | G9: ='VPS1'!F10 -> 10 | H9: ='A2'!N10 -> 150891.53 | I9: ='A2'!G10 -> 6 | J9: =IF(F9>0,H9/$F9*100,0) -> 59.981178 | K9: =IF(G9>0,I9/$G9*100,0) -> 60
A10: 2 priemonė | B10: ='VPS1'!C11 -> MARI | C10: ='VPS1'!D11 -> Ne žemės ūkio verslo kūrimas ir plėtra | D10: ='VPS1'!J11 -> MARI-LEADER-20VVG-03-02 | E10: ='VPS1'!L11 -> EŽŪFKP | F10: ='VPS1'!G11 -> 650000 | G10: ='VPS1'!F11 -> 10 | H10: ='A2'!N11 -> 275900.72 | I10: ='A2'!G11 -> 5 | J10: =IF(F10>0,H10/$F10*100,0) -> 42.446265 | K10: =IF(G10>0,I10/$G10*100,0) -> 50
A11: 3 priemonė | B11: ='VPS1'!C12 -> MARI | C11: ='VPS1'!D12 -> Bendruomeninio verslo kūrimas ir plėtra | D11: ='VPS1'!J12 -> MARI-LEADER-20VVG-07-03 | E11: ='VPS1'!L12 -> EŽŪFKP | F11: ='VPS1'!G12 -> 100000 | G11: ='VPS1'!F12 -> 2 | H11: ='A2'!N12 -> 0 | I11: ='A2'!G12 -> 0 | J11: =IF(F11>0,H11/$F11*100,0) -> 0 | K11: =IF(G11>0,I11/$G11*100,0) -> 0
A12: 4 priemonė | B12: ='VPS1'!C13 -> MARI | C12: ='VPS1'!D13 -> Socialinio verslo kūrimas ir plėtra | D12: ='VPS1'!J13 -> MARI-LEADER-20VVG-06-04 | E12: ='VPS1'!L13 -> EŽŪFKP | F12: ='VPS1'!G13 -> 260000 | G12: ='VPS1'!F13 -> 4 | H12: ='A2'!N13 -> 129985.76 | I12: ='A2'!G13 -> 2 | J12: =IF(F12>0,H12/$F12*100,0) -> 49.994523 | K12: =IF(G12>0,I12/$G12*100,0) -> 50
A13: 5 priemonė | B13: ='VPS1'!C14 -> 0 | C13: ='VPS1'!D14 -> 0 | D13: ='VPS1'!J14 -> 0 | E13: ='VPS1'!L14 -> EŽŪFKP | F13: ='VPS1'!G14 -> 0 | G13: ='VPS1'!F14 -> 0 | H13: ='A2'!N14 -> 0 | I13: ='A2'!G14 -> 0 | J13: =IF(F13>0,H13/$F13*100,0) -> 0 | K13: =IF(G13>0,I13/$G13*100,0) -> 0
A14: 6 priemonė | B14: ='VPS1'!C15 -> 0 | C14: ='VPS1'!D15 -> 0 | D14: ='VPS1'!J15 -> 0 | E14: ='VPS1'!L15 -> EŽŪFKP | F14: ='VPS1'!G15 -> 0 | G14: ='VPS1'!F15 -> 0 | H14: ='A2'!N15 -> 0 | I14: ='A2'!G15 -> 0 | J14: =IF(F14>0,H14/$F14*100,0) -> 0 | K14: =IF(G14>0,I14/$G14*100,0) -> 0
A15: 7 priemonė | B15: ='VPS1'!C16 -> 0 | C15: ='VPS1'!D16 -> 0 | D15: ='VPS1'!J16 -> 0 | E15: ='VPS1'!L16 -> EŽŪFKP | F15: ='VPS1'!G16 -> 0 | G15: ='VPS1'!F16 -> 0 | H15: ='A2'!N16 -> 0 | I15: ='A2'!G16 -> 0 | J15: =IF(F15>0,H15/$F15*100,0) -> 0 | K15: =IF(G15>0,I15/$G15*100,0) -> 0
A16: 8 priemonė | B16: ='VPS1'!C17 -> 0 | C16: ='VPS1'!D17 -> 0 | D16: ='VPS1'!J17 -> 0 | E16: ='VPS1'!L17 -> EŽŪFKP | F16: ='VPS1'!G17 -> 0 | G16: ='VPS1'!F17 -> 0 | H16: ='A2'!N17 -> 0 | I16: ='A2'!G17 -> 0 | J16: =IF(F16>0,H16/$F16*100,0) -> 0 | K16: =IF(G16>0,I16/$G16*100,0) -> 0
A17: 9 priemonė | B17: ='VPS1'!C18 -> 0 | C17: ='VPS1'!D18 -> 0 | D17: ='VPS1'!J18 -> 0 | E17: ='VPS1'!L18 -> EŽŪFKP | F17: ='VPS1'!G18 -> 0 | G17: ='VPS1'!F18 -> 0 | H17: ='A2'!N18 -> 0 | I17: ='A2'!G18 -> 0 | J17: =IF(F17>0,H17/$F17*100,0) -> 0 | K17: =IF(G17>0,I17/$G17*100,0) -> 0
A18: 10 priemonė | B18: ='VPS1'!C19 -> 0 | C18: ='VPS1'!D19 -> 0 | D18: ='VPS1'!J19 -> 0 | E18: ='VPS1'!L19 -> EŽŪFKP | F18: ='VPS1'!G19 -> 0 | G18: ='VPS1'!F19 -> 0 | H18: ='A2'!N19 -> 0 | I18: ='A2'!G19 -> 0 | J18: =IF(F18>0,H18/$F18*100,0) -> 0 | K18: =IF(G18>0,I18/$G18*100,0) -> 0
A19: 11 priemonė | B19: ='VPS1'!C20 -> 0 | C19: ='VPS1'!D20 -> 0 | D19: ='VPS1'!J20 -> 0 | E19: ='VPS1'!L20 -> EŽŪFKP | F19: ='VPS1'!G20 -> 0 | G19: ='VPS1'!F20 -> 0 | H19: ='A2'!N20 -> 0 | I19: ='A2'!G20 -> 0 | J19: =IF(F19>0,H19/$F19*100,0) -> 0 | K19: =IF(G19>0,I19/$G19*100,0) -> 0
A20: 12 priemonė | B20: ='VPS1'!C21 -> 0 | C20: ='VPS1'!D21 -> 0 | D20: ='VPS1'!J21 -> 0 | E20: ='VPS1'!L21 -> EŽŪFKP | F20: ='VPS1'!G21 -> 0 | G20: ='VPS1'!F21 -> 0 | H20: ='A2'!N21 -> 0 | I20: ='A2'!G21 -> 0 | J20: =IF(F20>0,H20/$F20*100,0) -> 0 | K20: =IF(G20>0,I20/$G20*100,0) -> 0
... A28: 20 priemonė | B28: ='VPS1'!C29 -> 0 | C28: ='VPS1'!D29 -> 0 | D28: ='VPS1'!J29 -> 0 | E28: ='VPS1'!L29 -> EŽŪFKP | F28: ='VPS1'!G29 -> 0 | G28: ='VPS1'!F29 -> 0 | H28: ='A2'!N29 -> 0 | I28: ='A2'!G29 -> 0 | J28: =IF(F28>0,H28/$F28*100,0) -> 0 | K28: =IF(G28>0,I28/$G28*100,0) -> 0

Sheet A2.2
A1: A4 | B1: Ataskaita: įgyvendinti vietos projektai VPS priemonių lygiu
A3: NMA vaidmuo: | B3: -
A4: VVG vaidmuo: | B4: -
H5: Baigtų įgyvendinti vietos projektų | I5: Baigtų įgyvendinti vietos projektų | J5: Baigtų įgyvendinti vietos projektų | K5: Baigtų įgyvendinti vietos projektų
A6: VPS priemonės numeris | B6: VVG kodas | C6: VPS priemonės pavadinimas | D6: VPS priemonės kodas (unikalus) | E6: Finansavimo šaltinis | F6: Iš viso suplanuota (Eur) | G6: Iš viso suplanuota (vnt.) | H6: Eur | I6: Vnt. | J6: Proc. nuo suplanuoto rodiklio, Eur | K6: Proc. nuo suplanuoto rodiklio, vnt
A7: Užsipildo automatiškai pagal lapą VPS1 | B7: Užsipildo automatiškai pagal lapą VPS1 | C7: Užsipildo automatiškai pagal lapą VPS1 | D7: Užsipildo automatiškai pagal lapą VPS1 | E7: Užsipildo automatiškai pagal lapą VPS1 | F7: Užsipildo automatiškai pagal lapą VPS1 | G7: Užsipildo automatiškai pagal lapą VPS1 | H7: Užsipildo automatiškai pagal lapą A2 | I7: Užsipildo automatiškai pagal lapą A2 | J7: Užsipildo automatiškai (formulė) | K7: Užsipildo automatiškai (formulė)
A8: Iš viso | F8: =SUM(F9:F28) -> 1261564.8 | G8: =SUM(G9:G28) -> 26 | H8: =SUM(H9:H28) -> 50308 | I8: =SUM(I9:I28) -> 2 | J8: =IF(F8>0,H8/$F8*100,0) -> 3.987746 | K8: =IF(G8>0,I8/$G8*100,0) -> 7.6923077
A9: 1 priemonė | B9: ='VPS1'!C10 -> MARI | C9: ='VPS1'!D10 -> Bendruomeniškumo skatinimas | D9: ='VPS1'!J10 -> MARI-LEADER-20VVG-09-01 | E9: ='VPS1'!L10 -> EŽŪFKP | F9: ='VPS1'!G10 -> 251564.8 | G9: ='VPS1'!F10 -> 10 | H9: ='A2'!BY10 -> 50308 | I9: ='A2'!BR10 -> 2 | J9: =IF(F9>0,H9/$F9*100,0) -> 19.998028 | K9: =IF(G9>0,I9/$G9*100,0) -> 20
A10: 2 priemonė | B10: ='VPS1'!C11 -> MARI | C10: ='VPS1'!D11 -> Ne žemės ūkio verslo kūrimas ir plėtra | D10: ='VPS1'!J11 -> MARI-LEADER-20VVG-03-02 | E10: ='VPS1'!L11 -> EŽŪFKP | F10: ='VPS1'!G11 -> 650000 | G10: ='VPS1'!F11 -> 10 | H10: ='A2'!BY11 -> 0 | I10: ='A2'!BR11 -> 0 | J10: =IF(F10>0,H10/$F10*100,0) -> 0 | K10: =IF(G10>0,I10/$G10*100,0) -> 0
A11: 3 priemonė | B11: ='VPS1'!C12 -> MARI | C11: ='VPS1'!D12 -> Bendruomeninio verslo kūrimas ir plėtra | D11: ='VPS1'!J12 -> MARI-LEADER-20VVG-07-03 | E11: ='VPS1'!L12 -> EŽŪFKP | F11: ='VPS1'!G12 -> 100000 | G11: ='VPS1'!F12 -> 2 | H11: ='A2'!BY12 -> 0 | I11: ='A2'!BR12 -> 0 | J11: =IF(F11>0,H11/$F11*100,0) -> 0 | K11: =IF(G11>0,I11/$G11*100,0) -> 0
A12: 4 priemonė | B12: ='VPS1'!C13 -> MARI | C12: ='VPS1'!D13 -> Socialinio verslo kūrimas ir plėtra | D12: ='VPS1'!J13 -> MARI-LEADER-20VVG-06-04 | E12: ='VPS1'!L13 -> EŽŪFKP | F12: ='VPS1'!G13 -> 260000 | G12: ='VPS1'!F13 -> 4 | H12: ='A2'!BY13 -> 0 | I12: ='A2'!BR13 -> 0 | J12: =IF(F12>0,H12/$F12*100,0) -> 0 | K12: =IF(G12>0,I12/$G12*100,0) -> 0
A13: 5 priemonė | B13: ='VPS1'!C14 -> 0 | C13: ='VPS1'!D14 -> 0 | D13: ='VPS1'!J14 -> 0 | E13: ='VPS1'!L14 -> EŽŪFKP | F13: ='VPS1'!G14 -> 0 | G13: ='VPS1'!F14 -> 0 | H13: ='A2'!BY14 -> 0 | I13: ='A2'!BR14 -> 0 | J13: =IF(F13>0,H13/$F13*100,0) -> 0 | K13: =IF(G13>0,I13/$G13*100,0) -> 0
A14: 6 priemonė | B14: ='VPS1'!C15 -> 0 | C14: ='VPS1'!D15 -> 0 | D14: ='VPS1'!J15 -> 0 | E14: ='VPS1'!L15 -> EŽŪFKP | F14: ='VPS1'!G15 -> 0 | G14: ='VPS1'!F15 -> 0 | H14: ='A2'!BY15 -> 0 | I14: ='A2'!BR15 -> 0 | J14: =IF(F14>0,H14/$F14*100,0) -> 0 | K14: =IF(G14>0,I14/$G14*100,0) -> 0
A15: 7 priemonė | B15: ='VPS1'!C16 -> 0 | C15: ='VPS1'!D16 -> 0 | D15: ='VPS1'!J16 -> 0 | E15: ='VPS1'!L16 -> EŽŪFKP | F15: ='VPS1'!G16 -> 0 | G15: ='VPS1'!F16 -> 0 | H15: ='A2'!BY16 -> 0 | I15: ='A2'!BR16 -> 0 | J15: =IF(F15>0,H15/$F15*100,0) -> 0 | K15: =IF(G15>0,I15/$G15*100,0) -> 0
A16: 8 priemonė | B16: ='VPS1'!C17 -> 0 | C16: ='VPS1'!D17 -> 0 | D16: ='VPS1'!J17 -> 0 | E16: ='VPS1'!L17 -> EŽŪFKP | F16: ='VPS1'!G17 -> 0 | G16: ='VPS1'!F17 -> 0 | H16: ='A2'!BY17 -> 0 | I16: ='A2'!BR17 -> 0 | J16: =IF(F16>0,H16/$F16*100,0) -> 0 | K16: =IF(G16>0,I16/$G16*100,0) -> 0
A17: 9 priemonė | B17: ='VPS1'!C18 -> 0 | C17: ='VPS1'!D18 -> 0 | D17: ='VPS1'!J18 -> 0 | E17: ='VPS1'!L18 -> EŽŪFKP | F17: ='VPS1'!G18 -> 0 | G17: ='VPS1'!F18 -> 0 | H17: ='A2'!BY18 -> 0 | I17: ='A2'!BR18 -> 0 | J17: =IF(F17>0,H17/$F17*100,0) -> 0 | K17: =IF(G17>0,I17/$G17*100,0) -> 0
A18: 10 priemonė | B18: ='VPS1'!C19 -> 0 | C18: ='VPS1'!D19 -> 0 | D18: ='VPS1'!J19 -> 0 | E18: ='VPS1'!L19 -> EŽŪFKP | F18: ='VPS1'!G19 -> 0 | G18: ='VPS1'!F19 -> 0 | H18: ='A2'!BY19 -> 0 | I18: ='A2'!BR19 -> 0 | J18: =IF(F18>0,H18/$F18*100,0) -> 0 | K18: =IF(G18>0,I18/$G18*100,0) -> 0
A19: 11 priemonė | B19: ='VPS1'!C20 -> 0 | C19: ='VPS1'!D20 -> 0 | D19: ='VPS1'!J20 -> 0 | E19: ='VPS1'!L20 -> EŽŪFKP | F19: ='VPS1'!G20 -> 0 | G19: ='VPS1'!F20 -> 0 | H19: ='A2'!BY20 -> 0 | I19: ='A2'!BR20 -> 0 | J19: =IF(F19>0,H19/$F19*100,0) -> 0 | K19: =IF(G19>0,I19/$G19*100,0) -> 0
A20: 12 priemonė | B20: ='VPS1'!C21 -> 0 | C20: ='VPS1'!D21 -> 0 | D20: ='VPS1'!J21 -> 0 | E20: ='VPS1'!L21 -> EŽŪFKP | F20: ='VPS1'!G21 -> 0 | G20: ='VPS1'!F21 -> 0 | H20: ='A2'!BY21 -> 0 | I20: ='A2'!BR21 -> 0 | J20: =IF(F20>0,H20/$F20*100,0) -> 0 | K20: =IF(G20>0,I20/$G20*100,0) -> 0
A21: 13 priemonė | B21: ='VPS1'!C22 -> 0 | C21: ='VPS1'!D22 -> 0 | D21: ='VPS1'!J22 -> 0 | E21: ='VPS1'!L22 -> EŽŪFKP | F21: ='VPS1'!G22 -> 0 | G21: ='VPS1'!F22 -> 0 | H21: ='A2'!BY22 -> 0 | I21: ='A2'!BR22 -> 0 | J21: =IF(F21>0,H21/$F21*100,0) -> 0 | K21: =IF(G21>0,I21/$G21*100,0) -> 0
A22: 14 priemonė | B22: ='VPS1'!C23 -> 0 | C22: ='VPS1'!D23 -> 0 | D22: ='VPS1'!J23 -> 0 | E22: ='VPS1'!L23 -> EŽŪFKP | F22: ='VPS1'!G23 -> 0 | G22: ='VPS1'!F23 -> 0 | I22: ='A2'!BR23 -> 0 | J22: =IF(F22>0,H22/$F22*100,0) -> 0 | K22: =IF(G22>0,I22/$G22*100,0) -> 0
A23: 15 priemonė | B23: ='VPS1'!C24 -> 0 | C23: ='VPS1'!D24 -> 0 | D23: ='VPS1'!J24 -> 0 | E23: ='VPS1'!L24 -> EŽŪFKP | F23: ='VPS1'!G24 -> 0 | G23: ='VPS1'!F24 -> 0 | H23: ='A2'!BY24 -> 0 | I23: ='A2'!BR24 -> 0 | J23: =IF(F23>0,H23/$F23*100,0) -> 0 | K23: =IF(G23>0,I23/$G23*100,0) -> 0
A24: 16 priemonė | B24: ='VPS1'!C25 -> 0 | C24: ='VPS1'!D25 -> 0 | D24: ='VPS1'!J25 -> 0 | E24: ='VPS1'!L25 -> EŽŪFKP | F24: ='VPS1'!G25 -> 0 | G24: ='VPS1'!F25 -> 0 | H24: ='A2'!BY25 -> 0 | I24: ='A2'!BR25 -> 0 | J24: =IF(F24>0,H24/$F24*100,0) -> 0 | K24: =IF(G24>0,I24/$G24*100,0) -> 0
A25: 17 priemonė | B25: ='VPS1'!C26 -> 0 | C25: ='VPS1'!D26 -> 0 | D25: ='VPS1'!J26 -> 0 | E25: ='VPS1'!L26 -> EŽŪFKP | F25: ='VPS1'!G26 -> 0 | G25: ='VPS1'!F26 -> 0 | H25: ='A2'!BY26 -> 0 | I25: ='A2'!BR26 -> 0 | J25: =IF(F25>0,H25/$F25*100,0) -> 0 | K25: =IF(G25>0,I25/$G25*100,0) -> 0
A26: 18 priemonė | B26: ='VPS1'!C27 -> 0 | C26: ='VPS1'!D27 -> 0 | D26: ='VPS1'!J27 -> 0 | E26: ='VPS1'!L27 -> EŽŪFKP | F26: ='VPS1'!G27 -> 0 | G26: ='VPS1'!F27 -> 0 | H26: ='A2'!BY27 -> 0 | I26: ='A2'!BR27 -> 0 | J26: =IF(F26>0,H26/$F26*100,0) -> 0 | K26: =IF(G26>0,I26/$G26*100,0) -> 0
A27: 19 priemonė | B27: ='VPS1'!C28 -> 0 | C27: ='VPS1'!D28 -> 0 | D27: ='VPS1'!J28 -> 0 | E27: ='VPS1'!L28 -> EŽŪFKP | F27: ='VPS1'!G28 -> 0 | G27: ='VPS1'!F28 -> 0 | H27: ='A2'!BY28 -> 0 | I27: ='A2'!BR28 -> 0 | J27: =IF(F27>0,H27/$F27*100,0) -> 0 | K27: =IF(G27>0,I27/$G27*100,0) -> 0
A28: 20 priemonė | B28: ='VPS1'!C29 -> 0 | C28: ='VPS1'!D29 -> 0 | D28: ='VPS1'!J29 -> 0 | E28: ='VPS1'!L29 -> EŽŪFKP | F28: ='VPS1'!G29 -> 0 | G28: ='VPS1'!F29 -> 0 | H28: ='A2'!BY29 -> 0 | I28: ='A2'!BR29 -> 0 | J28: =IF(F28>0,H28/$F28*100,0) -> 0 | K28: =IF(G28>0,I28/$G28*100,0) -> 0

Sheet A3
A1: A4 | B1: Ataskaita: atrinkti vietos projektai vs suplanuoti atrinkti vietos projektai
A3: NMA vaidmuo: | B3: Užpildo stulpelius 7 eilutės C-H (suplanuota VPS). Įvertina VVG pasiektus rezultatus ir pateiktus paaiškinimus.
A4: VVG vaidmuo: | B4: Patikrina lentelės duomenis. Esant nuokrypiui teikiamas paaiškinimas tais metais, už kuriuos teikiama ataskaita.
A6: Nuo | B6: Iš viso suma, Eur | C6: 2024 m. | D6: 2025 m. | E6: 2026 m. | F6: 2027 m. | G6: 2028 m. | H6: 2029 m. | I6: Instrukcija
A7: Planuojama metinė atrinktų vietos projektų suma, Eur | B7: =SUM(C7:H7) -> 1261564.8 | C7: 205469.44 | D7: 335469.44 | E7: 230312.96 | F7: 310312.96 | G7: 180000 | I7: Pildo NMA. Kopijuojama informacija iš VPS Excel 15 lapo. Kopijuojami tik 3-8 stupleliai. Kopijuojant formoje įklijuojamos tik reikšmės (be formatavimo). Parinkus komandą "Įklijuoti/ Paste" atsiranda mygtukas, kurį paspaudus reikia pasirinkti variantą "Įklijuoti reikšmes/ Paste values".
A8: Faktinė metinė metinė atrinktų vietos projektų suma, Eur | B8: =SUM(C8:H8) -> 556778.01 | C8: ='A2'!O9 -> 198961.8 | D8: ='A2'!P9 -> 357816.21 | E8: ='A2'!Q9 -> 0 | F8: ='A2'!R9 -> 0 | G8: ='A2'!S9 -> 0 | H8: ='A2'!T9 -> 0 | I8: Užsipildo automatiškai pagal lapą A2
A9: Planuojama vs faktinė dalis, proc. | B9: =B8/B7 -> 0.44133921 | C9: =C8/C7 -> 0.96832794 | D9: =D8/D7 -> 1.0666134 | E9: =E8/E7 -> 0 | F9: =F8/F7 -> 0 | G9: =G8/G7 -> 0 | H9: =H8/H7 -> #DIV/0! | I9: Užsipildo automatiškai (formulė)
A10: Nuokrypis, proc. | B10: =B9-100% -> -0.55866079 | C10: =C9-100% -> -0.031672058 | D10: =D9-100% -> 0.06661343 | E10: =E9-100% -> -1 | F10: =F9-100% -> -1 | G10: =G9-100% -> -1 | H10: =H9-100% -> #DIV/0! | I10: Užsipildo automatiškai (formulė).
A14: Metai | B14: Jei nuokrypis nuo 100 proc. siekia +/-30 proc. VVG teikia išsamų paaiškinimą
A15: 2024 | B15: Per 2024 metus gautos 5 vietos projektų paraiškos už 335 469,44 Eur vertę. Viena iš jų patvirtinta NMA PAK tačiau pareiškėjas atsisakė pasirašyti sutartį. 4 paraiškos NMA vertinimo procese.
A16: 2025
A17: 2026
A18: 2027
A19: 2028
A20: 2029

Sheet A4.1
B1: Ataskaita: VPS rezultato rodiklių pagal priemones įgyvendinimas
A3: NMA vaidmuo: | B3: -
A4: VVG vaidmuo: | B4: -
E5: Suplanuota VPS | F5: Suplanuota VPS | G5: Suplanuota VPS | H5: Suplanuota VPS | I5: Suplanuota VPS | J5: Suplanuota VPS | K5: Suplanuota VPS | L5: Suplanuota VPS | M5: Suplanuota VPS | N5: Suplanuota VPS | O5: Pasiekta | P5: Pasiekta | Q5: Pasiekta | R5: Pasiekta | S5: Pasiekta | T5: Pasiekta | U5: Pasiekta | V5: Pasiekta | W5: Pasiekta | X5: Pasiekta | Y5: Pasiekta, proc. | Z5: Pasiekta, proc. | AA5: Pasiekta, proc. | AB5: Pasiekta, proc. | AC5: Pasiekta, proc. | AD5: Pasiekta, proc. | AE5: Pasiekta, proc. | AF5: Pasiekta, proc. | AG5: Pasiekta, proc. | AH5: Pasiekta, proc.
A6: VPS priemonės numeris | B6: VVG kodas | C6: VPS priemonės pavadinimas | D6: VPS priemonės kodas (unikalus) | E6: R3 (ūkių skaičius) | F6: R3 (apmokytų ūkininkų skaičius) | G6: R.37 | H6: R.39 (verslo pradžia) | I6: R.39 (verslo plėtra) | J6: R.41 | K6: R.42 | L6: P.1 | M6: P.2 | N6: P.3 | O6: R3 (ūkių skaičius) | P6: R3 (apmokytų ūkininkų skaičius) | Q6: R.37 | R6: R.39 (verslo pradžia) | S6: R.39 (verslo plėtra) | T6: R.41 | U6: R.42 | V6: P.1 | W6: P.2 | X6: P.3 | Y6: R3 (ūkių skaičius) | Z6: R3 (apmokytų ūkininkų skaičius) | AA6: R.37 | AB6: R.39 (verslo pradžia) | AC6: R.39 (verslo plėtra) | AD6: R.41 | AE6: R.42 | AF6: P.1 | AG6: P.2 | AH6: P.3
A7: Užsipildo automatiškai pagal lapą VPS1 | B7: Užsipildo automatiškai pagal lapą VPS1 | C7: Užsipildo automatiškai pagal lapą VPS1 | D7: Užsipildo automatiškai pagal lapą VPS1 | E7: Užsipildo automatiškai pagal lapą VPS2 | F7: Užsipildo automatiškai pagal lapą VPS2 | G7: Užsipildo automatiškai pagal lapą VPS2 | H7: Užsipildo automatiškai pagal lapą VPS2 | I7: Užsipildo automatiškai pagal lapą VPS2 | J7: Užsipildo automatiškai pagal lapą VPS2 | K7: Užsipildo automatiškai pagal lapą VPS2 | L7: Užsipildo automatiškai pagal lapą VPS2 | M7: Užsipildo automatiškai pagal lapą VPS2 | N7: Užsipildo automatiškai pagal lapą VPS2 | O7: Užsipildo automatiškai pagal lapą D5 | P7: Užsipildo automatiškai pagal lapą D5 | Q7: Užsipildo automatiškai pagal lapą D5 | R7: Užsipildo automatiškai pagal lapą D5 | S7: Užsipildo automatiškai pagal lapą D5 | T7: Užsipildo automatiškai pagal lapą D5 | U7: Užsipildo automatiškai pagal lapą D5 | V7: Užsipildo automatiškai pagal lapą D5 | W7: Užsipildo automatiškai pagal lapą D5 | X7: Užsipildo automatiškai pagal lapą D5 | Y7: Užsipildo automatiškai (formulė) | Z7: Užsipildo automatiškai (formulė) | AA7: Užsipildo automatiškai (formulė) | AB7: Užsipildo automatiškai (formulė) | AC7: Užsipildo automatiškai (formulė) | AD7: Užsipildo automatiškai (formulė) | AE7: Užsipildo automatiškai (formulė) | AF7: Užsipildo automatiškai (formulė) | AG7: Užsipildo automatiškai (formulė) | AH7: Užsipildo automatiškai (formulė)
A8: Iš viso | E8: =SUM(E9:E28) -> 0 | F8: =SUM(F9:F28) -> 0 | G8: =SUM(G9:G28) -> 16 | H8: =SUM(H9:H28) -> 16 | I8: =SUM(I9:I28) -> 0 | J8: =SUM(J9:J28) -> 1064 | K8: =SUM(K9:K28) -> 120 | L8: =SUM(L9:L28) -> 0 | ... X8: =SUM(X9:X28) -> 0 | Y8: =IF(E8>0,O8/E8*100,0) -> 0 | Z8: =IF(F8>0,P8/F8*100,0) -> 0 | AA8: =IF(G8>0,Q8/G8*100,0) -> 0 | AB8: =IF(H8>0,R8/H8*100,0) -> 0 | AC8: =IF(I8>0,S8/I8*100,0) -> 0 | AD8: =IF(J8>0,T8/J8*100,0) -> 0 | AE8: =IF(K8>0,U8/K8*100,0) -> 135 | AF8: =IF(L8>0,V8/L8*100,0) -> 0 | ... AH8: =IF(N8>0,X8/N8*100,0) -> 0
A9: 1 priemonė | B9: ='VPS1'!C10 -> MARI | C9: ='VPS1'!D10 -> Bendruomeniškumo skatinimas | D9: ='VPS1'!J10 -> MARI-LEADER-20VVG-09-01 | E9: ='VPS2'!H9 -> 0 | F9: ='VPS2'!I9 -> 0 | G9: ='VPS2'!J9 -> 0 | H9: ='VPS2'!K9 -> 0 | I9: ='VPS2'!L9 -> 0 | J9: ='VPS2'!M9 -> 0 | K9: ='VPS2'!N9 -> 100 | L9: ='VPS2'!O9 -> 0 | ... N9: ='VPS2'!Q9 -> 0 | O9: =SUMIFS('D5'!AM$11:AM$4860,'D5'!$B$11:$B$4860,'A4.1'!$D9,'D5'!$BQ$11:$BQ$4860,"taip") -> 0 | P9: =SUMIFS('D5'!AN$11:AN$4860,'D5'!$B$11:$B$4860,'A4.1'!$D9,'D5'!$BS$11:$BS$4860,"taip") -> 0 | Q9: =SUMIFS('D5'!AO$11:AO$4860,'D5'!$B$11:$B$4860,'A4.1'!$D9,'D5'!$BS$11:$BS$4860,"taip") -> 0 | R9: =SUMIFS('D5'!AP$11:AP$4860,'D5'!$B$11:$B$4860,'A4.1'!$D9,'D5'!$BS$11:$BS$4860,"taip") -> 0 | S9: =SUMIFS('D5'!AQ$11:AQ$4860,'D5'!$B$11:$B$4860,'A4.1'!$D9,'D5'!$BS$11:$BS$4860,"taip") -> 0 | T9: =SUMIFS('D5'!AR$11:AR$4860,'D5'!$B$11:$B$4860,'A4.1'!$D9,'D5'!$BS$11:$BS$4860,"taip") -> 0 | U9: =SUMIFS('D5'!AS$11:AS$4860,'D5'!$B$11:$B$4860,'A4.1'!$D9,'D5'!$BS$11:$BS$4860,"taip") -> 162 | V9: =SUMIFS('D5'!AT11:AT4860,'D5'!$B$11:$B$4860,'A4.1'!$D9,'D5'!$BS$11:$BS$4860,"taip") -> 0 | W9: =SUMIFS('D5'!AU11:AU4860,'D5'!$B$11:$B$4860,'A4.1'!$D9,'D5'!$BS$11:$BS$4860,"taip") -> 0 | X9: =SUMIFS('D5'!AV11:AV4860,'D5'!$B$11:$B$4860,'A4.1'!$D9,'D5'!$BS$11:$BS$4860,"taip") -> 0 | Y9: =IF(E9>0,O9/E9*100,0) -> 0 | Z9: =IF(F9>0,P9/F9*100,0) -> 0 | AA9: =IF(G9>0,Q9/G9*100,0) -> 0 | AB9: =IF(H9>0,R9/H9*100,0) -> 0 | AC9: =IF(I9>0,S9/I9*100,0) -> 0 | AD9: =IF(J9>0,T9/J9*100,0) -> 0 | AE9: =IF(K9>0,U9/K9*100,0) -> 162 | AF9: =IF(L9>0,V9/L9*100,0) -> 0 | ... AH9: =IF(N9>0,X9/N9*100,0) -> 0
A10: 2 priemonė | B10: ='VPS1'!C11 -> MARI | C10: ='VPS1'!D11 -> Ne žemės ūkio verslo kūrimas ir plėtra | D10: ='VPS1'!J11 -> MARI-LEADER-20VVG-03-02 | E10: ='VPS2'!H10 -> 0 | F10: ='VPS2'!I10 -> 0 | G10: ='VPS2'!J10 -> 10 | H10: ='VPS2'!K10 -> 10 | I10: ='VPS2'!L10 -> 0 | J10: ='VPS2'!M10 -> 760 | K10: ='VPS2'!N10 -> 0 | L10: ='VPS2'!O10 -> 0 | ... N10: ='VPS2'!Q10 -> 0 | O10: =SUMIFS('D5'!AM$11:AM$4860,'D5'!$B$11:$B$4860,'A4.1'!$D10,'D5'!$BQ$11:$BQ$4860,"taip") -> 0 | P10: =SUMIFS('D5'!AN$11:AN$4860,'D5'!$B$11:$B$4860,'A4.1'!$D10,'D5'!$BS$11:$BS$4860,"taip") -> 0 | Q10: =SUMIFS('D5'!AO$11:AO$4860,'D5'!$B$11:$B$4860,'A4.1'!$D10,'D5'!$BS$11:$BS$4860,"taip") -> 0 | R10: =SUMIFS('D5'!AP$11:AP$4860,'D5'!$B$11:$B$4860,'A4.1'!$D10,'D5'!$BS$11:$BS$4860,"taip") -> 0 | S10: =SUMIFS('D5'!AQ$11:AQ$4860,'D5'!$B$11:$B$4860,'A4.1'!$D10,'D5'!$BS$11:$BS$4860,"taip") -> 0 | T10: =SUMIFS('D5'!AR$11:AR$4860,'D5'!$B$11:$B$4860,'A4.1'!$D10,'D5'!$BS$11:$BS$4860,"taip") -> 0 | U10: =SUMIFS('D5'!AS$11:AS$4860,'D5'!$B$11:$B$4860,'A4.1'!$D10,'D5'!$BS$11:$BS$4860,"taip") -> 0 | V10: =SUMIFS('D5'!AT12:AT4861,'D5'!$B$11:$B$4860,'A4.1'!$D10,'D5'!$BS$11:$BS$4860,"taip") -> 0 | W10: =SUMIFS('D5'!AU12:AU4861,'D5'!$B$11:$B$4860,'A4.1'!$D10,'D5'!$BS$11:$BS$4860,"taip") -> 0 | X10: =SUMIFS('D5'!AV12:AV4861,'D5'!$B$11:$B$4860,'A4.1'!$D10,'D5'!$BS$11:$BS$4860,"taip") -> 0 | Y10: =IF(E10>0,O10/E10*100,0) -> 0 | Z10: =IF(F10>0,P10/F10*100,0) -> 0 | AA10: =IF(G10>0,Q10/G10*100,0) -> 0 | AB10: =IF(H10>0,R10/H10*100,0) -> 0 | AC10: =IF(I10>0,S10/I10*100,0) -> 0 | AD10: =IF(J10>0,T10/J10*100,0) -> 0 | AE10: =IF(K10>0,U10/K10*100,0) -> 0 | AF10: =IF(L10>0,V10/L10*100,0) -> 0 | ... AH10: =IF(N10>0,X10/N10*100,0) -> 0
