Workbook

Sheet VPS1
A1: 1. | B1: VPS priemonės | D1: VPS priemonės | F1: Vietos plėtros strategijų, įgyvendinamų
F2: bendruomenių inicijuotos vietos plėtros būdu, įgyvendinimo taisyklių
C3: NMA vaidmuo: | D3: Užpildo stulpelius (suplanuota VPS). PILDOMI TIK BALTI LANGELIAI!!! | F3: 5 priedas
C4: VVG vaidmuo: | D4: Patikrina lentelės duomenis.
B5: VVG kodas | C5: MARI
B7: 1 | C7: 2 | D7: 3 | E7: 4 | F7: 5 | G7: 6 | H7: 7 | I7: 8 | J7: 9 | K7: 10 | L7: 11 | M7: 12
B8: VPS priemonės numeris | C8: VVG kodas | D8: VPS priemonė | E8: Priemonės rūšis (iš sąrašo) | F8: Planuojama paremti projektų (rodiklis L700) | G8: Planuojama paramos suma priemonei, Eur | H8: Išlaidų dalis, nuo vietos projektų įgyvendinimo išlaidų, proc. | I8: Priemonės kodas (bendras) | J8: Priemonės kodas (unikalus) | K8: Išlaidų kategorija | L8: Finansavimo šaltinis | M8: Klaidų tikrinimas
A9: 1.3 | D9: Vietos projektams skirtos priemonės, iš viso | F9: =SUMIFS($F10:$F29,$K10:$K29,"Vietos projektų įgyvendinimo išlaidos") -> 26 | G9: =SUMIFS($G10:$G29,$K10:$K29,"Vietos projektų įgyvendinimo išlaidos") -> 1261564.8 | H9: =SUM(H10:H29) -> 100
A10: 1.4 | B10: 1 priemonė | C10: =IF(F10>0,$C$5,0) -> MARI | D10: Bendruomeniškumo skatinimas | E10: Veiklos projektai | F10: 10 | G10: 251564.8 | H10: 19.940696 | I10: LEADER-20VVG-09 | J10: MARI-LEADER-20VVG-09-01 | K10: Vietos projektų įgyvendinimo išlaidos | L10: EŽŪFKP | M10: =IF(K10="Vietos projektų įgyvendinimo išlaidos", "Gerai","Priemonę pašalinti iš sąrašo") -> Gerai
A11: 1.5 | B11: 2 priemonė | C11: =IF(F11>0,$C$5,0) -> MARI | D11: Ne žemės ūkio verslo kūrimas ir plėtra | E11: Ne žemės ūkio verslo kūrimas ir plėtra | F11: 10 | G11: 650000 | H11: 51.523315 | I11: LEADER-20VVG-03 | J11: MARI-LEADER-20VVG-03-02 | K11: Vietos projektų įgyvendinimo išlaidos | L11: EŽŪFKP | M11: =IF(K11="Vietos projektų įgyvendinimo išlaidos", "Gerai","Priemonę pašalinti iš sąrašo") -> Gerai
A12: 1.6 | B12: 3 priemonė | C12: =IF(F12>0,$C$5,0) -> MARI | D12: Bendruomeninio verslo kūrimas ir plėtra | E12: Bendruomeninis verslas | F12: 2 | G12: 100000 | H12: 7.9266638 | I12: LEADER-20VVG-07 | J12: MARI-LEADER-20VVG-07-03 | K12: Vietos projektų įgyvendinimo išlaidos | L12: EŽŪFKP | M12: =IF(K12="Vietos projektų įgyvendinimo išlaidos", "Gerai","Priemonę pašalinti iš sąrašo") -> Gerai
A13: 1.7 | B13: 4 priemonė | C13: =IF(F13>0,$C$5,0) -> MARI | D13: Socialinio verslo kūrimas ir plėtra | E13: Socialinis verslas | F13: 4 | G13: 260000 | H13: 20.609326 | I13: LEADER-20VVG-06 | J13: MARI-LEADER-20VVG-06-04 | K13: Vietos projektų įgyvendinimo išlaidos | L13: EŽŪFKP | M13: =IF(K13="Vietos projektų įgyvendinimo išlaidos", "Gerai","Priemonę pašalinti iš sąrašo") -> Gerai
A14: 1.8 | B14: 5 priemonė | C14: =IF(F14>0,$C$5,0) -> 0 | L14: EŽŪFKP | M14: =IF(K14="Vietos projektų įgyvendinimo išlaidos", "Gerai","Priemonę pašalinti iš sąrašo") -> Priemonę pašalinti iš sąrašo
A15: 1.9 | B15: 6 priemonė | C15: =IF(F15>0,$C$5,0) -> 0 | L15: EŽŪFKP | M15: =IF(K15="Vietos projektų įgyvendinimo išlaidos", "Gerai","Priemonę pašalinti iš sąrašo") -> Priemonę pašalinti iš sąrašo
A16: 1.10 | B16: 7 priemonė | C16: =IF(F16>0,$C$5,0) -> 0 | L16: EŽŪFKP | M16: =IF(K16="Vietos projektų įgyvendinimo išlaidos", "Gerai","Priemonę pašalinti iš sąrašo") -> Priemonę pašalinti iš sąrašo
A17: 1.11 | B17: 8 priemonė | C17: =IF(F17>0,$C$5,0) -> 0 | L17: EŽŪFKP | M17: =IF(K17="Vietos projektų įgyvendinimo išlaidos", "Gerai","Priemonę pašalinti iš sąrašo") -> Priemonę pašalinti iš sąrašo
A18: 1.12 | B18: 9 priemonė | C18: =IF(F18>0,$C$5,0) -> 0 | L18: EŽŪFKP | M18: =IF(K18="Vietos projektų įgyvendinimo išlaidos", "Gerai","Priemonę pašalinti iš sąrašo") -> Priemonę pašalinti iš sąrašo
A19: 1.13 | B19: 10 priemonė | C19: =IF(F19>0,$C$5,0) -> 0 | L19: EŽŪFKP | M19: =IF(K19="Vietos projektų įgyvendinimo išlaidos", "Gerai","Priemonę pašalinti iš sąrašo") -> Priemonę pašalinti iš sąrašo
A20: 1.14 | B20: 11 priemonė | C20: =IF(F20>0,$C$5,0) -> 0 | L20: EŽŪFKP | M20: =IF(K20="Vietos projektų įgyvendinimo išlaidos", "Gerai","Priemonę pašalinti iš sąrašo") -> Priemonę pašalinti iš sąrašo
A21: 1.15 | B21: 12 priemonė | C21: =IF(F21>0,$C$5,0) -> 0 | L21: EŽŪFKP | M21: =IF(K21="Vietos projektų įgyvendinimo išlaidos", "Gerai","Priemonę pašalinti iš sąrašo") -> Priemonę pašalinti iš sąrašo
A22: 1.16 | B22: 13 priemonė | C22: =IF(F22>0,$C$5,0) -> 0 | L22: EŽŪFKP | M22: =IF(K22="Vietos projektų įgyvendinimo išlaidos", "Gerai","Priemonę pašalinti iš sąrašo") -> Priemonę pašalinti iš sąrašo
A23: 1.17 | B23: 14 priemonė | C23: =IF(F23>0,$C$5,0) -> 0 | L23: EŽŪFKP | M23: =IF(K23="Vietos projektų įgyvendinimo išlaidos", "Gerai","Priemonę pašalinti iš sąrašo") -> Priemonę pašalinti iš sąrašo
A24: 1.18 | B24: 15 priemonė | C24: =IF(F24>0,$C$5,0) -> 0 | L24: EŽŪFKP | M24: =IF(K24="Vietos projektų įgyvendinimo išlaidos", "Gerai","Priemonę pašalinti iš sąrašo") -> Priemonę pašalinti iš sąrašo
A25: 1.19 | B25: 16 priemonė | C25: =IF(F25>0,$C$5,0) -> 0 | L25: EŽŪFKP | M25: =IF(K25="Vietos projektų įgyvendinimo išlaidos", "Gerai","Priemonę pašalinti iš sąrašo") -> Priemonę pašalinti iš sąrašo
... A29: 1.23 | B29: 20 priemonė | C29: =IF(F29>0,$C$5,0) -> 0 | L29: EŽŪFKP | M29: =IF(K29="Vietos projektų įgyvendinimo išlaidos", "Gerai","Priemonę pašalinti iš sąrašo") -> Priemonę pašalinti iš sąrašo
D32: Pildymo instrukcija (VPS1 lapas)
B33: 1. | D33: Pildo NMA. Kopijuojama informacija iš VPS II dalies 7 lapo. Kopijuojami tik 2-9 stupleliai ir tik tos eilutės, kurios yra užpildytos. Kopijuojant formoje įklijuojamos tik reikšmės (be formatavimo). Parinkus komandą "Įklijuoti/ Paste" atsiranda mygtukas, kurį paspaudus reikia pasirinkti variantą "Įklijuoti reikšmes/ Paste values".
B34: 2. | D34: SVARBU! Kopijuojamos tik Vietos projektų priemonės. Teritorinio ir tarptautinio bendradarbiavimo priemonės į sąrašą nėra įtraukiamos. Jei 12 stulpelyje rodo klaidą "Priemonę pašalinti iš sąrašo", informacija apie priemonę 3-10 stulpeliuose pašalinama.

Sheet VPS2
B1: VPS planuojami priemonių rezultato rodikliai
A2: NMA vaidmuo: | B2: Užpildo stulpelius (suplanuota VPS). PILDOMI TIK BALTI LANGELIAI!!!
A3: VVG vaidmuo: | B3: Patikrina lentelės duomenis.
B6: 1 | C6: 2 | D6: 2 | E6: 3 | F6: 4 | G6: 5 | H6: 6 | I6: 7 | J6: 8 | K6: 9 | L6: 10 | M6: 11 | N6: 12 | O6: 13 | P6: 14 | Q6: 15
B7: VPS priemonės numeris | C7: VVG kodas | D7: VPS priemonė | E7: Priemonės rūšis (iš sąrašo) | F7: Priemonės kodas (unikalus) | G7: Priemonės kodas (bendras) | H7: R3 (ūkių skaičius) | I7: R3 (apmokytų ūkininkų skaičius) | J7: R.37 | K7: R.39 (verslo pradžia) | L7: R.39 (verslo plėtra) | M7: R.41 | N7: R.42 | O7: P.1 | P7: P.2 | Q7: P.3
D8: Iš viso | E8: - | F8: - | G8: - | H8: =SUM(H9:H28) -> 0 | I8: =SUM(I9:I28) -> 0 | J8: =SUM(J9:J28) -> 16 | K8: =SUM(K9:K28) -> 16 | L8: =SUM(L9:L28) -> 0 | M8: =SUM(M9:M28) -> 1064 | N8: =SUM(N9:N28) -> 120 | O8: =SUM(O9:O28) -> 0 | ... Q8: =SUM(Q9:Q28) -> 0
B9: 1 priemonė | C9: ='VPS1'!C10 -> MARI | D9: ='VPS1'!D10 -> Bendruomeniškumo skatinimas | E9: ='VPS1'!E10 -> Veiklos projektai | F9: ='VPS1'!J10 -> MARI-LEADER-20VVG-09-01 | G9: ='VPS1'!I10 -> LEADER-20VVG-09 | N9: 100
B10: 2 priemonė | C10: ='VPS1'!C11 -> MARI | D10: ='VPS1'!D11 -> Ne žemės ūkio verslo kūrimas ir plėtra | E10: ='VPS1'!E11 -> Ne žemės ūkio verslo kūrimas ir plėtra | F10: ='VPS1'!J11 -> MARI-LEADER-20VVG-03-02 | G10: ='VPS1'!I11 -> LEADER-20VVG-03 | J10: 10 | K10: 10 | M10: 760 | N10: 0
B11: 3 priemonė | C11: ='VPS1'!C12 -> MARI | D11: ='VPS1'!D12 -> Bendruomeninio verslo kūrimas ir plėtra | E11: ='VPS1'!E12 -> Bendruomeninis verslas | F11: ='VPS1'!J12 -> MARI-LEADER-20VVG-07-03 | G11: ='VPS1'!I12 -> LEADER-20VVG-07 | J11: 2 | K11: 2 | M11: 152 | N11: 0
B12: 4 priemonė | C12: ='VPS1'!C13 -> MARI | D12: ='VPS1'!D13 -> Socialinio verslo kūrimas ir plėtra | E12: ='VPS1'!E13 -> Socialinis verslas | F12: ='VPS1'!J13 -> MARI-LEADER-20VVG-06-04 | G12: ='VPS1'!I13 -> LEADER-20VVG-06 | J12: 4 | K12: 4 | M12: 152 | N12: 20
B13: 5 priemonė | C13: ='VPS1'!C14 -> 0 | D13: ='VPS1'!D14 -> 0 | E13: ='VPS1'!E14 -> 0 | F13: ='VPS1'!J14 -> 0 | G13: ='VPS1'!I14 -> 0
B14: 6 priemonė | C14: ='VPS1'!C15 -> 0 | D14: ='VPS1'!D15 -> 0 | E14: ='VPS1'!E15 -> 0 | F14: ='VPS1'!J15 -> 0 | G14: ='VPS1'!I15 -> 0
B15: 7 priemonė | C15: ='VPS1'!C16 -> 0 | D15: ='VPS1'!D16 -> 0 | E15: ='VPS1'!E16 -> 0 | F15: ='VPS1'!J16 -> 0 | G15: ='VPS1'!I16 -> 0
B16: 8 priemonė | C16: ='VPS1'!C17 -> 0 | D16: ='VPS1'!D17 -> 0 | E16: ='VPS1'!E17 -> 0 | F16: ='VPS1'!J17 -> 0 | G16: ='VPS1'!I17 -> 0
B17: 9 priemonė | C17: ='VPS1'!C18 -> 0 | D17: ='VPS1'!D18 -> 0 | E17: ='VPS1'!E18 -> 0 | F17: ='VPS1'!J18 -> 0 | G17: ='VPS1'!I18 -> 0
B18: 10 priemonė | C18: ='VPS1'!C19 -> 0 | D18: ='VPS1'!D19 -> 0 | E18: ='VPS1'!E19 -> 0 | F18: ='VPS1'!J19 -> 0 | G18: ='VPS1'!I19 -> 0
B19: 11 priemonė | C19: ='VPS1'!C20 -> 0 | D19: ='VPS1'!D20 -> 0 | E19: ='VPS1'!E20 -> 0 | F19: ='VPS1'!J20 -> 0 | G19: ='VPS1'!I20 -> 0
B20: 12 priemonė | C20: ='VPS1'!C21 -> 0 | D20: ='VPS1'!D21 -> 0 | E20: ='VPS1'!E21 -> 0 | F20: ='VPS1'!J21 -> 0 | G20: ='VPS1'!I21 -> 0
B21: 13 priemonė | C21: ='VPS1'!C22 -> 0 | D21: ='VPS1'!D22 -> 0 | E21: ='VPS1'!E22 -> 0 | F21: ='VPS1'!J22 -> 0 | G21: ='VPS1'!I22 -> 0
B22: 14 priemonė | C22: ='VPS1'!C23 -> 0 | D22: ='VPS1'!D23 -> 0 | E22: ='VPS1'!E23 -> 0 | F22: ='VPS1'!J23 -> 0 | G22: ='VPS1'!I23 -> 0
B23: 15 priemonė | C23: ='VPS1'!C24 -> 0 | D23: ='VPS1'!D24 -> 0 | E23: ='VPS1'!E24 -> 0 | F23: ='VPS1'!J24 -> 0 | G23: ='VPS1'!I24 -> 0
B24: 16 priemonė | C24: ='VPS1'!C25 -> 0 | D24: ='VPS1'!D25 -> 0 | E24: ='VPS1'!E25 -> 0 | F24: ='VPS1'!J25 -> 0 | G24: ='VPS1'!I25 -> 0
... B28: 20 priemonė | C28: ='VPS1'!C29 -> 0 | D28: ='VPS1'!D29 -> 0 | E28: ='VPS1'!E29 -> 0 | F28: ='VPS1'!J29 -> 0 | G28: ='VPS1'!I29 -> 0
D31: Pildymo instrukcija (VPS2 lapas)
B32: 1. | D32: Pildo NMA. Pagal poreikį pildomi 6-15 stulpeliai. Duomenys imami iš VPS II dalies 11 arba 12 lapo.
B33: 2. | D33: Rezultato rodiklių reikšmių pasiekimai už 2024 m. nebus vertinami, jie bus vertinami tik 2025 m., vertinant suplanuotų rodiklių pasiekimą už 2024 ir 2025 metus.

Sheet VPS3
B1: VPS planuojami rodikliai pamečiui
A2: NMA vaidmuo: | B2: Užpildo stulpelius (suplanuota VPS). PILDOMI TIK BALTI LANGELIAI!!!
A3: VVG vaidmuo: | B3: Patikrina lentelės duomenis.
B6: 1 | C6: 2 | D6: 3 | E6: 4 | F6: 5 | G6: 6 | H6: 7 | I6: 8 | J6: 9
B7: Rodiklis | C7: 2024 | D7: 2025 | E7: 2026 | F7: 2027 | G7: 2028 | H7: 2029 | I7: Iš viso | J7: Klaidų tikrinimas
B8: R3 (ūkių skaičius) | I8: =SUM(C8:H8) -> 0 | J8: =IF(I8='VPS2'!H8,"Gerai","Klaida, nesutampa su VPS2 suma") -> Gerai
B9: R3 (apmokytų ūkininkų skaičius) | I9: =SUM(C9:H9) -> 0 | J9: =IF(I9='VPS2'!I8,"Gerai","Klaida, nesutampa su VPS2 suma") -> Gerai
B10: R.37 | E10: 4 | F10: 2 | G10: 3 | H10: 7 | I10: =SUM(C10:H10) -> 16 | J10: =IF(I10='VPS2'!J8,"Gerai","Klaida, nesutampa su VPS2 suma") -> Gerai
B11: R.39 (verslo pradžia) | E11: 4 | F11: 2 | G11: 3 | H11: 7 | I11: =SUM(C11:H11) -> 16 | J11: =IF(I11='VPS2'!K8,"Gerai","Klaida, nesutampa su VPS2 suma") -> Gerai
B12: R.39 (verslo plėtra) | I12: =SUM(C12:H12) -> 0 | J12: =IF(I12='VPS2'!L8,"Gerai","Klaida, nesutampa su VPS2 suma") -> Gerai
B13: R.41 | E13: 226 | F13: 230 | G13: 226 | H13: 382 | I13: =SUM(C13:H13) -> 1064 | J13: =IF(I13='VPS2'!M8,"Gerai","Klaida, nesutampa su VPS2 suma") -> Gerai
B14: R.42 | D14: 20 | E14: 30 | F14: 20 | G14: 20 | H14: 30 | I14: =SUM(C14:H14) -> 120 | J14: =IF(I14='VPS2'!N8,"Gerai","Klaida, nesutampa su VPS2 suma") -> Gerai
C17: Pildymo instrukcija (VPS3 lapas)
B18: 1 | C18: Pildo NMA. Pildomi2-7 stulpeliai. Duomenys imami iš VPS II dalies 11 lapo.

Sheet D1
B1: Duomenys: Informacija apie kvietimus
A3: NMA vaidmuo: | B3: Patikrina VVG pateiktus lentelės duomenis.
A4: VVG vaidmuo: | B4: Užpildo lentelę (C, D, E stulpeliai).
A6: VVG | B6: Kvietimo Nr. | C6: Kvietimo pradžia | D6: Kvietimo pabaiga | E6: Gautų paraiškų skaičius | F6: Kvietimo trukmė (d.) | G6: Kvietimo pradžios metai | H6: Kvietimo pabaigos metai
A7: Užsipildo automatiškai pagal lapą VPS1 | B7: Nurodomas kvietimo numeris pagal schemą KV01, kur "KV" reiškia žodį "kvietimas", o "01" - dviženklį kvietimo Nr. 1 numerį. Kiekvienas kvietimas nurodomas naujoje eilutėje. Jei kvietimų buvo mažiau, nereikalingos eilutės nepildomos. | C7: Pildo VVG. Nurodoma data pagal schemą MMM-MM-DD, pavyzdžiui, 2024-10-01 | D7: Pildo VVG. Nurodoma data pagal schemą MMM-MM-DD, pavyzdžiui, 2024-10-01 | E7: Pildo VVG. Nurodomas bendras užregistruotų paraiškų skaičius | F7: Užsipildo aututomatiškai (formulė) | G7: Užsipildo aututomatiškai (formulė) | H7: Užsipildo aututomatiškai (formulė)
A8: Iš viso | E8: =SUM(E9:E38) -> 16
A9: =IF(F9>0,'VPS1'!C10,0) -> MARI | B9: KV01 | C9: 45402 | D9: 45443 | E9: 1 | F9: =D9-C9 -> 41 | G9: =YEAR(C9) -> 2024 | H9: =YEAR(D9) -> 2024
A10: =IF(F10>0,'VPS1'!C11,0) -> MARI | B10: KV02 | C10: 45566 | D10: 45596 | E10: 3 | F10: =D10-C10 -> 30 | G10: =YEAR(C10) -> 2024 | H10: =YEAR(D10) -> 2024
A11: =IF(F11>0,'VPS1'!C12,0) -> MARI | B11: KV03 | C11: 45566 | D11: 45596 | E11: 1 | F11: =D11-C11 -> 30 | G11: =YEAR(C11) -> 2024 | H11: =YEAR(D11) -> 2024
A12: =IF(F12>0,'VPS1'!$C$13,0) -> MARI | B12: KV04 | C12: 45778 | D12: 45808 | E12: 4 | F12: =D12-C12 -> 30 | G12: =YEAR(C12) -> 2025 | H12: =YEAR(D12) -> 2025
A13: =IF(F13>0,'VPS1'!$C$13,0) -> MARI | B13: KV05 | C13: 45870 | D13: 45900 | E13: 3 | F13: =D13-C13 -> 30 | G13: =YEAR(C13) -> 2025 | H13: =YEAR(D13) -> 2025
A14: =IF(F14>0,'VPS1'!$C$13,0) -> MARI | B14: KV06 | C14: 45931 | D14: 45961 | E14: 3 | F14: =D14-C14 -> 30 | G14: =YEAR(C14) -> 2025 | H14: =YEAR(D14) -> 2025
A15: =IF(F15>0,'VPS1'!$C$13,0) -> MARI | B15: KV07 | C15: 45931 | D15: 45961 | E15: 1 | F15: =D15-C15 -> 30 | G15: =YEAR(C15) -> 2025 | H15: =YEAR(D15) -> 2025
A16: =IF(F16>0,'VPS1'!C17,0) -> 0 | B16: KV08 | F16: =D16-C16 -> 0 | G16: =YEAR(C16) -> 1900 | H16: =YEAR(D16) -> 1900
A17: =IF(F17>0,'VPS1'!C18,0) -> 0 | B17: KV09 | F17: =D17-C17 -> 0 | G17: =YEAR(C17) -> 1900 | H17: =YEAR(D17) -> 1900
A18: =IF(F18>0,'VPS1'!C19,0) -> 0 | B18: KV10 | F18: =D18-C18 -> 0 | G18: =YEAR(C18) -> 1900 | H18: =YEAR(D18) -> 1900
A19: =IF(F19>0,'VPS1'!C20,0) -> 0 | B19: KV11 | F19: =D19-C19 -> 0 | G19: =YEAR(C19) -> 1900 | H19: =YEAR(D19) -> 1900
A20: =IF(F20>0,'VPS1'!C21,0) -> 0 | B20: KV12 | F20: =D20-C20 -> 0 | G20: =YEAR(C20) -> 1900 | H20: =YEAR(D20) -> 1900
A21: =IF(F21>0,'VPS1'!C22,0) -> 0 | B21: KV13 | F21: =D21-C21 -> 0 | G21: =YEAR(C21) -> 1900 | H21: =YEAR(D21) -> 1900
A22: =IF(F22>0,'VPS1'!C23,0) -> 0 | B22: KV14 | F22: =D22-C22 -> 0 | G22: =YEAR(C22) -> 1900 | H22: =YEAR(D22) -> 1900
A23: =IF(F23>0,'VPS1'!C24,0) -> 0 | B23: KV15 | F23: =D23-C23 -> 0 | G23: =YEAR(C23) -> 1900 | H23: =YEAR(D23) -> 1900
A24: =IF(F24>0,'VPS1'!C25,0) -> 0 | B24: KV16 | F24: =D24-C24 -> 0 | G24: =YEAR(C24) -> 1900 | H24: =YEAR(D24) -> 1900
A25: =IF(F25>0,'VPS1'!C26,0) -> 0 | B25: KV17 | F25: =D25-C25 -> 0 | G25: =YEAR(C25) -> 1900 | H25: =YEAR(D25) -> 1900
A26: =IF(F26>0,'VPS1'!C27,0) -> 0 | B26: KV18 | F26: =D26-C26 -> 0 | G26: =YEAR(C26) -> 1900 | H26: =YEAR(D26) -> 1900
A27: =IF(F27>0,'VPS1'!C28,0) -> 0 | B27: KV19 | F27: =D27-C27 -> 0 | G27: =YEAR(C27) -> 1900 | H27: =YEAR(D27) -> 1900
... A38: =IF(F38>0,'VPS1'!C39,0) -> 0 | B38: KV30 | F38: =D38-C38 -> 0 | G38: =YEAR(C38) -> 1900 | H38: =YEAR(D38) -> 1900

Sheet D2
B1: Duomenys: Informacija apie įvykusius kvietimus VPS priemonių lygiu
A3: NMA vaidmuo: | B3: Patikrina VVG pateiktus lentelės duomenis.
A4: VVG vaidmuo: | B4: Užpildo lentelę nuo K stulpelio.
K5: Kvietimui numatyta lėšų suma (VPS priemonių lygiu), Eur
B6: VPS priemonės numeris | C6: VVG kodas | D6: VPS priemonė | E6: Priemonės kodas (unikalus) | F6: Priemonės kodas (bendras) | G6: Planuojama paramos suma priemonei, Eur | H6: Bendras kvietimų skaičius (vnt.) | I6: Bendra kvietimų teikti paraiškas suma, Eur | J6: Paskelbti kvietimai, proc. nuo vietos projektams numatytų lėšų (nuo VPS įgyvendinimo pradžios) | K6: KV01 | L6: KV02 | M6: KV03 | N6: KV04 | O6: KV05 | P6: KV06 | Q6: KV07 | R6: KV08 | S6: KV09 | T6: KV10 | U6: KV11 | V6: KV12 | W6: KV13 | X6: KV14 | Y6: KV15 | Z6: KV16 | AA6: KV17 | AB6: KV18 | AC6: KV19 | AD6: KV20 | AE6: KV21 | AF6: KV22 | AG6: KV23 | AH6: KV24 | AI6: KV25 | AJ6: KV26 | AK6: KV27 | AL6: KV28 | AM6: KV29 | AN6: KV30
B7: Užsipildo automatiškai pagal lapą VPS1 | C7: Užsipildo automatiškai pagal lapą VPS1 | D7: Užsipildo automatiškai pagal lapą VPS1 | E7: Užsipildo automatiškai pagal lapą VPS1 | F7: Užsipildo automatiškai pagal lapą VPS1 | G7: Užsipildo automatiškai pagal lapą VPS1 | H7: Užsipildo automatiškai (formulė) | I7: Užsipildo automatiškai (formulė) | J7: Užsipildo automatiškai (formulė) | K7: Pildo VVG. Suma nurodoma tame langelyje, kuriame susikerta aktualus kvietimo numeris ir VPS priemonė. Jei kvietimų daugiau nei 30, įterpti daugiau stulpelių.
B8: Iš viso | G8: =SUM(G9:G28) -> 1261564.8 | H8: =SUM(H9:H28) -> 7 | I8: =SUM(I9:I28) -> 865965.88 | J8: =IF(G8>0,I8/G8,0) -> 0.68642204 | K8: =SUM(K9:K28) -> 130000 | L8: =SUM(L9:L28) -> 75469.44 | M8: =SUM(M9:M28) -> 130000 | N8: =SUM(N9:N28) -> 195000 | O8: =SUM(O9:O28) -> 130000 | P8: =SUM(P9:P28) -> 75496.44 | Q8: =SUM(Q9:Q28) -> 130000 | R8: =SUM(R9:R28) -> 0 | ... AN8: =SUM(AN9:AN28) -> 0
B9: 1 priemonė | C9: ='VPS1'!C10 -> MARI | D9: ='VPS1'!D10 -> Bendruomeniškumo skatinimas | E9: ='VPS1'!J10 -> MARI-LEADER-20VVG-09-01 | F9: ='VPS1'!I10 -> LEADER-20VVG-09 | G9: ='VPS1'!G10 -> 251564.8 | H9: =COUNTIFS(K9:AN9,">0") -> 2 | I9: =SUM(K9:AN9) -> 150965.88 | J9: =IF(G9>0,I9/G9,0) -> 0.60010733 | L9: 75469.44 | P9: 75496.44
B10: 2 priemonė | C10: ='VPS1'!C11 -> MARI | D10: ='VPS1'!D11 -> Ne žemės ūkio verslo kūrimas ir plėtra | E10: ='VPS1'!J11 -> MARI-LEADER-20VVG-03-02 | F10: ='VPS1'!I11 -> LEADER-20VVG-03 | G10: ='VPS1'!G11 -> 650000 | H10: =COUNTIFS(K10:AN10,">0") -> 4 | I10: =SUM(K10:AN10) -> 585000 | J10: =IF(G10>0,I10/G10,0) -> 0.9 | K10: 130000 | M10: 130000 | N10: 195000 | Q10: 130000
B11: 3 priemonė | C11: ='VPS1'!C12 -> MARI | D11: ='VPS1'!D12 -> Bendruomeninio verslo kūrimas ir plėtra | E11: ='VPS1'!J12 -> MARI-LEADER-20VVG-07-03 | F11: ='VPS1'!I12 -> LEADER-20VVG-07 | G11: ='VPS1'!G12 -> 100000 | H11: =COUNTIFS(K11:AN11,">0") -> 0 | I11: =SUM(K11:AN11) -> 0 | J11: =IF(G11>0,I11/G11,0) -> 0
B12: 4 priemonė | C12: ='VPS1'!C13 -> MARI | D12: ='VPS1'!D13 -> Socialinio verslo kūrimas ir plėtra | E12: ='VPS1'!J13 -> MARI-LEADER-20VVG-06-04 | F12: ='VPS1'!I13 -> LEADER-20VVG-06 | G12: ='VPS1'!G13 -> 260000 | H12: =COUNTIFS(K12:AN12,">0") -> 1 | I12: =SUM(K12:AN12) -> 130000 | J12: =IF(G12>0,I12/G12,0) -> 0.5 | O12: 130000
B13: 5 priemonė | C13: ='VPS1'!C14 -> 0 | D13: ='VPS1'!D14 -> 0 | E13: ='VPS1'!J14 -> 0 | F13: ='VPS1'!I14 -> 0 | G13: ='VPS1'!G14 -> 0 | H13: =COUNTIFS(K13:AN13,">0") -> 0 | I13: =SUM(K13:AN13) -> 0 | J13: =IF(G13>0,I13/G13,0) -> 0
B14: 6 priemonė | C14: ='VPS1'!C15 -> 0 | D14: ='VPS1'!D15 -> 0 | E14: ='VPS1'!J15 -> 0 | F14: ='VPS1'!I15 -> 0 | G14: ='VPS1'!G15 -> 0 | H14: =COUNTIFS(K14:AN14,">0") -> 0 | I14: =SUM(K14:AN14) -> 0 | J14: =IF(G14>0,I14/G14,0) -> 0
B15: 7 priemonė | C15: ='VPS1'!C16 -> 0 | D15: ='VPS1'!D16 -> 0 | E15: ='VPS1'!J16 -> 0 | F15: ='VPS1'!I16 -> 0 | G15: ='VPS1'!G16 -> 0 | H15: =COUNTIFS(K15:AN15,">0") -> 0 | I15: =SUM(K15:AN15) -> 0 | J15: =IF(G15>0,I15/G15,0) -> 0
B16: 8 priemonė | C16: ='VPS1'!C17 -> 0 | D16: ='VPS1'!D17 -> 0 | E16: ='VPS1'!J17 -> 0 | F16: ='VPS1'!I17 -> 0 | G16: ='VPS1'!G17 -> 0 | H16: =COUNTIFS(K16:AN16,">0") -> 0 | I16: =SUM(K16:AN16) -> 0 | J16: =IF(G16>0,I16/G16,0) -> 0
B17: 9 priemonė | C17: ='VPS1'!C18 -> 0 | D17: ='VPS1'!D18 -> 0 | E17: ='VPS1'!J18 -> 0 | F17: ='VPS1'!I18 -> 0 | G17: ='VPS1'!G18 -> 0 | H17: =COUNTIFS(K17:AN17,">0") -> 0 | I17: =SUM(K17:AN17) -> 0 | J17: =IF(G17>0,I17/G17,0) -> 0
B18: 10 priemonė | C18: ='VPS1'!C19 -> 0 | D18: ='VPS1'!D19 -> 0 | E18: ='VPS1'!J19 -> 0 | F18: ='VPS1'!I19 -> 0 | G18: ='VPS1'!G19 -> 0 | H18: =COUNTIFS(K18:AN18,">0") -> 0 | I18: =SUM(K18:AN18) -> 0 | J18: =IF(G18>0,I18/G18,0) -> 0
B19: 11 priemonė | C19: ='VPS1'!C20 -> 0 | D19: ='VPS1'!D20 -> 0 | E19: ='VPS1'!J20 -> 0 | F19: ='VPS1'!I20 -> 0 | G19: ='VPS1'!G20 -> 0 | H19: =COUNTIFS(K19:AN19,">0") -> 0 | I19: =SUM(K19:AN19) -> 0 | J19: =IF(G19>0,I19/G19,0) -> 0
B20: 12 priemonė | C20: ='VPS1'!C21 -> 0 | D20: ='VPS1'!D21 -> 0 | E20: ='VPS1'!J21 -> 0 | F20: ='VPS1'!I21 -> 0 | G20: ='VPS1'!G21 -> 0 | H20: =COUNTIFS(K20:AN20,">0") -> 0 | I20: =SUM(K20:AN20) -> 0 | J20: =IF(G20>0,I20/G20,0) -> 0
B21: 13 priemonė | C21: ='VPS1'!C22 -> 0 | D21: ='VPS1'!D22 -> 0 | E21: ='VPS1'!J22 -> 0 | F21: ='VPS1'!I22 -> 0 | G21: ='VPS1'!G22 -> 0 | H21: =COUNTIFS(K21:AN21,">0") -> 0 | I21: =SUM(K21:AN21) -> 0 | J21: =IF(G21>0,I21/G21,0) -> 0
B22: 14 priemonė | C22: ='VPS1'!C23 -> 0 | D22: ='VPS1'!D23 -> 0 | E22: ='VPS1'!J23 -> 0 | F22: ='VPS1'!I23 -> 0 | G22: ='VPS1'!G23 -> 0 | H22: =COUNTIFS(K22:AN22,">0") -> 0 | I22: =SUM(K22:AN22) -> 0 | J22: =IF(G22>0,I22/G22,0) -> 0
B23: 15 priemonė | C23: ='VPS1'!C24 -> 0 | D23: ='VPS1'!D24 -> 0 | E23: ='VPS1'!J24 -> 0 | F23: ='VPS1'!I24 -> 0 | G23: ='VPS1'!G24 -> 0 | H23: =COUNTIFS(K23:AN23,">0") -> 0 | I23: =SUM(K23:AN23) -> 0 | J23: =IF(G23>0,I23/G23,0) -> 0
B24: 16 priemonė | C24: ='VPS1'!C25 -> 0 | D24: ='VPS1'!D25 -> 0 | E24: ='VPS1'!J25 -> 0 | F24: ='VPS1'!I25 -> 0 | G24: ='VPS1'!G25 -> 0 | H24: =COUNTIFS(K24:AN24,">0") -> 0 | I24: =SUM(K24:AN24) -> 0 | J24: =IF(G24>0,I24/G24,0) -> 0
... B28: 20 priemonė | C28: ='VPS1'!C29 -> 0 | D28: ='VPS1'!D29 -> 0 | E28: ='VPS1'!J29 -> 0 | F28: ='VPS1'!I29 -> 0 | G28: ='VPS1'!G29 -> 0 | H28: =COUNTIFS(K28:AN28,">0") -> 0 | I28: =SUM(K28:AN28) -> 0 | J28: =IF(G28>0,I28/G28,0) -> 0

Sheet D3
B1: Duomenys: Informacija apie gautas paraiškas VPS priemonių lygiu
A3: NMA vaidmuo: | B3: Patikrina VVG pateiktus lentelės duomenis.
A4: VVG vaidmuo: | B4: Užpildo lentelę nuo H stulpelio.
H5: Gautų paraiškų skaičius (VPS priemonių lygiu)
B6: VPS priemonės numeris | C6: VVG kodas | D6: VPS priemonė | E6: Priemonės kodas (bendras) | F6: Priemonės kodas (unikalus) | G6: Bendras gautų paraiškų skaičius | H6: KV01 | I6: KV02 | J6: KV03 | K6: KV04 | L6: KV05 | M6: KV06 | N6: KV07 | O6: KV08 | P6: KV09 | Q6: KV10 | R6: KV11 | S6: KV12 | T6: KV13 | U6: KV14 | V6: KV15 | W6: KV16 | X6: KV17 | Y6: KV18 | Z6: KV19 | AA6: KV20 | AB6: KV21 | AC6: KV22 | AD6: KV23 | AE6: KV24 | AF6: KV25 | AG6: KV26 | AH6: KV27 | AI6: KV28 | AJ6: KV29 | AK6: KV30
B7: Užsipildo automatiškai pagal lapą VPS1 | C7: Užsipildo automatiškai pagal lapą VPS2 | D7: Užsipildo automatiškai pagal lapą VPS1 | E7: Užsipildo automatiškai pagal lapą VPS1 | F7: Užsipildo automatiškai pagal lapą VPS1 | G7: Užsipildo automatiškai (formulė) | H7: Pildo VVG. Gautų paraiškų skaičius nurodomas tame langelyje, kuriame susikerta aktualus kvietimo numeris ir VPS priemonė. Jei kvietimų daugiau nei 30, įterpti daugiau stulpelių.
B8: Iš viso | G8: =SUM(G9:G28) -> 16 | H8: =SUM(H9:H28) -> 1 | I8: =SUM(I9:I28) -> 3 | J8: =SUM(J9:J28) -> 1 | K8: =SUM(K9:K28) -> 4 | L8: =SUM(L9:L28) -> 3 | M8: =SUM(M9:M28) -> 3 | N8: =SUM(N9:N28) -> 1 | ... AK8: =SUM(AK9:AK28) -> 0
B9: 1 priemonė | C9: ='VPS1'!C10 -> MARI | D9: ='VPS1'!D10 -> Bendruomeniškumo skatinimas | E9: ='VPS1'!I10 -> LEADER-20VVG-09 | F9: ='VPS1'!J10 -> MARI-LEADER-20VVG-09-01 | G9: =SUM(H9:AK9) -> 6 | I9: 3 | M9: 3
B10: 2 priemonė | C10: ='VPS1'!C11 -> MARI | D10: ='VPS1'!D11 -> Ne žemės ūkio verslo kūrimas ir plėtra | E10: ='VPS1'!I11 -> LEADER-20VVG-03 | F10: ='VPS1'!J11 -> MARI-LEADER-20VVG-03-02 | G10: =SUM(H10:AK10) -> 7 | H10: 1 | J10: 1 | K10: 4 | N10: 1
B11: 3 priemonė | C11: ='VPS1'!C12 -> MARI | D11: ='VPS1'!D12 -> Bendruomeninio verslo kūrimas ir plėtra | E11: ='VPS1'!I12 -> LEADER-20VVG-07 | F11: ='VPS1'!J12 -> MARI-LEADER-20VVG-07-03 | G11: =SUM(H11:AK11) -> 0
B12: 4 priemonė | C12: ='VPS1'!C13 -> MARI | D12: ='VPS1'!D13 -> Socialinio verslo kūrimas ir plėtra | E12: ='VPS1'!I13 -> LEADER-20VVG-06 | F12: ='VPS1'!J13 -> MARI-LEADER-20VVG-06-04 | G12: =SUM(H12:AK12) -> 3 | L12: 3
B13: 5 priemonė | C13: ='VPS1'!C14 -> 0 | D13: ='VPS1'!D14 -> 0 | E13: ='VPS1'!I14 -> 0 | F13: ='VPS1'!J14 -> 0 | G13: =SUM(H13:AK13) -> 0
B14: 6 priemonė | C14: ='VPS1'!C15 -> 0 | D14: ='VPS1'!D15 -> 0 | E14: ='VPS1'!I15 -> 0 | F14: ='VPS1'!J15 -> 0 | G14: =SUM(H14:AK14) -> 0
B15: 7 priemonė | C15: ='VPS1'!C16 -> 0 | D15: ='VPS1'!D16 -> 0 | E15: ='VPS1'!I16 -> 0 | F15: ='VPS1'!J16 -> 0 | G15: =SUM(H15:AK15) -> 0
B16: 8 priemonė | C16: ='VPS1'!C17 -> 0 | D16: ='VPS1'!D17 -> 0 | E16: ='VPS1'!I17 -> 0 | F16: ='VPS1'!J17 -> 0 | G16: =SUM(H16:AK16) -> 0
B17: 9 priemonė | C17: ='VPS1'!C18 -> 0 | D17: ='VPS1'!D18 -> 0 | E17: ='VPS1'!I18 -> 0 | F17: ='VPS1'!J18 -> 0 | G17: =SUM(H17:AK17) -> 0
B18: 10 priemonė | C18: ='VPS1'!C19 -> 0 | D18: ='VPS1'!D19 -> 0 | E18: ='VPS1'!I19 -> 0 | F18: ='VPS1'!J19 -> 0 | G18: =SUM(H18:AK18) -> 0
B19: 11 priemonė | C19: ='VPS1'!C20 -> 0 | D19: ='VPS1'!D20 -> 0 | E19: ='VPS1'!I20 -> 0 | F19: ='VPS1'!J20 -> 0 | G19: =SUM(H19:AK19) -> 0
B20: 12 priemonė | C20: ='VPS1'!C21 -> 0 | D20: ='VPS1'!D21 -> 0 | E20: ='VPS1'!I21 -> 0 | F20: ='VPS1'!J21 -> 0 | G20: =SUM(H20:AK20) -> 0
B21: 13 priemonė | C21: ='VPS1'!C22 -> 0 | D21: ='VPS1'!D22 -> 0 | E21: ='VPS1'!I22 -> 0 | F21: ='VPS1'!J22 -> 0 | G21: =SUM(H21:AK21) -> 0
B22: 14 priemonė | C22: ='VPS1'!C23 -> 0 | D22: ='VPS1'!D23 -> 0 | E22: ='VPS1'!I23 -> 0 | F22: ='VPS1'!J23 -> 0 | G22: =SUM(H22:AK22) -> 0
B23: 15 priemonė | C23: ='VPS1'!C24 -> 0 | D23: ='VPS1'!D24 -> 0 | E23: ='VPS1'!I24 -> 0 | F23: ='VPS1'!J24 -> 0 | G23: =SUM(H23:AK23) -> 0
B24: 16 priemonė | C24: ='VPS1'!C25 -> 0 | D24: ='VPS1'!D25 -> 0 | E24: ='VPS1'!I25 -> 0 | F24: ='VPS1'!J25 -> 0 | G24: =SUM(H24:AK24) -> 0
... B28: 20 priemonė | C28: ='VPS1'!C29 -> 0 | D28: ='VPS1'!D29 -> 0 | E28: ='VPS1'!I29 -> 0 | F28: ='VPS1'!J29 -> 0 | G28: =SUM(H28:AK28) -> 0

Sheet D4
B1: Duomenys: Informacija apie gautų paraiškų vertę VPS priemonių lygiu
A3: NMA vaidmuo: | B3: Patikrina VVG pateiktus lentelės duomenis.
A4: VVG vaidmuo: | B4: Užpildo lentelę nuo I stulpelio.
I5: Gautų paraiškų vertė (prašoma paramos suma), Eur
B6: VPS priemonės numeris | C6: VVG kodas | D6: VPS priemonė | E6: Priemonės kodas (unikalus) | F6: Planuojama paramos suma priemonei, Eur | G6: Bendra gautų paraiškų vertė, Eur | H6: Gautų paraiškų vertė, proc. nuo vietos projektams numatytų lėšų (nuo VPS įgyvendinimo pradžios) | I6: KV01 | J6: KV02 | K6: KV03 | L6: KV04 | M6: KV05 | N6: KV06 | O6: KV07 | P6: KV08 | Q6: KV09 | R6: KV10 | S6: KV11 | T6: KV12 | U6: KV13 | V6: KV14 | W6: KV15 | X6: KV16 | Y6: KV17 | Z6: KV18 | AA6: KV19 | AB6: KV20 | AC6: KV21 | AD6: KV22 | AE6: KV23 | AF6: KV24 | AG6: KV25 | AH6: KV26 | AI6: KV27 | AJ6: KV28 | AK6: KV29 | AL6: KV30
B7: Užsipildo automatiškai pagal lapą VPS1 | C7: Užsipildo automatiškai pagal lapą VPS1 | D7: Užsipildo automatiškai pagal lapą VPS1 | E7: Užsipildo automatiškai pagal lapą VPS1 | F7: Užsipildo automatiškai pagal lapą VPS1 | G7: Užsipildo automatiškai (formulė) | H7: Užsipildo automatiškai (formulė) | I7: Pildo VVG. Suma nurodoma tame langelyje, kuriame susikerta aktualus kvietimo numeris ir VPS priemonė. Kaip įvesti sumas žr. 4 eilutę lape "Instrukcija". Jei kvietimų daugiau nei 30, įterpti daugiau stulpelių.
B8: Iš viso | F8: =SUM(F9:F28) -> 1261564.8 | G8: =SUM(G9:G28) -> 749827.47 | H8: =IF(G8>0,G8/F8,0) -> 0.59436302 | I8: =SUM(I9:I28) -> 58498.46 | J8: =SUM(J9:J28) -> 75464.51 | K8: =SUM(K9:K28) -> 64998.83 | L8: =SUM(L9:L28) -> 216177.85 | M8: =SUM(M9:M28) -> 194985.76 | N8: =SUM(N9:N28) -> 75427.02 | O8: =SUM(O9:O28) -> 64275.04 | P8: =SUM(P9:P28) -> 0 | ... AL8: =SUM(AL9:AL28) -> 0
B9: 1 priemonė | C9: ='VPS1'!C10 -> MARI | D9: ='VPS1'!D10 -> Bendruomeniškumo skatinimas | E9: ='VPS1'!J10 -> MARI-LEADER-20VVG-09-01 | F9: ='VPS1'!G10 -> 251564.8 | G9: =SUM(I9:AL9) -> 150891.53 | H9: =IF(G9>0,G9/F9,0) -> 0.59981178 | J9: 75464.51 | N9: 75427.02
B10: 2 priemonė | C10: ='VPS1'!C11 -> MARI | D10: ='VPS1'!D11 -> Ne žemės ūkio verslo kūrimas ir plėtra | E10: ='VPS1'!J11 -> MARI-LEADER-20VVG-03-02 | F10: ='VPS1'!G11 -> 650000 | G10: =SUM(I10:AL10) -> 403950.18 | H10: =IF(G10>0,G10/F10,0) -> 0.62146182 | I10: 58498.46 | K10: 64998.83 | L10: 216177.85 | O10: 64275.04
B11: 3 priemonė | C11: ='VPS1'!C12 -> MARI | D11: ='VPS1'!D12 -> Bendruomeninio verslo kūrimas ir plėtra | E11: ='VPS1'!J12 -> MARI-LEADER-20VVG-07-03 | F11: ='VPS1'!G12 -> 100000 | G11: =SUM(I11:AL11) -> 0 | H11: =IF(G11>0,G11/F11,0) -> 0
B12: 4 priemonė | C12: ='VPS1'!C13 -> MARI | D12: ='VPS1'!D13 -> Socialinio verslo kūrimas ir plėtra | E12: ='VPS1'!J13 -> MARI-LEADER-20VVG-06-04 | F12: ='VPS1'!G13 -> 260000 | G12: =SUM(I12:AL12) -> 194985.76 | H12: =IF(G12>0,G12/F12,0) -> 0.74994523 | M12: 194985.76
B13: 5 priemonė | C13: ='VPS1'!C14 -> 0 | D13: ='VPS1'!D14 -> 0 | E13: ='VPS1'!J14 -> 0 | F13: ='VPS1'!G14 -> 0 | G13: =SUM(I13:AL13) -> 0 | H13: =IF(G13>0,G13/F13,0) -> 0
B14: 6 priemonė | C14: ='VPS1'!C15 -> 0 | D14: ='VPS1'!D15 -> 0 | E14: ='VPS1'!J15 -> 0 | F14: ='VPS1'!G15 -> 0 | G14: =SUM(I14:AL14) -> 0 | H14: =IF(G14>0,G14/F14,0) -> 0
B15: 7 priemonė | C15: ='VPS1'!C16 -> 0 | D15: ='VPS1'!D16 -> 0 | E15: ='VPS1'!J16 -> 0 | F15: ='VPS1'!G16 -> 0 | G15: =SUM(I15:AL15) -> 0 | H15: =IF(G15>0,G15/F15,0) -> 0
B16: 8 priemonė | C16: ='VPS1'!C17 -> 0 | D16: ='VPS1'!D17 -> 0 | E16: ='VPS1'!J17 -> 0 | F16: ='VPS1'!G17 -> 0 | G16: =SUM(I16:AL16) -> 0 | H16: =IF(G16>0,G16/F16,0) -> 0
B17: 9 priemonė | C17: ='VPS1'!C18 -> 0 | D17: ='VPS1'!D18 -> 0 | E17: ='VPS1'!J18 -> 0 | F17: ='VPS1'!G18 -> 0 | G17: =SUM(I17:AL17) -> 0 | H17: =IF(G17>0,G17/F17,0) -> 0
B18: 10 priemonė | C18: ='VPS1'!C19 -> 0 | D18: ='VPS1'!D19 -> 0 | E18: ='VPS1'!J19 -> 0 | F18: ='VPS1'!G19 -> 0 | G18: =SUM(I18:AL18) -> 0 | H18: =IF(G18>0,G18/F18,0) -> 0
B19: 11 priemonė | C19: ='VPS1'!C20 -> 0 | D19: ='VPS1'!D20 -> 0 | E19: ='VPS1'!J20 -> 0 | F19: ='VPS1'!G20 -> 0 | G19: =SUM(I19:AL19) -> 0 | H19: =IF(G19>0,G19/F19,0) -> 0
B20: 12 priemonė | C20: ='VPS1'!C21 -> 0 | D20: ='VPS1'!D21 -> 0 | E20: ='VPS1'!J21 -> 0 | F20: ='VPS1'!G21 -> 0 | G20: =SUM(I20:AL20) -> 0 | H20: =IF(G20>0,G20/F20,0) -> 0
B21: 13 priemonė | C21: ='VPS1'!C22 -> 0 | D21: ='VPS1'!D22 -> 0 | E21: ='VPS1'!J22 -> 0 | F21: ='VPS1'!G22 -> 0 | G21: =SUM(I21:AL21) -> 0 | H21: =IF(G21>0,G21/F21,0) -> 0
B22: 14 priemonė | C22: ='VPS1'!C23 -> 0 | D22: ='VPS1'!D23 -> 0 | E22: ='VPS1'!J23 -> 0 | F22: ='VPS1'!G23 -> 0 | G22: =SUM(I22:AL22) -> 0 | H22: =IF(G22>0,G22/F22,0) -> 0
B23: 15 priemonė | C23: ='VPS1'!C24 -> 0 | D23: ='VPS1'!D24 -> 0 | E23: ='VPS1'!J24 -> 0 | F23: ='VPS1'!G24 -> 0 | G23: =SUM(I23:AL23) -> 0 | H23: =IF(G23>0,G23/F23,0) -> 0
B24: 16 priemonė | C24: ='VPS1'!C25 -> 0 | D24: ='VPS1'!D25 -> 0 | E24: ='VPS1'!J25 -> 0 | F24: ='VPS1'!G25 -> 0 | G24: =SUM(I24:AL24) -> 0 | H24: =IF(G24>0,G24/F24,0) -> 0
... B28: 20 priemonė | C28: ='VPS1'!C29 -> 0 | D28: ='VPS1'!D29 -> 0 | E28: ='VPS1'!J29 -> 0 | F28: ='VPS1'!G29 -> 0 | G28: =SUM(I28:AL28) -> 0 | H28: =IF(G28>0,G28/F28,0) -> 0

Sheet D5
B1: Duomenys: Informacija apie paraiškų vertinimo rezultatus (NMA PAK)
A3: NMA vaidmuo: | B3: Užpildo lentelę pagal pagal pateiktą instrukciją.
A4: VVG vaidmuo: | B4: Patikrina lentelės duomenis.
R5: VP pobūdis | AM5: Rodikliai
B6: VVG ir priemonės kodas (Priemonės kodas (unikalus)) | C6: VVG kodas (4 raidės) | D6: VVG pavadinimas (pilnas) | E6: VPS priemonės kodas (unikalus) | F6: Paraiškos gavimo data | G6: Pareiškėjo pavadinimas / Vardas, pavardė | H6: Pareiškėjo registracijos kodas (pagal VĮ Registrų centro Juridinių asmenų registro duomenis) / asmens kodas ir ūkio registracijos Nr. | I6: Paraiškos atpažinties (registracijos) kodas (suteiktas VVG) | J6: Paraiškos atpažinties (registracijos) kodas (suteiktas NMA) | K6: Vietos projekto pavadinimas | L6: Prašoma paramos suma vietos projektui įgyvendinti, Eur | M6: Finansavimo šaltinis | N6: Pareiškėjo tipas (juridinis ar fizinis) | O6: Pareiškėjo tipas (detaliau) | P6: Jei pareiškėjas fizinis asmuo, ar vyras? | Q6: Jei pareiškėjas fizinis asmuo, ar jaunas (iki 40 m.)? | R6: Ar vietos projektas skirtas jaunimui? | S6: Ar pagrįsta vietos projekte VPS tema? | T6: Ar vietos projektas kuria inovacijas? | U6: Ar vietos projektas susijęs su L801? | V6: Ar vietos projektas susijęs su L802? | W6: Ar vietos projektas susijęs su L803? | X6: Ar vietos projektas susijęs su L804? | Y6: Ar vietos projektas susijęs su L805? | Z6: Ar vietos projektas susijęs su L806? | AA6: Arvietos projektas susijęs su L807? | AB6: Ar vietos projektas susijęs su L808? | AC6: Ar vietos projektas susijęs su L809? | AD6: Paraiškos etapas | AE6: Pridėtinės vertės (kokybės) vertinimas, balai | AF6: Vietos projekto atrankos data (po VVG PAK) | AG6: Patvirtinta paramos suma vietos projektui įgyvendinti, Eur (po NMA PAK) | AH6: Paraiškos patvirtinimo data (po NMA PAK) | AI6: Vietos projekto sutarties data | AJ6: Projekto pabaigos (galutinio MP) data (jei data yra, projektas baigtas) | AK6: 1 MP apmokėjimo data | AL6: Galutinio MP apmokėjimo data | AM6: PLANUOJAMA: R3 (ūkių skaičius) | AN6: PLANUOJAMA: R3 (apmokytų ūkininkų skaičius) | AO6: PLANUOJAMA: R.37 | AP6: PLANUOJAMA: R.39 (verslo pradžia) | AQ6: PLANUOJAMA: R.39 (verslo plėtra) | AR6: PLANUOJAMA: R.41 | AS6: PLANUOJAMA: R.42 | AT6: PLANUOJAMA: P.1 | AU6: PLANUOJAMA: P.2 | AV6: PLANUOJAMA: P.3 | AW6: PASIEKTA: R.3 (ūkių skaičius) | AX6: PASIEKTA: R.3 (apmokytų ūkininkų skaičius) | AY6: PASIEKTA: R.37 | AZ6: PASIEKTA: R.39 (verslo pradžia) | BA6: PASIEKTA: R.39 (verslo plėtra) | BB6: PASIEKTA: R.41 | BC6: PASIEKTA: R.42 | BD6: PASIEKTA: P.1 | BE6: PASIEKTA: P.2 | BF6: PASIEKTA: P.3 | BG6: Paraiškos gavimo metai | BH6: Paraiškos atrankos metai | BI6: Paraiškos patvirtinimo metai | BJ6: Vietos projekto sutarties metai | BK6: Projekto pabaigos metai | BL6: Apmokėto 1MP metai | BM6: Apmokėto galutinio MP metai | BN6: Ar paraiška atrinka | BO6: Ar paraiška patvirtinta? | BP6: Ar sudaryta sutartis? | BQ6: Ar apmokėtas 1 MP? | BR6: Ar apmokėtas galutinis MP? | BS6: Ar projektas baigtas?
B7: Jei #N/A - neteisingas priemonės kodas (tikslinti E stulpelį) | C7: Užsipildo automatiškai iš paraiškos kodo | D7: Pildo NMA | E7: Pildo NMA. Reikšmės turi sutapti su nurodytomis lapo VPS1 J stulpelyje. | F7: Pildo NMA. Nurodoma paraiškos gavimo/ užregistravimo data pagal schemą MMM-MM-DD, pavyzdžiui, 2024-10-01 | G7: Pildo NMA | H7: Pildo NMA | I7: Pildo NMA | J7: Pildo NMA | K7: Pildo NMA | L7: Pildo NMA | M7: Pildo NMA. Lauko reikšmė įvedama arba pasirenkama iš sąrašo (galimos reikšmės: EŽŪFKP) | N7: Pildo NMA. Lauko reikšmė įvedama arba pasirenkama iš sąrašo (galimos reikšmės: juridinis asmuo arba fizinis asmuo) | O7: Pildo NMA. Lauko reikšmė įvedama arba pasirenkama iš sąrašo. Galimų reikšmių sąrašas pateiktas lape "Instrukcija". | P7: Pildo NMA pagal pareiškėjo kodą arba pavadinimą. Lauko reikšmės: taip arba ne. | Q7: Pildo NMA pagal pareiškėjo kodą. Lauko reikšmės: taip arba ne. | R7: Pildo NMA pagal pareiškėjo kodą. Lauko reikšmės: taip, ne. | S7: Pildo NMA pagal pareiškėjo kodą. Lauko reikšmės: taip, ne. | T7: Pildo NMA pagal pareiškėjo kodą. Lauko reikšmės: taip, ne. | U7: Pildo NMA pagal pareiškėjo kodą. Lauko reikšmės: taip, ne. | V7: Pildo NMA pagal pareiškėjo kodą. Lauko reikšmės: taip, ne. | W7: Pildo NMA pagal pareiškėjo kodą. Lauko reikšmės: taip, ne. | X7: Pildo NMA pagal pareiškėjo kodą. Lauko reikšmės: taip, ne. | Y7: Pildo NMA pagal pareiškėjo kodą. Lauko reikšmės: taip, ne. | Z7: Pildo NMA pagal pareiškėjo kodą. Lauko reikšmės: taip, ne. | AA7: Pildo NMA pagal pareiškėjo kodą. Lauko reikšmės: taip, ne. | AB7: Pildo NMA pagal pareiškėjo kodą. Lauko reikšmės: taip, ne. | AC7: Pildo NMA pagal pareiškėjo kodą. Lauko reikšmės: taip, ne. | AD7: Pildo NMA. Įtraukiamos tik paraiškos, kurių etapas - "Sutarties rengimas" ir "Paramos administravimas" | AE7: Pildo NMA. Pateikiama informacija iš VVG PAK protokolo. | AF7: Pildo NMA. Nurodoma NMA direktoriaus įsakymo data pagal schemą MMM-MM-DD, pavyzdžiui, 2024-10-01 | AG7: Pildo NMA. Pateikiama informacija iš NMA PAK protokolo. | AH7: Pildo NMA. Nurodoma NMA direktoriaus įsakymo data pagal schemą MMM-MM-DD, pavyzdžiui, 2024-10-01 | AI7: Pildo NMA. Nurodoma sutarties data pagal schemą MMM-MM-DD, pavyzdžiui, 2024-10-01 | AJ7: Pildo NMA. Nurodoma galutinio MP gavimo data pagal schemą MMM-MM-DD, pavyzdžiui, 2024-10-01 | AK7: Pildo NMA. Pasirenkami iš sąrašo 1 MP apmokėjimo metai, pvz 2024. Nurodomi finansiniai metai, t. y. jei apmokėjimas atliktas pvz. iki 2024-10-15, nurodomi 2024 m, jei apmokėtas pvz.. 2024-10-20, nurodomi 2025 m. | AL7: Pildo NMA. Pasirenkami iš sąrašo galutinio MP pmokėjimo metai, pvz 2024. Nurodomi finansiniai metai, t. y. jei apmokėjimas atliktas pvz. iki 2024-10-15, nurodomi 2024 m, jei apmokėtas pvz.. 2024-10-20, nurodomi 2025 m. | AM7: Pildo NMA (iš paraiškų/ sutarčių) - pildoma visiems patvirtintiems projektams. | AN7: Pildo NMA (iš paraiškų/ sutarčių) - pildoma visiems patvirtintiems projektams. | AO7: Pildo NMA (iš paraiškų/ sutarčių) - pildoma visiems patvirtintiems projektams. | AP7: Pildo NMA (iš paraiškų/ sutarčių) - pildoma visiems patvirtintiems projektams. | AQ7: Pildo NMA (iš paraiškų/ sutarčių) - pildoma visiems patvirtintiems projektams. | AR7: Pildo NMA (iš paraiškų/ sutarčių) - pildoma visiems patvirtintiems projektams. | AS7: Pildo NMA (iš paraiškų/ sutarčių) - pildoma visiems patvirtintiems projektams. | AT7: Pildo NMA (iš paraiškų/ sutarčių) - pildoma visiems patvirtintiems projektams. | AU7: Pildo NMA (iš paraiškų/ sutarčių) - pildoma visiems patvirtintiems projektams. | AV7: Pildo NMA (iš paraiškų/ sutarčių) - pildoma visiems patvirtintiems projektams. | AW7: Pildo NMA (pildoma kai apmokamas 1 MP. Pastaba, jei apmokėjimas atliktas pvz. iki 2024-10-15, rodiklio pasiekimas užskaitomas 2024 m, jei vėliau, keliamas į 2025 m | AX7: Pildo NMA (pildoma kai apmokamas 1 MP. Pastaba, jei apmokėjimas atliktas pvz. iki 2024-10-15, rodiklio pasiekimas užskaitomas 2024 m, jei vėliau, keliamas į 2025 m | AY7: Pildo NMA (pildoma kai apmokamas galutinis MP. Pastaba, jei apmokėjimas atliktas pvz. iki 2024-10-15, rodiklio pasiekimas užskaitomas 2024 m, jei vėliau, keliamas į 2025 m | AZ7: Pildo NMA (pildoma kai apmokamas 1 MP. Pastaba, jei apmokėjimas atliktas pvz. iki 2024-10-15, rodiklio pasiekimas užskaitomas 2024 m, jei vėliau, keliamas į 2025 m | BA7: Pildo NMA (pildoma kai apmokamas 1 MP. Pastaba, jei apmokėjimas atliktas pvz. iki 2024-10-15, rodiklio pasiekimas užskaitomas 2024 m, jei vėliau, keliamas į 2025 m | BB7: Pildo NMA (pildoma kai apmokamas 1 MP. Pastaba, jei apmokėjimas atliktas pvz. iki 2024-10-15, rodiklio pasiekimas užskaitomas 2024 m, jei vėliau, keliamas į 2025 m | BC7: Pildo NMA (pildoma kai apmokamas 1 MP. Pastaba, jei apmokėjimas atliktas pvz. iki 2024-10-15, rodiklio pasiekimas užskaitomas 2024 m, jei vėliau, keliamas į 2025 m | BD7: Pildo NMA (pildoma kai apmokamas 1 MP. Pastaba, jei apmokėjimas atliktas pvz. iki 2024-10-15, rodiklio pasiekimas užskaitomas 2024 m, jei vėliau, keliamas į 2025 m | BE7: Pildo NMA (pildoma kai apmokamas 1 MP. Pastaba, jei apmokėjimas atliktas pvz. iki 2024-10-15, rodiklio pasiekimas užskaitomas 2024 m, jei vėliau, keliamas į 2025 m | BF7: Pildo NMA (pildoma kai apmokamas 1 MP. Pastaba, jei apmokėjimas atliktas pvz. iki 2024-10-15, rodiklio pasiekimas užskaitomas 2024 m, jei vėliau, keliamas į 2025 m | BG7: Užsipildo automatiškai pagal F stulpelį | BH7: Užsipildo automatiškai pagal AF stulpelį | BI7: Užsipildo automatiškai pagal AH stulpelį | BJ7: Užsipildo automatiškai pagal AI stulpelį | BK7: Užsipildo automatiškai pagal AJ stilpelį | BL7: Užsipildo automatiškai pagal AK stilpelį | BM7: Užsipildo automatiškai pagal AL stilpelį | BN7: Užsipildo automatiškai | BO7: Užsipildo automatiškai | BP7: Užsipildo automatiškai | BQ7: Užsipildo automatiškai | BR7: Užsipildo automatiškai | BS7: Užsipildo automatiškai
B8: 1 | C8: 2 | D8: 3 | E8: 4 | F8: 5 | G8: 6 | H8: 7 | I8: 8 | J8: 9 | K8: 10 | L8: 11 | M8: 12 | N8: 13 | O8: 14 | P8: 15 | Q8: 16 | R8: 17 | S8: 18 | T8: 19 | U8: 20 | V8: 21 | W8: 22 | X8: 23 | Y8: 24 | Z8: 25 | AA8: 26 | AB8: 27 | AC8: 28 | AD8: 29 | AE8: 30 | AF8: 31 | AG8: 32 | AH8: 33 | AI8: 34 | AJ8: 35 | AK8: 36 | AL8: 37 | AM8: 38 | AN8: 39 | AO8: 40 | AP8: 41 | AQ8: 42 | AR8: 43 | AS8: 44 | AT8: 45 | AU8: 46 | AV8: 47 | AW8: 48 | AX8: 49 | AY8: 50 | AZ8: 51 | BA8: 52 | BB8: 53 | BC8: 54 | BD8: 55 | BE8: 56 | BF8: 57 | BG8: 58 | BH8: 59 | BI8: 60 | BJ8: 61 | BK8: 62 | BL8: 63 | BM8: 64 | BN8: 65 | BO8: 66 | BP8: 67 | BQ8: 68 | BR8: 69 | BS8: 70
A9: Kas pildo | B9: automatiškai | C9: automatiškai | D9: NMA | E9: NMA | F9: NMA | G9: NMA | H9: NMA | I9: NMA | J9: NMA | K9: NMA | L9: NMA | M9: NMA | N9: NMA | O9: NMA | P9: NMA | Q9: NMA | R9: NMA | S9: NMA | T9: NMA | U9: NMA | V9: NMA | W9: NMA | X9: NMA | Y9: NMA | Z9: NMA | AA9: NMA | AB9: NMA | AC9: NMA | AD9: NMA | AE9: NMA | AF9: NMA | AG9: NMA | AH9: NMA | AI9: NMA | AJ9: NMA | AK9: NMA | AL9: NMA | AM9: NMA | AN9: NMA | AO9: NMA | AP9: NMA | AQ9: NMA | AR9: NMA | AS9: NMA | AT9: NMA | AU9: NMA | AV9: NMA | AW9: NMA | AX9: NMA | AY9: NMA | AZ9: NMA | BA9: NMA | BB9: NMA | BC9: NMA | BD9: NMA | BE9: NMA | BF9: NMA | BG9: automatiškai | BH9: automatiškai | BI9: automatiškai | BJ9: automatiškai | BK9: automatiškai | BL9: automatiškai | BM9: automatiškai | BN9: automatiškai | BO9: automatiškai | BP9: automatiškai | BQ9: automatiškai | BR9: automatiškai | BS9: automatiškai
A10: Iš kur duomenys | B10: formulė | C10: formulė | D10: iš sistemos | E10: iš sistemos | F10: iš sistemos | G10: iš sistemos | H10: iš sistemos | I10: iš sistemos | J10: iš sistemos | K10: iš sistemos | L10: iš sistemos | M10: iš sistemos | N10: iš sistemos | O10: ranka | P10: ranka | Q10: ranka | R10: iš sistemos | S10: iš sistemos | T10: iš sistemos | U10: iš sistemos | V10: iš sistemos | W10: iš sistemos | X10: iš sistemos | Y10: iš sistemos | Z10: iš sistemos | AA10: iš sistemos | AB10: iš sistemos | AC10: iš sistemos | AD10: iš sistemos | AE10: iš sistemos | AF10: iš sistemos | AG10: iš sistemos | AH10: iš sistemos | AI10: iš sistemos | AJ10: iš sistemos | AK10: ranka | AL10: ranka | AM10: iš sistemos | AN10: iš sistemos | AO10: iš sistemos | AP10: iš sistemos | AQ10: iš sistemos | AR10: iš sistemos | AS10: iš sistemos | AT10: iš sistemos | AU10: iš sistemos | AV10: iš sistemos | AW10: iš sistemos | AX10: iš sistemos | AY10: iš sistemos | AZ10: iš sistemos | BA10: iš sistemos | BB10: iš sistemos | BC10: iš sistemos | BD10: iš sistemos | BE10: iš sistemos | BF10: iš sistemos | BG10: formulė | BH10: formulė | BI10: formulė | BJ10: formulė | BK10: formulė | BL10: formulė | BM10: formulė | BN10: formulė | BO10: formulė | BP10: formulė | BQ10: formulė | BR10: formulė | BS10: formulė
B11: =VLOOKUP(E11,'VPS1'!$J$10:$J$29,1,FALSE) -> MARI-LEADER-20VVG-09-01 | C11: =LEFT(E11,4) -> MARI | D11: MARIJAMPOLĖS VIETOS VEIKLOS GRUPĖ, A | E11: MARI-LEADER-20VVG-09-01 | F11: 45596 | G11: ŽELSVOS KAIMO BENDRUOMENĖ, A | H11: 300068239 | I11: MARI-LEADER-09-2-1 | J11: 20VS-PV-24-2-07750-PR001 | K11: Būkim kartu | L11: 25153.42 | M11: EŽŪFKP | N11: Juridinis asmuo | O11: NVO | S11: taip | AC11: taip | AD11: Paramos administravimas | AE11: 95 | AF11: 45622 | AG11: 25153 | AH11: 45737 | AI11: 45737 | AJ11: 45896 | AK11: 2025 | AL11: 2025 | AS11: 81 | BC11: 169 | BG11: =IF($F11>0,YEAR($F11),) -> 2024 | BH11: =IF($AF11>0,YEAR($AF11),) -> 2024 | BI11: =IF($AH11>0,YEAR($AH11),) -> 2025 | BJ11: =IF($AI11>0,YEAR($AI11),) -> 2025 | BK11: =IF($AJ11>0,YEAR($AJ11),) -> 2025 | BL11: =IF($AK11>0,$AK11,) -> 2025 | BM11: =IF($AL11>0,$AL11,) -> 2025 | BN11: =IF(BH11>0,"taip","ne") -> taip | BO11: =IF(BI11>0,"taip","ne") -> taip | BP11: =IF(BJ11>0,"taip","ne") -> taip | BQ11: =IF(BL11>0,"taip","ne") -> taip | BR11: =IF(BM11>0,"taip","ne") -> taip | BS11: =IF(BK11>0,"taip","ne") -> taip
B12: =VLOOKUP(E12,'VPS1'!$J$10:$J$29,1,FALSE) -> MARI-LEADER-20VVG-09-01 | C12: =LEFT(E12,4) -> MARI | D12: MARIJAMPOLĖS VIETOS VEIKLOS GRUPĖ, A | E12: MARI-LEADER-20VVG-09-01 | F12: 45596 | G12: DAUKŠIŲ MIESTELIO BENDRUOMENĖ, A | H12: 300085669 | I12: MARI-LEADER-09-2-2 | J12: 20VS-PV-24-2-07751-PR001 | K12: Bendrystės, kultūrinio bendradarbiavimo ir pažinimo keliu | L12: 25155.9 | M12: EŽŪFKP | N12: Juridinis asmuo | O12: NVO | S12: taip | X12: taip | AC12: taip | AD12: Paramos administravimas | AE12: 95 | AF12: 45622 | AG12: 22859 | AH12: 45715 | AI12: 45715 | AK12: 2025 | AS12: 90 | BG12: =IF($F12>0,YEAR($F12),) -> 2024 | BH12: =IF($AF12>0,YEAR($AF12),) -> 2024 | BI12: =IF($AH12>0,YEAR($AH12),) -> 2025 | BJ12: =IF($AI12>0,YEAR($AI12),) -> 2025 | BK12: =IF($AJ12>0,YEAR($AJ12),) -> 0 | BL12: =IF($AK12>0,$AK12,) -> 2025 | BM12: =IF($AL12>0,$AL12,) -> 0 | BN12: =IF(BH12>0,"taip","ne") -> taip | BO12: =IF(BI12>0,"taip","ne") -> taip | BP12: =IF(BJ12>0,"taip","ne") -> taip | BQ12: =IF(BL12>0,"taip","ne") -> taip | BR12: =IF(BM12>0,"taip","ne") -> ne | BS12: =IF(BK12>0,"taip","ne") -> ne
B13: =VLOOKUP(E13,'VPS1'!$J$10:$J$29,1,FALSE) -> MARI-LEADER-20VVG-09-01 | C13: =LEFT(E13,4) -> MARI | D13: MARIJAMPOLĖS VIETOS VEIKLOS GRUPĖ, A | E13: MARI-LEADER-20VVG-09-01 | F13: 45596 | G13: BARAGINĖS KAIMO BENDRUOMENĖ, A | H13: 300628734 | I13: MARI-LEADER-09-2-3 | J13: 20VS-PV-24-2-07749-PR001 | K13: Bendruomeniškumo ir lėtojo turizmo skatinimas Baraginės, Marijampolės savivaldybės Varnupių ir Valavičių kaimo bendruomenėse | L13: 25155.19 | M13: EŽŪFKP | N13: Juridinis asmuo | O13: NVO | S13: taip | X13: taip | AC13: taip | AD13: Paramos administravimas | AE13: 95 | AF13: 45622 | AG13: 25155 | AH13: 45688 | AI13: 45688 | AJ13: 45908 | AK13: 2025 | AL13: 2025 | AS13: 81 | BC13: 128 | BG13: =IF($F13>0,YEAR($F13),) -> 2024 | BH13: =IF($AF13>0,YEAR($AF13),) -> 2024 | BI13: =IF($AH13>0,YEAR($AH13),) -> 2025 | BJ13: =IF($AI13>0,YEAR($AI13),) -> 2025 | BK13: =IF($AJ13>0,YEAR($AJ13),) -> 2025 | BL13: =IF($AK13>0,$AK13,) -> 2025 | BM13: =IF($AL13>0,$AL13,) -> 2025 | BN13: =IF(BH13>0,"taip","ne") -> taip | BO13: =IF(BI13>0,"taip","ne") -> taip | BP13: =IF(BJ13>0,"taip","ne") -> taip | BQ13: =IF(BL13>0,"taip","ne") -> taip | BR13: =IF(BM13>0,"taip","ne") -> taip | BS13: =IF(BK13>0,"taip","ne") -> taip
B14: =VLOOKUP(E14,'VPS1'!$J$10:$J$29,1,FALSE) -> MARI-LEADER-20VVG-03-02 | C14: =LEFT(E14,4) -> MARI | D14: MARIJAMPOLĖS VIETOS VEIKLOS GRUPĖ, A | E14: MARI-LEADER-20VVG-03-02 | F14: 45596 | G14: MB DOVINĖS VINGIS, MB | H14: 306962961 | I14: MARI-LEADER-03-3-1 | J14: 20VS-PV-24-2-07748-PR001 | K14: MB "Dovinės vingis" verslo pradžia | L14: 64998.83 | M14: EŽŪFKP | N14: Juridinis asmuo | O14: MVĮ | S14: taip | X14: taip | Y14: taip | Z14: taip | AB14: taip | AD14: Paramos administravimas | AE14: 70 | AF14: 45622 | AG14: 64999 | AH14: 45695 | AO14: 1 | AP14: 1 | AR14: 106 | BG14: =IF($F14>0,YEAR($F14),) -> 2024 | BH14: =IF($AF14>0,YEAR($AF14),) -> 2024 | BI14: =IF($AH14>0,YEAR($AH14),) -> 2025 | BJ14: =IF($AI14>0,YEAR($AI14),) -> 0 | BK14: =IF($AJ14>0,YEAR($AJ14),) -> 0 | BL14: =IF($AK14>0,$AK14,) -> 0 | BM14: =IF($AL14>0,$AL14,) -> 0 | BN14: =IF(BH14>0,"taip","ne") -> taip | BO14: =IF(BI14>0,"taip","ne") -> taip | BP14: =IF(BJ14>0,"taip","ne") -> ne | BQ14: =IF(BL14>0,"taip","ne") -> ne | BR14: =IF(BM14>0,"taip","ne") -> ne | BS14: =IF(BK14>0,"taip","ne") -> ne
B15: =VLOOKUP(E15,'VPS1'!$J$10:$J$29,1,FALSE) -> MARI-LEADER-20VVG-03-02 | C15: =LEFT(E15,4) -> MARI | D15: MARIJAMPOLĖS VIETOS VEIKLOS GRUPĖ, A | E15: MARI-LEADER-20VVG-03-02 | F15: 45807 | G15: MB VIENAS RENGINYS, MB | H15: 307130729 | I15: MARI-LEADER-03-4-4 | J15: 20VS-PV-25-2-02834-PR001 | K15: MB „Vienas renginys“ ekonominės veiklos kūrimas | L15: 74994.1 | M15: EŽŪFKP | N15: Juridinis asmuo | O15: MVĮ | S15: taip | W15: taip | X15: taip | Y15: taip | Z15: taip | AB15: taip | AD15: Sutarties rengimas | AE15: 100 | AF15: 45819 | AG15: 65000 | AH15: 45982 | AO15: 3 | AP15: 1 | AR15: 200 | BG15: =IF($F15>0,YEAR($F15),) -> 2025 | BH15: =IF($AF15>0,YEAR($AF15),) -> 2025 | BI15: =IF($AH15>0,YEAR($AH15),) -> 2025 | BJ15: =IF($AI15>0,YEAR($AI15),) -> 0 | BK15: =IF($AJ15>0,YEAR($AJ15),) -> 0 | BL15: =IF($AK15>0,$AK15,) -> 0 | BM15: =IF($AL15>0,$AL15,) -> 0 | BN15: =IF(BH15>0,"taip","ne") -> taip | BO15: =IF(BI15>0,"taip","ne") -> taip | BP15: =IF(BJ15>0,"taip","ne") -> ne | BQ15: =IF(BL15>0,"taip","ne") -> ne | BR15: =IF(BM15>0,"taip","ne") -> ne | BS15: =IF(BK15>0,"taip","ne") -> ne
B16: =VLOOKUP(E16,'VPS1'!$J$10:$J$29,1,FALSE) -> MARI-LEADER-20VVG-03-02 | C16: =LEFT(E16,4) -> MARI | D16: MARIJAMPOLĖS VIETOS VEIKLOS GRUPĖ, A | E16: MARI-LEADER-20VVG-03-02 | F16: 45807 | G16: MB "MODERNI TVORA", MB | H16: 305174431 | I16: MARI-LEADER-03-4-1 | J16: 20VS-PV-25-2-02885-PR001 | K16: MB "Moderni tvora"gamybos pajėgumų plėtra | L16: 13134.29 | M16: EŽŪFKP | N16: Juridinis asmuo | O16: MVĮ | S16: taip | X16: taip | Y16: taip | Z16: taip | AB16: taip | AD16: Paramos administravimas | AE16: 60 | AF16: 45819 | AG16: 13134 | AH16: 45932 | AI16: 45979 | AO16: 2 | AQ16: 1 | AR16: 156 | BG16: =IF($F16>0,YEAR($F16),) -> 2025 | BH16: =IF($AF16>0,YEAR($AF16),) -> 2025 | BI16: =IF($AH16>0,YEAR($AH16),) -> 2025 | BJ16: =IF($AI16>0,YEAR($AI16),) -> 2025 | BK16: =IF($AJ16>0,YEAR($AJ16),) -> 0 | BL16: =IF($AK16>0,$AK16,) -> 0 | BM16: =IF($AL16>0,$AL16,) -> 0 | BN16: =IF(BH16>0,"taip","ne") -> taip | BO16: =IF(BI16>0,"taip","ne") -> taip | BP16: =IF(BJ16>0,"taip","ne") -> taip | BQ16: =IF(BL16>0,"taip","ne") -> ne | BR16: =IF(BM16>0,"taip","ne") -> ne | BS16: =IF(BK16>0,"taip","ne") -> ne
B17: =VLOOKUP(E17,'VPS1'!$J$10:$J$29,1,FALSE) -> MARI-LEADER-20VVG-06-04 | C17: =LEFT(E17,4) -> MARI | D17: MARIJAMPOLĖS VIETOS VEIKLOS GRUPĖ, A | E17: MARI-LEADER-20VVG-06-04 | F17: 45898 | G17: MB Allmedica | H17: 307130519 | I17: MARI-LEADER-06-5-1 | J17: 20VS-PV-25-2-03685-PR001 | K17: Psichikos sveikatos centro įkūrimas | L17: 65000 | M17: EŽŪFKP | N17: Juridinis asmuo | O17: MVĮ | AD17: Vertinimas | AE17: 100 | AF17: 45919 | BG17: =IF($F17>0,YEAR($F17),) -> 2025 | BH17: =IF($AF17>0,YEAR($AF17),) -> 2025 | BI17: =IF($AH17>0,YEAR($AH17),) -> 0 | BJ17: =IF($AI17>0,YEAR($AI17),) -> 0 | BK17: =IF($AJ17>0,YEAR($AJ17),) -> 0 | BL17: =IF($AK17>0,$AK17,) -> 0 | BM17: =IF($AL17>0,$AL17,) -> 0 | BN17: =IF(BH17>0,"taip","ne") -> taip | BO17: =IF(BI17>0,"taip","ne") -> ne | BP17: =IF(BJ17>0,"taip","ne") -> ne | BQ17: =IF(BL17>0,"taip","ne") -> ne | BR17: =IF(BM17>0,"taip","ne") -> ne | BS17: =IF(BK17>0,"taip","ne") -> ne
B18: =VLOOKUP(E18,'VPS1'!$J$10:$J$29,1,FALSE) -> MARI-LEADER-20VVG-06-04 | C18: =LEFT(E18,4) -> MARI | D18: MARIJAMPOLĖS VIETOS VEIKLOS GRUPĖ, A | E18: MARI-LEADER-20VVG-06-04 | F18: 45900 | G18: VŠĮ "AUTO ŽALŲ VALDYMAS", VŠ | H18: 307402759 | I18: MARI-LEADER-06-5-3 | J18: 20VS-PV-25-2-03688-PR001 | K18: Auto žalų administravimo sklaida | L18: 64985.76 | M18: EŽŪFKP | N18: Juridinis asmuo | O18: MVĮ | AD18: Vertinimas | AE18: 60 | AF18: 45919 | BG18: =IF($F18>0,YEAR($F18),) -> 2025 | BH18: =IF($AF18>0,YEAR($AF18),) -> 2025 | BI18: =IF($AH18>0,YEAR($AH18),) -> 0 | BJ18: =IF($AI18>0,YEAR($AI18),) -> 0 | BK18: =IF($AJ18>0,YEAR($AJ18),) -> 0 | BL18: =IF($AK18>0,$AK18,) -> 0 | BM18: =IF($AL18>0,$AL18,) -> 0 | BN18: =IF(BH18>0,"taip","ne") -> taip | BO18: =IF(BI18>0,"taip","ne") -> ne | BP18: =IF(BJ18>0,"taip","ne") -> ne | BQ18: =IF(BL18>0,"taip","ne") -> ne | BR18: =IF(BM18>0,"taip","ne") -> ne | BS18: =IF(BK18>0,"taip","ne") -> ne
B19: =VLOOKUP(E19,'VPS1'!$J$10:$J$29,1,FALSE) -> MARI-LEADER-20VVG-03-02 | C19: =LEFT(E19,4) -> MARI | D19: MARIJAMPOLĖS VIETOS VEIKLOS GRUPĖ, A | E19: MARI-LEADER-20VVG-03-02 | F19: 45960 | G19: MB "OnTime LT" | H19: 306374627 | I19: MARI-LEADER-03-7-1 | J19: 20VS-PV-25-2-05382-PR001 | K19: MB "OnTime LT" verslo plėtra | L19: 64275.04 | M19: EŽŪFKP | N19: Juridinis asmuo | O19: MVĮ | AD19: Vertinimas | AE19: 100 | AF19: 45978 | BG19: =IF($F19>0,YEAR($F19),) -> 2025 | BH19: =IF($AF19>0,YEAR($AF19),) -> 2025 | BI19: =IF($AH19>0,YEAR($AH19),) -> 0 | BJ19: =IF($AI19>0,YEAR($AI19),) -> 0 | BK19: =IF($AJ19>0,YEAR($AJ19),) -> 0 | BL19: =IF($AK19>0,$AK19,) -> 0 | BM19: =IF($AL19>0,$AL19,) -> 0 | BN19: =IF(BH19>0,"taip","ne") -> taip | BO19: =IF(BI19>0,"taip","ne") -> ne | BP19: =IF(BJ19>0,"taip","ne") -> ne | BQ19: =IF(BL19>0,"taip","ne") -> ne | BR19: =IF(BM19>0,"taip","ne") -> ne | BS19: =IF(BK19>0,"taip","ne") -> ne
B20: =VLOOKUP(E20,'VPS1'!$J$10:$J$29,1,FALSE) -> MARI-LEADER-20VVG-09-01 | C20: =LEFT(E20,4) -> MARI | D20: MARIJAMPOLĖS VIETOS VEIKLOS GRUPĖ, A | E20: MARI-LEADER-20VVG-09-01 | F20: 45960 | G20: Sūduvos bendruomenė | H20: 302596324 | I20: MARI-LEADER-09-6-1 | J20: 20VS-PV-25-2-05383-PR001 | K20: "Bendruomeniškumo pamoka per kultūrinę patirtį Sūduvos, Baraginės, gudelių ir Naujienos kaimo bendruomenėse" | L20: 25156.22 | M20: EŽŪFKP | N20: Juridinis asmuo | O20: NVO | AD20: Vertinimas | AE20: 100 | AF20: 45978 | BG20: =IF($F20>0,YEAR($F20),) -> 2025 | BH20: =IF($AF20>0,YEAR($AF20),) -> 2025 | BI20: =IF($AH20>0,YEAR($AH20),) -> 0 | BJ20: =IF($AI20>0,YEAR($AI20),) -> 0 | BK20: =IF($AJ20>0,YEAR($AJ20),) -> 0 | BL20: =IF($AK20>0,$AK20,) -> 0 | BM20: =IF($AL20>0,$AL20,) -> 0 | BN20: =IF(BH20>0,"taip","ne") -> taip | BO20: =IF(BI20>0,"taip","ne") -> ne | BP20: =IF(BJ20>0,"taip","ne") -> ne | BQ20: =IF(BL20>0,"taip","ne") -> ne | BR20: =IF(BM20>0,"taip","ne") -> ne | BS20: =IF(BK20>0,"taip","ne") -> ne
B21: =VLOOKUP(E21,'VPS1'!$J$10:$J$29,1,FALSE) -> MARI-LEADER-20VVG-09-01 | C21: =LEFT(E21,4) -> MARI | D21: MARIJAMPOLĖS VIETOS VEIKLOS GRUPĖ, A | E21: MARI-LEADER-20VVG-09-01 | F21: 45961 | G21: Tursučių kaimo bendruomenė | H21: 302347974 | I21: MARI-LEADER-09-6-2 | J21: 20VS-PV-25-2-05356-PR001 | K21: "Pažink, kurk, stiprink bendruomenę" | L21: 25156.48 | M21: EŽŪFKP | N21: Juridinis asmuo | O21: NVO | AA21: taip | AD21: Vertinimas | AE21: 95 | AF21: 45978 | BG21: =IF($F21>0,YEAR($F21),) -> 2025 | BH21: =IF($AF21>0,YEAR($AF21),) -> 2025 | BI21: =IF($AH21>0,YEAR($AH21),) -> 0 | BJ21: =IF($AI21>0,YEAR($AI21),) -> 0 | BK21: =IF($AJ21>0,YEAR($AJ21),) -> 0 | BL21: =IF($AK21>0,$AK21,) -> 0 | BM21: =IF($AL21>0,$AL21,) -> 0 | BN21: =IF(BH21>0,"taip","ne") -> taip | BO21: =IF(BI21>0,"taip","ne") -> ne | BP21: =IF(BJ21>0,"taip","ne") -> ne | BQ21: =IF(BL21>0,"taip","ne") -> ne | BR21: =IF(BM21>0,"taip","ne") -> ne | BS21: =IF(BK21>0,"taip","ne") -> ne
B22: =VLOOKUP(E22,'VPS1'!$J$10:$J$29,1,FALSE) -> MARI-LEADER-20VVG-09-01 | C22: =LEFT(E22,4) -> MARI | D22: MARIJAMPOLĖS VIETOS VEIKLOS GRUPĖ, A | E22: MARI-LEADER-20VVG-09-01 | F22: 45961 | G22: Igliškėlių kaimo bendruomenė | H22: 301100533 | I22: MARI-LEADER-09-6-3 | J22: 20VS-PV-25-2-05384-PR001 | K22: "Bendruomeniškumo skatinimas Marijampolės savivaldybės Igliškėlių, Varnupių ir Meškučių kaimo bendruomenėse" | L22: 25114.32 | M22: EŽŪFKP | N22: Juridinis asmuo | O22: NVO | AD22: Vertinimas | AE22: 95 | AF22: 45978 | BG22: =IF($F22>0,YEAR($F22),) -> 2025 | BH22: =IF($AF22>0,YEAR($AF22),) -> 2025 | BI22: =IF($AH22>0,YEAR($AH22),) -> 0 | BJ22: =IF($AI22>0,YEAR($AI22),) -> 0 | BK22: =IF($AJ22>0,YEAR($AJ22),) -> 0 | BL22: =IF($AK22>0,$AK22,) -> 0 | BM22: =IF($AL22>0,$AL22,) -> 0 | BN22: =IF(BH22>0,"taip","ne") -> taip | BO22: =IF(BI22>0,"taip","ne") -> ne | BP22: =IF(BJ22>0,"taip","ne") -> ne | BQ22: =IF(BL22>0,"taip","ne") -> ne | BR22: =IF(BM22>0,"taip","ne") -> ne | BS22: =IF(BK22>0,"taip","ne") -> ne
B23: =VLOOKUP(E23,'VPS1'!$J$10:$J$29,1,FALSE) -> MARI-LEADER-20VVG-03-02 | C23: =LEFT(E23,4) -> MARI | D23: MARIJAMPOLĖS VIETOS VEIKLOS GRUPĖ, A | E23: MARI-LEADER-20VVG-03-02 | F23: 45443 | G23: MB Maceika | H23: 306721024 | I23: MARI-LEADER-03-1-1 | J23: 20VS-PV-24-2-05221-PR001 | K23: MB "Maceika" verslo pradžia kaime | L23: 58498.46 | M23: EŽŪFKP | N23: Juridinis asmuo | O23: MVĮ | AE23: 100 | AF23: 45469 | AG23: 0 | AH23: 45594 | BG23: =IF($F23>0,YEAR($F23),) -> 2024 | BH23: =IF($AF23>0,YEAR($AF23),) -> 2024 | BI23: =IF($AH23>0,YEAR($AH23),) -> 2024 | BJ23: =IF($AI23>0,YEAR($AI23),) -> 0 | BK23: =IF($AJ23>0,YEAR($AJ23),) -> 0 | BL23: =IF($AK23>0,$AK23,) -> 0 | BM23: =IF($AL23>0,$AL23,) -> 0 | BN23: =IF(BH23>0,"taip","ne") -> taip | BO23: =IF(BI23>0,"taip","ne") -> taip | BP23: =IF(BJ23>0,"taip","ne") -> ne | BQ23: =IF(BL23>0,"taip","ne") -> ne | BR23: =IF(BM23>0,"taip","ne") -> ne | BS23: =IF(BK23>0,"taip","ne") -> ne
B24: =VLOOKUP(E24,'VPS1'!$J$10:$J$29,1,FALSE) -> #N/A | C24: =LEFT(E24,4) | P24: =IF($N24="fizinis asmuo","užpildykite","nepildyti") -> nepildyti | Q24: =IF($N24="fizinis asmuo","užpildykite","nepildyti") -> nepildyti | BG24: =IF($F24>0,YEAR($F24),) -> 0 | BH24: =IF($AF24>0,YEAR($AF24),) -> 0 | BI24: =IF($AH24>0,YEAR($AH24),) -> 0 | BJ24: =IF($AI24>0,YEAR($AI24),) -> 0 | BK24: =IF($AJ24>0,YEAR($AJ24),) -> 0 | BL24: =IF($AK24>0,$AK24,) -> 0 | BM24: =IF($AL24>0,$AL24,) -> 0 | BN24: =IF(BH24>0,"taip","ne") -> ne | BO24: =IF(BI24>0,"taip","ne") -> ne | BP24: =IF(BJ24>0,"taip","ne") -> ne | BQ24: =IF(BL24>0,"taip","ne") -> ne | BR24: =IF(BM24>0,"taip","ne") -> ne | BS24: =IF(BK24>0,"taip","ne") -> ne
B25: =VLOOKUP(E25,'VPS1'!$J$10:$J$29,1,FALSE) -> #N/A | C25: =LEFT(E25,4) | P25: =IF($N25="fizinis asmuo","užpildykite","nepildyti") -> nepildyti | Q25: =IF($N25="fizinis asmuo","užpildykite","nepildyti") -> nepildyti | BG25: =IF($F25>0,YEAR($F25),) -> 0 | BH25: =IF($AF25>0,YEAR($AF25),) -> 0 | BI25: =IF($AH25>0,YEAR($AH25),) -> 0 | BJ25: =IF($AI25>0,YEAR($AI25),) -> 0 | BK25: =IF($AJ25>0,YEAR($AJ25),) -> 0 | BL25: =IF($AK25>0,$AK25,) -> 0 | BM25: =IF($AL25>0,$AL25,) -> 0 | BN25: =IF(BH25>0,"taip","ne") -> ne | BO25: =IF(BI25>0,"taip","ne") -> ne | BP25: =IF(BJ25>0,"taip","ne") -> ne | BQ25: =IF(BL25>0,"taip","ne") -> ne | BR25: =IF(BM25>0,"taip","ne") -> ne | BS25: =IF(BK25>0,"taip","ne") -> ne
B26: =VLOOKUP(E26,'VPS1'!$J$10:$J$29,1,FALSE) -> #N/A | C26: =LEFT(E26,4) | P26: =IF($N26="fizinis asmuo","užpildykite","nepildyti") -> nepildyti | Q26: =IF($N26="fizinis asmuo","užpildykite","nepildyti") -> nepildyti | BG26: =IF($F26>0,YEAR($F26),) -> 0 | BH26: =IF($AF26>0,YEAR($AF26),) -> 0 | BI26: =IF($AH26>0,YEAR($AH26),) -> 0 | BJ26: =IF($AI26>0,YEAR($AI26),) -> 0 | BK26: =IF($AJ26>0,YEAR($AJ26),) -> 0 | BL26: =IF($AK26>0,$AK26,) -> 0 | BM26: =IF($AL26>0,$AL26,) -> 0 | BN26: =IF(BH26>0,"taip","ne") -> ne | BO26: =IF(BI26>0,"taip","ne") -> ne | BP26: =IF(BJ26>0,"taip","ne") -> ne | BQ26: =IF(BL26>0,"taip","ne") -> ne | BR26: =IF(BM26>0,"taip","ne") -> ne | BS26: =IF(BK26>0,"taip","ne") -> ne
B27: =VLOOKUP(E27,'VPS1'!$J$10:$J$29,1,FALSE) -> #N/A | C27: =LEFT(E27,4) | P27: =IF($N27="fizinis asmuo","užpildykite","nepildyti") -> nepildyti | Q27: =IF($N27="fizinis asmuo","užpildykite","nepildyti") -> nepildyti | BG27: =IF($F27>0,YEAR($F27),) -> 0 | BH27: =IF($AF27>0,YEAR($AF27),) -> 0 | BI27: =IF($AH27>0,YEAR($AH27),) -> 0 | BJ27: =IF($AI27>0,YEAR($AI27),) -> 0 | BK27: =IF($AJ27>0,YEAR($AJ27),) -> 0 | BL27: =IF($AK27>0,$AK27,) -> 0 | BM27: =IF($AL27>0,$AL27,) -> 0 | BN27: =IF(BH27>0,"taip","ne") -> ne | BO27: =IF(BI27>0,"taip","ne") -> ne | BP27: =IF(BJ27>0,"taip","ne") -> ne | BQ27: =IF(BL27>0,"taip","ne") -> ne | BR27: =IF(BM27>0,"taip","ne") -> ne | BS27: =IF(BK27>0,"taip","ne") -> ne
B28: =VLOOKUP(E28,'VPS1'!$J$10:$J$29,1,FALSE) -> #N/A | C28: =LEFT(E28,4) | P28: =IF($N28="fizinis asmuo","užpildykite","nepildyti") -> nepildyti | Q28: =IF($N28="fizinis asmuo","užpildykite","nepildyti") -> nepildyti | BG28: =IF($F28>0,YEAR($F28),) -> 0 | BH28: =IF($AF28>0,YEAR($AF28),) -> 0 | BI28: =IF($AH28>0,YEAR($AH28),) -> 0 | BJ28: =IF($AI28>0,YEAR($AI28),) -> 0 | BK28: =IF($AJ28>0,YEAR($AJ28),) -> 0 | BL28: =IF($AK28>0,$AK28,) -> 0 | BM28: =IF($AL28>0,$AL28,) -> 0 | BN28: =IF(BH28>0,"taip","ne") -> ne | BO28: =IF(BI28>0,"taip","ne") -> ne | BP28: =IF(BJ28>0,"taip","ne") -> ne | BQ28: =IF(BL28>0,"taip","ne") -> ne | BR28: =IF(BM28>0,"taip","ne") -> ne | BS28: =IF(BK28>0,"taip","ne") -> ne
